BEGIN:VCALENDAR
VERSION:2.0
PRODID:https://www.kufer.de/kuferweb / DE
METHOD:PUBLISH
CALSCALE:GREGORIAN
X-WR-TIMEZONE:Europe/Berlin
BEGIN:VTIMEZONE
TZID:Europe/Berlin
X-LIC-LOCATION:Europe/Berlin
BEGIN:DAYLIGHT
TZOFFSETFROM:+0100
TZOFFSETTO:+0200
TZNAME:CEST
DTSTART:19700329T020000
RRULE:FREQ=YEARLY;INTERVAL=1;BYDAY=-1SU;BYMONTH=3
END:DAYLIGHT
BEGIN:STANDARD
TZOFFSETFROM:+0200
TZOFFSETTO:+0100
TZNAME:CET
DTSTART:19701025T030000
RRULE:FREQ=YEARLY;INTERVAL=1;BYDAY=-1SU;BYMONTH=10
END:STANDARD
END:VTIMEZONE
BEGIN:VEVENT
DTSTAMP:20260424T202522
DTSTART;TZID=Europe/Berlin:20260901T183000
DTEND;TZID=Europe/Berlin:20260901T193000
UID:26-A50022-20260901T183000@BFODÜREN
DESCRIPTION:Ersatztermin für den 01.12.2026
SUMMARY:Gymnastik für Frauen; Fit und gesund bis 100 (26-A50022) 
LOCATION:Hellenthal, Pavillon, Aachener Straße 12, Aachener Straße 12, 53940 Hellenthal
END:VEVENT
BEGIN:VEVENT
DTSTAMP:20260424T202522
DTSTART;TZID=Europe/Berlin:20260908T183000
DTEND;TZID=Europe/Berlin:20260908T193000
UID:26-A50022-20260908T183000@BFODÜREN
SUMMARY:Gymnastik für Frauen; Fit und gesund bis 100 (26-A50022) 
LOCATION:Hellenthal, Pavillon, Aachener Straße 12, Aachener Straße 12, 53940 Hellenthal
END:VEVENT
BEGIN:VEVENT
DTSTAMP:20260424T202522
DTSTART;TZID=Europe/Berlin:20260915T183000
DTEND;TZID=Europe/Berlin:20260915T193000
UID:26-A50022-20260915T183000@BFODÜREN
SUMMARY:Gymnastik für Frauen; Fit und gesund bis 100 (26-A50022) 
LOCATION:Hellenthal, Pavillon, Aachener Straße 12, Aachener Straße 12, 53940 Hellenthal
END:VEVENT
BEGIN:VEVENT
DTSTAMP:20260424T202522
DTSTART;TZID=Europe/Berlin:20260922T183000
DTEND;TZID=Europe/Berlin:20260922T193000
UID:26-A50022-20260922T183000@BFODÜREN
SUMMARY:Gymnastik für Frauen; Fit und gesund bis 100 (26-A50022) 
LOCATION:Hellenthal, Pavillon, Aachener Straße 12, Aachener Straße 12, 53940 Hellenthal
END:VEVENT
BEGIN:VEVENT
DTSTAMP:20260424T202522
DTSTART;TZID=Europe/Berlin:20260929T183000
DTEND;TZID=Europe/Berlin:20260929T193000
UID:26-A50022-20260929T183000@BFODÜREN
SUMMARY:Gymnastik für Frauen; Fit und gesund bis 100 (26-A50022) 
LOCATION:Hellenthal, Pavillon, Aachener Straße 12, Aachener Straße 12, 53940 Hellenthal
END:VEVENT
BEGIN:VEVENT
DTSTAMP:20260424T202522
DTSTART;TZID=Europe/Berlin:20261006T183000
DTEND;TZID=Europe/Berlin:20261006T193000
UID:26-A50022-20261006T183000@BFODÜREN
SUMMARY:Gymnastik für Frauen; Fit und gesund bis 100 (26-A50022) 
LOCATION:Hellenthal, Pavillon, Aachener Straße 12, Aachener Straße 12, 53940 Hellenthal
END:VEVENT
BEGIN:VEVENT
DTSTAMP:20260424T202522
DTSTART;TZID=Europe/Berlin:20261013T183000
DTEND;TZID=Europe/Berlin:20261013T193000
UID:26-A50022-20261013T183000@BFODÜREN
SUMMARY:Gymnastik für Frauen; Fit und gesund bis 100 (26-A50022) 
LOCATION:Hellenthal, Pavillon, Aachener Straße 12, Aachener Straße 12, 53940 Hellenthal
END:VEVENT
BEGIN:VEVENT
DTSTAMP:20260424T202522
DTSTART;TZID=Europe/Berlin:20261020T183000
DTEND;TZID=Europe/Berlin:20261020T193000
UID:26-A50022-20261020T183000@BFODÜREN
DESCRIPTION:Ersatztermin 08.12.2026
SUMMARY:Gymnastik für Frauen; Fit und gesund bis 100 (26-A50022) 
LOCATION:Hellenthal, Pavillon, Aachener Straße 12, Aachener Straße 12, 53940 Hellenthal
END:VEVENT
BEGIN:VEVENT
DTSTAMP:20260424T202522
DTSTART;TZID=Europe/Berlin:20261027T183000
DTEND;TZID=Europe/Berlin:20261027T193000
UID:26-A50022-20261027T183000@BFODÜREN
DESCRIPTION:Ersatztermin 15.12.2026
SUMMARY:Gymnastik für Frauen; Fit und gesund bis 100 (26-A50022) 
LOCATION:Hellenthal, Pavillon, Aachener Straße 12, Aachener Straße 12, 53940 Hellenthal
END:VEVENT
BEGIN:VEVENT
DTSTAMP:20260424T202522
DTSTART;TZID=Europe/Berlin:20261103T183000
DTEND;TZID=Europe/Berlin:20261103T193000
UID:26-A50022-20261103T183000@BFODÜREN
SUMMARY:Gymnastik für Frauen; Fit und gesund bis 100 (26-A50022) 
LOCATION:Hellenthal, Pavillon, Aachener Straße 12, Aachener Straße 12, 53940 Hellenthal
END:VEVENT
BEGIN:VEVENT
DTSTAMP:20260424T202522
DTSTART;TZID=Europe/Berlin:20261110T183000
DTEND;TZID=Europe/Berlin:20261110T193000
UID:26-A50022-20261110T183000@BFODÜREN
SUMMARY:Gymnastik für Frauen; Fit und gesund bis 100 (26-A50022) 
LOCATION:Hellenthal, Pavillon, Aachener Straße 12, Aachener Straße 12, 53940 Hellenthal
END:VEVENT
BEGIN:VEVENT
DTSTAMP:20260424T202522
DTSTART;TZID=Europe/Berlin:20261117T183000
DTEND;TZID=Europe/Berlin:20261117T193000
UID:26-A50022-20261117T183000@BFODÜREN
SUMMARY:Gymnastik für Frauen; Fit und gesund bis 100 (26-A50022) 
LOCATION:Hellenthal, Pavillon, Aachener Straße 12, Aachener Straße 12, 53940 Hellenthal
END:VEVENT
BEGIN:VEVENT
DTSTAMP:20260424T202522
DTSTART;TZID=Europe/Berlin:20261124T183000
DTEND;TZID=Europe/Berlin:20261124T193000
UID:26-A50022-20261124T183000@BFODÜREN
SUMMARY:Gymnastik für Frauen; Fit und gesund bis 100 (26-A50022) 
LOCATION:Hellenthal, Pavillon, Aachener Straße 12, Aachener Straße 12, 53940 Hellenthal
END:VEVENT
END:VCALENDAR