BEGIN:VCALENDAR
VERSION:2.0
PRODID:https://www.kufer.de/kuferweb / DE
METHOD:PUBLISH
CALSCALE:GREGORIAN
X-WR-TIMEZONE:Europe/Berlin
BEGIN:VTIMEZONE
TZID:Europe/Berlin
X-LIC-LOCATION:Europe/Berlin
BEGIN:DAYLIGHT
TZOFFSETFROM:+0100
TZOFFSETTO:+0200
TZNAME:CEST
DTSTART:19700329T020000
RRULE:FREQ=YEARLY;INTERVAL=1;BYDAY=-1SU;BYMONTH=3
END:DAYLIGHT
BEGIN:STANDARD
TZOFFSETFROM:+0200
TZOFFSETTO:+0100
TZNAME:CET
DTSTART:19701025T030000
RRULE:FREQ=YEARLY;INTERVAL=1;BYDAY=-1SU;BYMONTH=10
END:STANDARD
END:VTIMEZONE
BEGIN:VEVENT
DTSTAMP:20260424T190321
DTSTART;TZID=Europe/Berlin:20260113T084500
DTEND;TZID=Europe/Berlin:20260113T094500
UID:26-A50031-20260113T084500@BFODÜREN
SUMMARY:Gymnastik & Entspannung  Vielseitige Gymnastik für Frauen und Männer (26-A50031) 
LOCATION:Kath. Pfarrheim Kall, Aachener Straße 17, 53925 Kall
END:VEVENT
BEGIN:VEVENT
DTSTAMP:20260424T190321
DTSTART;TZID=Europe/Berlin:20260120T084500
DTEND;TZID=Europe/Berlin:20260120T094500
UID:26-A50031-20260120T084500@BFODÜREN
SUMMARY:Gymnastik & Entspannung  Vielseitige Gymnastik für Frauen und Männer (26-A50031) 
LOCATION:Kath. Pfarrheim Kall, Aachener Straße 17, 53925 Kall
END:VEVENT
BEGIN:VEVENT
DTSTAMP:20260424T190321
DTSTART;TZID=Europe/Berlin:20260127T084500
DTEND;TZID=Europe/Berlin:20260127T094500
UID:26-A50031-20260127T084500@BFODÜREN
SUMMARY:Gymnastik & Entspannung  Vielseitige Gymnastik für Frauen und Männer (26-A50031) 
LOCATION:Kath. Pfarrheim Kall, Aachener Straße 17, 53925 Kall
END:VEVENT
BEGIN:VEVENT
DTSTAMP:20260424T190321
DTSTART;TZID=Europe/Berlin:20260203T084500
DTEND;TZID=Europe/Berlin:20260203T094500
UID:26-A50031-20260203T084500@BFODÜREN
SUMMARY:Gymnastik & Entspannung  Vielseitige Gymnastik für Frauen und Männer (26-A50031) 
LOCATION:Kath. Pfarrheim Kall, Aachener Straße 17, 53925 Kall
END:VEVENT
BEGIN:VEVENT
DTSTAMP:20260424T190321
DTSTART;TZID=Europe/Berlin:20260210T084500
DTEND;TZID=Europe/Berlin:20260210T094500
UID:26-A50031-20260210T084500@BFODÜREN
SUMMARY:Gymnastik & Entspannung  Vielseitige Gymnastik für Frauen und Männer (26-A50031) 
LOCATION:Kath. Pfarrheim Kall, Aachener Straße 17, 53925 Kall
END:VEVENT
BEGIN:VEVENT
DTSTAMP:20260424T190321
DTSTART;TZID=Europe/Berlin:20260303T084500
DTEND;TZID=Europe/Berlin:20260303T094500
UID:26-A50031-20260303T084500@BFODÜREN
SUMMARY:Gymnastik & Entspannung  Vielseitige Gymnastik für Frauen und Männer (26-A50031) 
LOCATION:Kath. Pfarrheim Kall, Aachener Straße 17, 53925 Kall
END:VEVENT
BEGIN:VEVENT
DTSTAMP:20260424T190321
DTSTART;TZID=Europe/Berlin:20260310T084500
DTEND;TZID=Europe/Berlin:20260310T094500
UID:26-A50031-20260310T084500@BFODÜREN
SUMMARY:Gymnastik & Entspannung  Vielseitige Gymnastik für Frauen und Männer (26-A50031) 
LOCATION:Kath. Pfarrheim Kall, Aachener Straße 17, 53925 Kall
END:VEVENT
BEGIN:VEVENT
DTSTAMP:20260424T190321
DTSTART;TZID=Europe/Berlin:20260317T084500
DTEND;TZID=Europe/Berlin:20260317T094500
UID:26-A50031-20260317T084500@BFODÜREN
SUMMARY:Gymnastik & Entspannung  Vielseitige Gymnastik für Frauen und Männer (26-A50031) 
LOCATION:Kath. Pfarrheim Kall, Aachener Straße 17, 53925 Kall
END:VEVENT
BEGIN:VEVENT
DTSTAMP:20260424T190321
DTSTART;TZID=Europe/Berlin:20260324T084500
DTEND;TZID=Europe/Berlin:20260324T094500
UID:26-A50031-20260324T084500@BFODÜREN
SUMMARY:Gymnastik & Entspannung  Vielseitige Gymnastik für Frauen und Männer (26-A50031) 
LOCATION:Kath. Pfarrheim Kall, Aachener Straße 17, 53925 Kall
END:VEVENT
BEGIN:VEVENT
DTSTAMP:20260424T190321
DTSTART;TZID=Europe/Berlin:20260414T084500
DTEND;TZID=Europe/Berlin:20260414T094500
UID:26-A50031-20260414T084500@BFODÜREN
SUMMARY:Gymnastik & Entspannung  Vielseitige Gymnastik für Frauen und Männer (26-A50031) 
LOCATION:Kath. Pfarrheim Kall, Aachener Straße 17, 53925 Kall
END:VEVENT
BEGIN:VEVENT
DTSTAMP:20260424T190321
DTSTART;TZID=Europe/Berlin:20260428T084500
DTEND;TZID=Europe/Berlin:20260428T094500
UID:26-A50031-20260428T084500@BFODÜREN
SUMMARY:Gymnastik & Entspannung  Vielseitige Gymnastik für Frauen und Männer (26-A50031) 
LOCATION:Kath. Pfarrheim Kall, Aachener Straße 17, 53925 Kall
END:VEVENT
BEGIN:VEVENT
DTSTAMP:20260424T190321
DTSTART;TZID=Europe/Berlin:20260505T084500
DTEND;TZID=Europe/Berlin:20260505T094500
UID:26-A50031-20260505T084500@BFODÜREN
SUMMARY:Gymnastik & Entspannung  Vielseitige Gymnastik für Frauen und Männer (26-A50031) 
LOCATION:Kath. Pfarrheim Kall, Aachener Straße 17, 53925 Kall
END:VEVENT
BEGIN:VEVENT
DTSTAMP:20260424T190321
DTSTART;TZID=Europe/Berlin:20260512T084500
DTEND;TZID=Europe/Berlin:20260512T094500
UID:26-A50031-20260512T084500@BFODÜREN
SUMMARY:Gymnastik & Entspannung  Vielseitige Gymnastik für Frauen und Männer (26-A50031) 
LOCATION:Kath. Pfarrheim Kall, Aachener Straße 17, 53925 Kall
END:VEVENT
BEGIN:VEVENT
DTSTAMP:20260424T190321
DTSTART;TZID=Europe/Berlin:20260519T084500
DTEND;TZID=Europe/Berlin:20260519T094500
UID:26-A50031-20260519T084500@BFODÜREN
SUMMARY:Gymnastik & Entspannung  Vielseitige Gymnastik für Frauen und Männer (26-A50031) 
LOCATION:Kath. Pfarrheim Kall, Aachener Straße 17, 53925 Kall
END:VEVENT
BEGIN:VEVENT
DTSTAMP:20260424T190321
DTSTART;TZID=Europe/Berlin:20260602T084500
DTEND;TZID=Europe/Berlin:20260602T094500
UID:26-A50031-20260602T084500@BFODÜREN
SUMMARY:Gymnastik & Entspannung  Vielseitige Gymnastik für Frauen und Männer (26-A50031) 
LOCATION:Kath. Pfarrheim Kall, Aachener Straße 17, 53925 Kall
END:VEVENT
BEGIN:VEVENT
DTSTAMP:20260424T190321
DTSTART;TZID=Europe/Berlin:20260609T084500
DTEND;TZID=Europe/Berlin:20260609T094500
UID:26-A50031-20260609T084500@BFODÜREN
SUMMARY:Gymnastik & Entspannung  Vielseitige Gymnastik für Frauen und Männer (26-A50031) 
LOCATION:Kath. Pfarrheim Kall, Aachener Straße 17, 53925 Kall
END:VEVENT
BEGIN:VEVENT
DTSTAMP:20260424T190321
DTSTART;TZID=Europe/Berlin:20260616T084500
DTEND;TZID=Europe/Berlin:20260616T094500
UID:26-A50031-20260616T084500@BFODÜREN
SUMMARY:Gymnastik & Entspannung  Vielseitige Gymnastik für Frauen und Männer (26-A50031) 
LOCATION:Kath. Pfarrheim Kall, Aachener Straße 17, 53925 Kall
END:VEVENT
BEGIN:VEVENT
DTSTAMP:20260424T190321
DTSTART;TZID=Europe/Berlin:20260623T084500
DTEND;TZID=Europe/Berlin:20260623T094500
UID:26-A50031-20260623T084500@BFODÜREN
SUMMARY:Gymnastik & Entspannung  Vielseitige Gymnastik für Frauen und Männer (26-A50031) 
LOCATION:Kath. Pfarrheim Kall, Aachener Straße 17, 53925 Kall
END:VEVENT
BEGIN:VEVENT
DTSTAMP:20260424T190321
DTSTART;TZID=Europe/Berlin:20260630T084500
DTEND;TZID=Europe/Berlin:20260630T094500
UID:26-A50031-20260630T084500@BFODÜREN
SUMMARY:Gymnastik & Entspannung  Vielseitige Gymnastik für Frauen und Männer (26-A50031) 
LOCATION:Kath. Pfarrheim Kall, Aachener Straße 17, 53925 Kall
END:VEVENT
BEGIN:VEVENT
DTSTAMP:20260424T190321
DTSTART;TZID=Europe/Berlin:20260707T084500
DTEND;TZID=Europe/Berlin:20260707T094500
UID:26-A50031-20260707T084500@BFODÜREN
SUMMARY:Gymnastik & Entspannung  Vielseitige Gymnastik für Frauen und Männer (26-A50031) 
LOCATION:Kath. Pfarrheim Kall, Aachener Straße 17, 53925 Kall
END:VEVENT
END:VCALENDAR