BEGIN:VCALENDAR
VERSION:2.0
PRODID:https://www.kufer.de/kuferweb / DE
METHOD:PUBLISH
CALSCALE:GREGORIAN
X-WR-TIMEZONE:Europe/Berlin
BEGIN:VTIMEZONE
TZID:Europe/Berlin
X-LIC-LOCATION:Europe/Berlin
BEGIN:DAYLIGHT
TZOFFSETFROM:+0100
TZOFFSETTO:+0200
TZNAME:CEST
DTSTART:19700329T020000
RRULE:FREQ=YEARLY;INTERVAL=1;BYDAY=-1SU;BYMONTH=3
END:DAYLIGHT
BEGIN:STANDARD
TZOFFSETFROM:+0200
TZOFFSETTO:+0100
TZNAME:CET
DTSTART:19701025T030000
RRULE:FREQ=YEARLY;INTERVAL=1;BYDAY=-1SU;BYMONTH=10
END:STANDARD
END:VTIMEZONE
BEGIN:VEVENT
DTSTAMP:20260420T180550
DTSTART;TZID=Europe/Berlin:20260121T180000
DTEND;TZID=Europe/Berlin:20260121T184500
UID:26-A50041-20260121T180000@BFODÜREN
SUMMARY:Gymnastik nach Callenetics (26-A50041) 
LOCATION:Jugendheim Herhahn, Weinhardtstraße 3, 53937 Schleiden-Herhahn
END:VEVENT
BEGIN:VEVENT
DTSTAMP:20260420T180550
DTSTART;TZID=Europe/Berlin:20260128T180000
DTEND;TZID=Europe/Berlin:20260128T184500
UID:26-A50041-20260128T180000@BFODÜREN
SUMMARY:Gymnastik nach Callenetics (26-A50041) 
LOCATION:Jugendheim Herhahn, Weinhardtstraße 3, 53937 Schleiden-Herhahn
END:VEVENT
BEGIN:VEVENT
DTSTAMP:20260420T180550
DTSTART;TZID=Europe/Berlin:20260204T180000
DTEND;TZID=Europe/Berlin:20260204T184500
UID:26-A50041-20260204T180000@BFODÜREN
SUMMARY:Gymnastik nach Callenetics (26-A50041) 
LOCATION:Jugendheim Herhahn, Weinhardtstraße 3, 53937 Schleiden-Herhahn
END:VEVENT
BEGIN:VEVENT
DTSTAMP:20260420T180550
DTSTART;TZID=Europe/Berlin:20260218T180000
DTEND;TZID=Europe/Berlin:20260218T184500
UID:26-A50041-20260218T180000@BFODÜREN
SUMMARY:Gymnastik nach Callenetics (26-A50041) 
LOCATION:Jugendheim Herhahn, Weinhardtstraße 3, 53937 Schleiden-Herhahn
END:VEVENT
BEGIN:VEVENT
DTSTAMP:20260420T180550
DTSTART;TZID=Europe/Berlin:20260225T180000
DTEND;TZID=Europe/Berlin:20260225T184500
UID:26-A50041-20260225T180000@BFODÜREN
SUMMARY:Gymnastik nach Callenetics (26-A50041) 
LOCATION:Jugendheim Herhahn, Weinhardtstraße 3, 53937 Schleiden-Herhahn
END:VEVENT
BEGIN:VEVENT
DTSTAMP:20260420T180550
DTSTART;TZID=Europe/Berlin:20260304T180000
DTEND;TZID=Europe/Berlin:20260304T184500
UID:26-A50041-20260304T180000@BFODÜREN
SUMMARY:Gymnastik nach Callenetics (26-A50041) 
LOCATION:Jugendheim Herhahn, Weinhardtstraße 3, 53937 Schleiden-Herhahn
END:VEVENT
BEGIN:VEVENT
DTSTAMP:20260420T180550
DTSTART;TZID=Europe/Berlin:20260318T180000
DTEND;TZID=Europe/Berlin:20260318T184500
UID:26-A50041-20260318T180000@BFODÜREN
SUMMARY:Gymnastik nach Callenetics (26-A50041) 
LOCATION:Jugendheim Herhahn, Weinhardtstraße 3, 53937 Schleiden-Herhahn
END:VEVENT
BEGIN:VEVENT
DTSTAMP:20260420T180550
DTSTART;TZID=Europe/Berlin:20260415T180000
DTEND;TZID=Europe/Berlin:20260415T184500
UID:26-A50041-20260415T180000@BFODÜREN
SUMMARY:Gymnastik nach Callenetics (26-A50041) 
LOCATION:Jugendheim Herhahn, Weinhardtstraße 3, 53937 Schleiden-Herhahn
END:VEVENT
BEGIN:VEVENT
DTSTAMP:20260420T180550
DTSTART;TZID=Europe/Berlin:20260422T180000
DTEND;TZID=Europe/Berlin:20260422T184500
UID:26-A50041-20260422T180000@BFODÜREN
SUMMARY:Gymnastik nach Callenetics (26-A50041) 
LOCATION:Jugendheim Herhahn, Weinhardtstraße 3, 53937 Schleiden-Herhahn
END:VEVENT
BEGIN:VEVENT
DTSTAMP:20260420T180550
DTSTART;TZID=Europe/Berlin:20260429T180000
DTEND;TZID=Europe/Berlin:20260429T184500
UID:26-A50041-20260429T180000@BFODÜREN
SUMMARY:Gymnastik nach Callenetics (26-A50041) 
LOCATION:Jugendheim Herhahn, Weinhardtstraße 3, 53937 Schleiden-Herhahn
END:VEVENT
BEGIN:VEVENT
DTSTAMP:20260420T180550
DTSTART;TZID=Europe/Berlin:20260506T180000
DTEND;TZID=Europe/Berlin:20260506T184500
UID:26-A50041-20260506T180000@BFODÜREN
SUMMARY:Gymnastik nach Callenetics (26-A50041) 
LOCATION:Jugendheim Herhahn, Weinhardtstraße 3, 53937 Schleiden-Herhahn
END:VEVENT
BEGIN:VEVENT
DTSTAMP:20260420T180550
DTSTART;TZID=Europe/Berlin:20260520T180000
DTEND;TZID=Europe/Berlin:20260520T184500
UID:26-A50041-20260520T180000@BFODÜREN
SUMMARY:Gymnastik nach Callenetics (26-A50041) 
LOCATION:Jugendheim Herhahn, Weinhardtstraße 3, 53937 Schleiden-Herhahn
END:VEVENT
BEGIN:VEVENT
DTSTAMP:20260420T180550
DTSTART;TZID=Europe/Berlin:20260527T180000
DTEND;TZID=Europe/Berlin:20260527T184500
UID:26-A50041-20260527T180000@BFODÜREN
SUMMARY:Gymnastik nach Callenetics (26-A50041) 
LOCATION:Jugendheim Herhahn, Weinhardtstraße 3, 53937 Schleiden-Herhahn
END:VEVENT
BEGIN:VEVENT
DTSTAMP:20260420T180550
DTSTART;TZID=Europe/Berlin:20260610T180000
DTEND;TZID=Europe/Berlin:20260610T184500
UID:26-A50041-20260610T180000@BFODÜREN
SUMMARY:Gymnastik nach Callenetics (26-A50041) 
LOCATION:Jugendheim Herhahn, Weinhardtstraße 3, 53937 Schleiden-Herhahn
END:VEVENT
BEGIN:VEVENT
DTSTAMP:20260420T180550
DTSTART;TZID=Europe/Berlin:20260617T180000
DTEND;TZID=Europe/Berlin:20260617T184500
UID:26-A50041-20260617T180000@BFODÜREN
SUMMARY:Gymnastik nach Callenetics (26-A50041) 
LOCATION:Jugendheim Herhahn, Weinhardtstraße 3, 53937 Schleiden-Herhahn
END:VEVENT
BEGIN:VEVENT
DTSTAMP:20260420T180550
DTSTART;TZID=Europe/Berlin:20260624T180000
DTEND;TZID=Europe/Berlin:20260624T184500
UID:26-A50041-20260624T180000@BFODÜREN
SUMMARY:Gymnastik nach Callenetics (26-A50041) 
LOCATION:Jugendheim Herhahn, Weinhardtstraße 3, 53937 Schleiden-Herhahn
END:VEVENT
BEGIN:VEVENT
DTSTAMP:20260420T180550
DTSTART;TZID=Europe/Berlin:20260701T180000
DTEND;TZID=Europe/Berlin:20260701T184500
UID:26-A50041-20260701T180000@BFODÜREN
SUMMARY:Gymnastik nach Callenetics (26-A50041) 
LOCATION:Jugendheim Herhahn, Weinhardtstraße 3, 53937 Schleiden-Herhahn
END:VEVENT
BEGIN:VEVENT
DTSTAMP:20260420T180550
DTSTART;TZID=Europe/Berlin:20260708T180000
DTEND;TZID=Europe/Berlin:20260708T184500
UID:26-A50041-20260708T180000@BFODÜREN
SUMMARY:Gymnastik nach Callenetics (26-A50041) 
LOCATION:Jugendheim Herhahn, Weinhardtstraße 3, 53937 Schleiden-Herhahn
END:VEVENT
END:VCALENDAR