BEGIN:VCALENDAR
VERSION:2.0
PRODID:https://www.kufer.de/kuferweb / DE
METHOD:PUBLISH
CALSCALE:GREGORIAN
X-WR-TIMEZONE:Europe/Berlin
BEGIN:VTIMEZONE
TZID:Europe/Berlin
X-LIC-LOCATION:Europe/Berlin
BEGIN:DAYLIGHT
TZOFFSETFROM:+0100
TZOFFSETTO:+0200
TZNAME:CEST
DTSTART:19700329T020000
RRULE:FREQ=YEARLY;INTERVAL=1;BYDAY=-1SU;BYMONTH=3
END:DAYLIGHT
BEGIN:STANDARD
TZOFFSETFROM:+0200
TZOFFSETTO:+0100
TZNAME:CET
DTSTART:19701025T030000
RRULE:FREQ=YEARLY;INTERVAL=1;BYDAY=-1SU;BYMONTH=10
END:STANDARD
END:VTIMEZONE
BEGIN:VEVENT
DTSTAMP:20260425T013903
DTSTART;TZID=Europe/Berlin:20260909T180000
DTEND;TZID=Europe/Berlin:20260909T184500
UID:26-A50042-20260909T180000@BFODÜREN
SUMMARY:Gymnastik nach Callenetics (26-A50042) 
LOCATION:Jugendheim Herhahn, Weinhardtstraße 3, 53937 Schleiden-Herhahn
END:VEVENT
BEGIN:VEVENT
DTSTAMP:20260425T013903
DTSTART;TZID=Europe/Berlin:20260916T180000
DTEND;TZID=Europe/Berlin:20260916T184500
UID:26-A50042-20260916T180000@BFODÜREN
SUMMARY:Gymnastik nach Callenetics (26-A50042) 
LOCATION:Jugendheim Herhahn, Weinhardtstraße 3, 53937 Schleiden-Herhahn
END:VEVENT
BEGIN:VEVENT
DTSTAMP:20260425T013903
DTSTART;TZID=Europe/Berlin:20260923T180000
DTEND;TZID=Europe/Berlin:20260923T184500
UID:26-A50042-20260923T180000@BFODÜREN
SUMMARY:Gymnastik nach Callenetics (26-A50042) 
LOCATION:Jugendheim Herhahn, Weinhardtstraße 3, 53937 Schleiden-Herhahn
END:VEVENT
BEGIN:VEVENT
DTSTAMP:20260425T013903
DTSTART;TZID=Europe/Berlin:20261104T180000
DTEND;TZID=Europe/Berlin:20261104T184500
UID:26-A50042-20261104T180000@BFODÜREN
SUMMARY:Gymnastik nach Callenetics (26-A50042) 
LOCATION:Jugendheim Herhahn, Weinhardtstraße 3, 53937 Schleiden-Herhahn
END:VEVENT
BEGIN:VEVENT
DTSTAMP:20260425T013903
DTSTART;TZID=Europe/Berlin:20261111T180000
DTEND;TZID=Europe/Berlin:20261111T184500
UID:26-A50042-20261111T180000@BFODÜREN
SUMMARY:Gymnastik nach Callenetics (26-A50042) 
LOCATION:Jugendheim Herhahn, Weinhardtstraße 3, 53937 Schleiden-Herhahn
END:VEVENT
BEGIN:VEVENT
DTSTAMP:20260425T013903
DTSTART;TZID=Europe/Berlin:20261118T180000
DTEND;TZID=Europe/Berlin:20261118T184500
UID:26-A50042-20261118T180000@BFODÜREN
SUMMARY:Gymnastik nach Callenetics (26-A50042) 
LOCATION:Jugendheim Herhahn, Weinhardtstraße 3, 53937 Schleiden-Herhahn
END:VEVENT
BEGIN:VEVENT
DTSTAMP:20260425T013903
DTSTART;TZID=Europe/Berlin:20261125T180000
DTEND;TZID=Europe/Berlin:20261125T184500
UID:26-A50042-20261125T180000@BFODÜREN
SUMMARY:Gymnastik nach Callenetics (26-A50042) 
LOCATION:Jugendheim Herhahn, Weinhardtstraße 3, 53937 Schleiden-Herhahn
END:VEVENT
BEGIN:VEVENT
DTSTAMP:20260425T013903
DTSTART;TZID=Europe/Berlin:20261202T180000
DTEND;TZID=Europe/Berlin:20261202T184500
UID:26-A50042-20261202T180000@BFODÜREN
SUMMARY:Gymnastik nach Callenetics (26-A50042) 
LOCATION:Jugendheim Herhahn, Weinhardtstraße 3, 53937 Schleiden-Herhahn
END:VEVENT
BEGIN:VEVENT
DTSTAMP:20260425T013903
DTSTART;TZID=Europe/Berlin:20261209T180000
DTEND;TZID=Europe/Berlin:20261209T184500
UID:26-A50042-20261209T180000@BFODÜREN
SUMMARY:Gymnastik nach Callenetics (26-A50042) 
LOCATION:Jugendheim Herhahn, Weinhardtstraße 3, 53937 Schleiden-Herhahn
END:VEVENT
BEGIN:VEVENT
DTSTAMP:20260425T013903
DTSTART;TZID=Europe/Berlin:20261216T180000
DTEND;TZID=Europe/Berlin:20261216T184500
UID:26-A50042-20261216T180000@BFODÜREN
SUMMARY:Gymnastik nach Callenetics (26-A50042) 
LOCATION:Jugendheim Herhahn, Weinhardtstraße 3, 53937 Schleiden-Herhahn
END:VEVENT
END:VCALENDAR