BEGIN:VCALENDAR
VERSION:2.0
PRODID:https://www.kufer.de/kuferweb / DE
METHOD:PUBLISH
CALSCALE:GREGORIAN
X-WR-TIMEZONE:Europe/Berlin
BEGIN:VTIMEZONE
TZID:Europe/Berlin
X-LIC-LOCATION:Europe/Berlin
BEGIN:DAYLIGHT
TZOFFSETFROM:+0100
TZOFFSETTO:+0200
TZNAME:CEST
DTSTART:19700329T020000
RRULE:FREQ=YEARLY;INTERVAL=1;BYDAY=-1SU;BYMONTH=3
END:DAYLIGHT
BEGIN:STANDARD
TZOFFSETFROM:+0200
TZOFFSETTO:+0100
TZNAME:CET
DTSTART:19701025T030000
RRULE:FREQ=YEARLY;INTERVAL=1;BYDAY=-1SU;BYMONTH=10
END:STANDARD
END:VTIMEZONE
BEGIN:VEVENT
DTSTAMP:20260425T013904
DTSTART;TZID=Europe/Berlin:20260909T190000
DTEND;TZID=Europe/Berlin:20260909T194500
UID:26-A50052-20260909T190000@BFODÜREN
SUMMARY:Tanz und Gymnastik (26-A50052) 
LOCATION:Jugendheim Herhahn, Weinhardtstraße 3, 53937 Schleiden-Herhahn
END:VEVENT
BEGIN:VEVENT
DTSTAMP:20260425T013904
DTSTART;TZID=Europe/Berlin:20260916T190000
DTEND;TZID=Europe/Berlin:20260916T194500
UID:26-A50052-20260916T190000@BFODÜREN
SUMMARY:Tanz und Gymnastik (26-A50052) 
LOCATION:Jugendheim Herhahn, Weinhardtstraße 3, 53937 Schleiden-Herhahn
END:VEVENT
BEGIN:VEVENT
DTSTAMP:20260425T013904
DTSTART;TZID=Europe/Berlin:20260923T190000
DTEND;TZID=Europe/Berlin:20260923T194500
UID:26-A50052-20260923T190000@BFODÜREN
SUMMARY:Tanz und Gymnastik (26-A50052) 
LOCATION:Jugendheim Herhahn, Weinhardtstraße 3, 53937 Schleiden-Herhahn
END:VEVENT
BEGIN:VEVENT
DTSTAMP:20260425T013904
DTSTART;TZID=Europe/Berlin:20261104T190000
DTEND;TZID=Europe/Berlin:20261104T194500
UID:26-A50052-20261104T190000@BFODÜREN
SUMMARY:Tanz und Gymnastik (26-A50052) 
LOCATION:Jugendheim Herhahn, Weinhardtstraße 3, 53937 Schleiden-Herhahn
END:VEVENT
BEGIN:VEVENT
DTSTAMP:20260425T013904
DTSTART;TZID=Europe/Berlin:20261111T190000
DTEND;TZID=Europe/Berlin:20261111T194500
UID:26-A50052-20261111T190000@BFODÜREN
SUMMARY:Tanz und Gymnastik (26-A50052) 
LOCATION:Jugendheim Herhahn, Weinhardtstraße 3, 53937 Schleiden-Herhahn
END:VEVENT
BEGIN:VEVENT
DTSTAMP:20260425T013904
DTSTART;TZID=Europe/Berlin:20261118T190000
DTEND;TZID=Europe/Berlin:20261118T194500
UID:26-A50052-20261118T190000@BFODÜREN
SUMMARY:Tanz und Gymnastik (26-A50052) 
LOCATION:Jugendheim Herhahn, Weinhardtstraße 3, 53937 Schleiden-Herhahn
END:VEVENT
BEGIN:VEVENT
DTSTAMP:20260425T013904
DTSTART;TZID=Europe/Berlin:20261125T190000
DTEND;TZID=Europe/Berlin:20261125T194500
UID:26-A50052-20261125T190000@BFODÜREN
SUMMARY:Tanz und Gymnastik (26-A50052) 
LOCATION:Jugendheim Herhahn, Weinhardtstraße 3, 53937 Schleiden-Herhahn
END:VEVENT
BEGIN:VEVENT
DTSTAMP:20260425T013904
DTSTART;TZID=Europe/Berlin:20261202T190000
DTEND;TZID=Europe/Berlin:20261202T194500
UID:26-A50052-20261202T190000@BFODÜREN
SUMMARY:Tanz und Gymnastik (26-A50052) 
LOCATION:Jugendheim Herhahn, Weinhardtstraße 3, 53937 Schleiden-Herhahn
END:VEVENT
BEGIN:VEVENT
DTSTAMP:20260425T013904
DTSTART;TZID=Europe/Berlin:20261209T190000
DTEND;TZID=Europe/Berlin:20261209T194500
UID:26-A50052-20261209T190000@BFODÜREN
SUMMARY:Tanz und Gymnastik (26-A50052) 
LOCATION:Jugendheim Herhahn, Weinhardtstraße 3, 53937 Schleiden-Herhahn
END:VEVENT
BEGIN:VEVENT
DTSTAMP:20260425T013904
DTSTART;TZID=Europe/Berlin:20261216T190000
DTEND;TZID=Europe/Berlin:20261216T194500
UID:26-A50052-20261216T190000@BFODÜREN
SUMMARY:Tanz und Gymnastik (26-A50052) 
LOCATION:Jugendheim Herhahn, Weinhardtstraße 3, 53937 Schleiden-Herhahn
END:VEVENT
END:VCALENDAR