BEGIN:VCALENDAR
VERSION:2.0
PRODID:https://www.kufer.de/kuferweb / DE
METHOD:PUBLISH
CALSCALE:GREGORIAN
X-WR-TIMEZONE:Europe/Berlin
BEGIN:VTIMEZONE
TZID:Europe/Berlin
X-LIC-LOCATION:Europe/Berlin
BEGIN:DAYLIGHT
TZOFFSETFROM:+0100
TZOFFSETTO:+0200
TZNAME:CEST
DTSTART:19700329T020000
RRULE:FREQ=YEARLY;INTERVAL=1;BYDAY=-1SU;BYMONTH=3
END:DAYLIGHT
BEGIN:STANDARD
TZOFFSETFROM:+0200
TZOFFSETTO:+0100
TZNAME:CET
DTSTART:19701025T030000
RRULE:FREQ=YEARLY;INTERVAL=1;BYDAY=-1SU;BYMONTH=10
END:STANDARD
END:VTIMEZONE
BEGIN:VEVENT
DTSTAMP:20260424T190225
DTSTART;TZID=Europe/Berlin:20260113T183000
DTEND;TZID=Europe/Berlin:20260113T191500
UID:26-A50141-20260113T183000@BFODÜREN
SUMMARY:Rückengymnastik (26-A50141) 
LOCATION:Vereinskartell Hostel, Kreuzgasse 6, 53894 Mechernich-Hostel
END:VEVENT
BEGIN:VEVENT
DTSTAMP:20260424T190225
DTSTART;TZID=Europe/Berlin:20260120T183000
DTEND;TZID=Europe/Berlin:20260120T191500
UID:26-A50141-20260120T183000@BFODÜREN
SUMMARY:Rückengymnastik (26-A50141) 
LOCATION:Vereinskartell Hostel, Kreuzgasse 6, 53894 Mechernich-Hostel
END:VEVENT
BEGIN:VEVENT
DTSTAMP:20260424T190225
DTSTART;TZID=Europe/Berlin:20260127T183000
DTEND;TZID=Europe/Berlin:20260127T191500
UID:26-A50141-20260127T183000@BFODÜREN
SUMMARY:Rückengymnastik (26-A50141) 
LOCATION:Vereinskartell Hostel, Kreuzgasse 6, 53894 Mechernich-Hostel
END:VEVENT
BEGIN:VEVENT
DTSTAMP:20260424T190225
DTSTART;TZID=Europe/Berlin:20260203T183000
DTEND;TZID=Europe/Berlin:20260203T191500
UID:26-A50141-20260203T183000@BFODÜREN
SUMMARY:Rückengymnastik (26-A50141) 
LOCATION:Vereinskartell Hostel, Kreuzgasse 6, 53894 Mechernich-Hostel
END:VEVENT
BEGIN:VEVENT
DTSTAMP:20260424T190225
DTSTART;TZID=Europe/Berlin:20260210T183000
DTEND;TZID=Europe/Berlin:20260210T191500
UID:26-A50141-20260210T183000@BFODÜREN
SUMMARY:Rückengymnastik (26-A50141) 
LOCATION:Vereinskartell Hostel, Kreuzgasse 6, 53894 Mechernich-Hostel
END:VEVENT
BEGIN:VEVENT
DTSTAMP:20260424T190225
DTSTART;TZID=Europe/Berlin:20260217T183000
DTEND;TZID=Europe/Berlin:20260217T191500
UID:26-A50141-20260217T183000@BFODÜREN
SUMMARY:Rückengymnastik (26-A50141) 
LOCATION:Vereinskartell Hostel, Kreuzgasse 6, 53894 Mechernich-Hostel
END:VEVENT
BEGIN:VEVENT
DTSTAMP:20260424T190225
DTSTART;TZID=Europe/Berlin:20260224T183000
DTEND;TZID=Europe/Berlin:20260224T191500
UID:26-A50141-20260224T183000@BFODÜREN
SUMMARY:Rückengymnastik (26-A50141) 
LOCATION:Vereinskartell Hostel, Kreuzgasse 6, 53894 Mechernich-Hostel
END:VEVENT
BEGIN:VEVENT
DTSTAMP:20260424T190225
DTSTART;TZID=Europe/Berlin:20260303T183000
DTEND;TZID=Europe/Berlin:20260303T191500
UID:26-A50141-20260303T183000@BFODÜREN
SUMMARY:Rückengymnastik (26-A50141) 
LOCATION:Vereinskartell Hostel, Kreuzgasse 6, 53894 Mechernich-Hostel
END:VEVENT
BEGIN:VEVENT
DTSTAMP:20260424T190225
DTSTART;TZID=Europe/Berlin:20260310T183000
DTEND;TZID=Europe/Berlin:20260310T191500
UID:26-A50141-20260310T183000@BFODÜREN
SUMMARY:Rückengymnastik (26-A50141) 
LOCATION:Vereinskartell Hostel, Kreuzgasse 6, 53894 Mechernich-Hostel
END:VEVENT
BEGIN:VEVENT
DTSTAMP:20260424T190225
DTSTART;TZID=Europe/Berlin:20260317T183000
DTEND;TZID=Europe/Berlin:20260317T191500
UID:26-A50141-20260317T183000@BFODÜREN
SUMMARY:Rückengymnastik (26-A50141) 
LOCATION:Vereinskartell Hostel, Kreuzgasse 6, 53894 Mechernich-Hostel
END:VEVENT
BEGIN:VEVENT
DTSTAMP:20260424T190225
DTSTART;TZID=Europe/Berlin:20260324T183000
DTEND;TZID=Europe/Berlin:20260324T191500
UID:26-A50141-20260324T183000@BFODÜREN
SUMMARY:Rückengymnastik (26-A50141) 
LOCATION:Vereinskartell Hostel, Kreuzgasse 6, 53894 Mechernich-Hostel
END:VEVENT
BEGIN:VEVENT
DTSTAMP:20260424T190225
DTSTART;TZID=Europe/Berlin:20260331T183000
DTEND;TZID=Europe/Berlin:20260331T191500
UID:26-A50141-20260331T183000@BFODÜREN
SUMMARY:Rückengymnastik (26-A50141) 
LOCATION:Vereinskartell Hostel, Kreuzgasse 6, 53894 Mechernich-Hostel
END:VEVENT
BEGIN:VEVENT
DTSTAMP:20260424T190225
DTSTART;TZID=Europe/Berlin:20260407T183000
DTEND;TZID=Europe/Berlin:20260407T191500
UID:26-A50141-20260407T183000@BFODÜREN
SUMMARY:Rückengymnastik (26-A50141) 
LOCATION:Vereinskartell Hostel, Kreuzgasse 6, 53894 Mechernich-Hostel
END:VEVENT
BEGIN:VEVENT
DTSTAMP:20260424T190225
DTSTART;TZID=Europe/Berlin:20260414T183000
DTEND;TZID=Europe/Berlin:20260414T191500
UID:26-A50141-20260414T183000@BFODÜREN
SUMMARY:Rückengymnastik (26-A50141) 
LOCATION:Vereinskartell Hostel, Kreuzgasse 6, 53894 Mechernich-Hostel
END:VEVENT
BEGIN:VEVENT
DTSTAMP:20260424T190225
DTSTART;TZID=Europe/Berlin:20260421T183000
DTEND;TZID=Europe/Berlin:20260421T191500
UID:26-A50141-20260421T183000@BFODÜREN
SUMMARY:Rückengymnastik (26-A50141) 
LOCATION:Vereinskartell Hostel, Kreuzgasse 6, 53894 Mechernich-Hostel
END:VEVENT
BEGIN:VEVENT
DTSTAMP:20260424T190225
DTSTART;TZID=Europe/Berlin:20260428T183000
DTEND;TZID=Europe/Berlin:20260428T191500
UID:26-A50141-20260428T183000@BFODÜREN
SUMMARY:Rückengymnastik (26-A50141) 
LOCATION:Vereinskartell Hostel, Kreuzgasse 6, 53894 Mechernich-Hostel
END:VEVENT
BEGIN:VEVENT
DTSTAMP:20260424T190225
DTSTART;TZID=Europe/Berlin:20260505T183000
DTEND;TZID=Europe/Berlin:20260505T191500
UID:26-A50141-20260505T183000@BFODÜREN
SUMMARY:Rückengymnastik (26-A50141) 
LOCATION:Vereinskartell Hostel, Kreuzgasse 6, 53894 Mechernich-Hostel
END:VEVENT
BEGIN:VEVENT
DTSTAMP:20260424T190225
DTSTART;TZID=Europe/Berlin:20260512T183000
DTEND;TZID=Europe/Berlin:20260512T191500
UID:26-A50141-20260512T183000@BFODÜREN
SUMMARY:Rückengymnastik (26-A50141) 
LOCATION:Vereinskartell Hostel, Kreuzgasse 6, 53894 Mechernich-Hostel
END:VEVENT
BEGIN:VEVENT
DTSTAMP:20260424T190225
DTSTART;TZID=Europe/Berlin:20260519T183000
DTEND;TZID=Europe/Berlin:20260519T191500
UID:26-A50141-20260519T183000@BFODÜREN
SUMMARY:Rückengymnastik (26-A50141) 
LOCATION:Vereinskartell Hostel, Kreuzgasse 6, 53894 Mechernich-Hostel
END:VEVENT
BEGIN:VEVENT
DTSTAMP:20260424T190225
DTSTART;TZID=Europe/Berlin:20260526T183000
DTEND;TZID=Europe/Berlin:20260526T191500
UID:26-A50141-20260526T183000@BFODÜREN
SUMMARY:Rückengymnastik (26-A50141) 
LOCATION:Vereinskartell Hostel, Kreuzgasse 6, 53894 Mechernich-Hostel
END:VEVENT
BEGIN:VEVENT
DTSTAMP:20260424T190225
DTSTART;TZID=Europe/Berlin:20260602T183000
DTEND;TZID=Europe/Berlin:20260602T191500
UID:26-A50141-20260602T183000@BFODÜREN
SUMMARY:Rückengymnastik (26-A50141) 
LOCATION:Vereinskartell Hostel, Kreuzgasse 6, 53894 Mechernich-Hostel
END:VEVENT
BEGIN:VEVENT
DTSTAMP:20260424T190225
DTSTART;TZID=Europe/Berlin:20260609T183000
DTEND;TZID=Europe/Berlin:20260609T191500
UID:26-A50141-20260609T183000@BFODÜREN
SUMMARY:Rückengymnastik (26-A50141) 
LOCATION:Vereinskartell Hostel, Kreuzgasse 6, 53894 Mechernich-Hostel
END:VEVENT
BEGIN:VEVENT
DTSTAMP:20260424T190225
DTSTART;TZID=Europe/Berlin:20260616T183000
DTEND;TZID=Europe/Berlin:20260616T191500
UID:26-A50141-20260616T183000@BFODÜREN
SUMMARY:Rückengymnastik (26-A50141) 
LOCATION:Vereinskartell Hostel, Kreuzgasse 6, 53894 Mechernich-Hostel
END:VEVENT
BEGIN:VEVENT
DTSTAMP:20260424T190225
DTSTART;TZID=Europe/Berlin:20260623T183000
DTEND;TZID=Europe/Berlin:20260623T191500
UID:26-A50141-20260623T183000@BFODÜREN
SUMMARY:Rückengymnastik (26-A50141) 
LOCATION:Vereinskartell Hostel, Kreuzgasse 6, 53894 Mechernich-Hostel
END:VEVENT
BEGIN:VEVENT
DTSTAMP:20260424T190225
DTSTART;TZID=Europe/Berlin:20260630T183000
DTEND;TZID=Europe/Berlin:20260630T191500
UID:26-A50141-20260630T183000@BFODÜREN
SUMMARY:Rückengymnastik (26-A50141) 
LOCATION:Vereinskartell Hostel, Kreuzgasse 6, 53894 Mechernich-Hostel
END:VEVENT
BEGIN:VEVENT
DTSTAMP:20260424T190225
DTSTART;TZID=Europe/Berlin:20260707T183000
DTEND;TZID=Europe/Berlin:20260707T191500
UID:26-A50141-20260707T183000@BFODÜREN
SUMMARY:Rückengymnastik (26-A50141) 
LOCATION:Vereinskartell Hostel, Kreuzgasse 6, 53894 Mechernich-Hostel
END:VEVENT
BEGIN:VEVENT
DTSTAMP:20260424T190225
DTSTART;TZID=Europe/Berlin:20260714T183000
DTEND;TZID=Europe/Berlin:20260714T191500
UID:26-A50141-20260714T183000@BFODÜREN
SUMMARY:Rückengymnastik (26-A50141) 
LOCATION:Vereinskartell Hostel, Kreuzgasse 6, 53894 Mechernich-Hostel
END:VEVENT
END:VCALENDAR