BEGIN:VCALENDAR
VERSION:2.0
PRODID:https://www.kufer.de/kuferweb / DE
METHOD:PUBLISH
CALSCALE:GREGORIAN
X-WR-TIMEZONE:Europe/Berlin
BEGIN:VTIMEZONE
TZID:Europe/Berlin
X-LIC-LOCATION:Europe/Berlin
BEGIN:DAYLIGHT
TZOFFSETFROM:+0100
TZOFFSETTO:+0200
TZNAME:CEST
DTSTART:19700329T020000
RRULE:FREQ=YEARLY;INTERVAL=1;BYDAY=-1SU;BYMONTH=3
END:DAYLIGHT
BEGIN:STANDARD
TZOFFSETFROM:+0200
TZOFFSETTO:+0100
TZNAME:CET
DTSTART:19701025T030000
RRULE:FREQ=YEARLY;INTERVAL=1;BYDAY=-1SU;BYMONTH=10
END:STANDARD
END:VTIMEZONE
BEGIN:VEVENT
DTSTAMP:20260424T201558
DTSTART;TZID=Europe/Berlin:20260901T183000
DTEND;TZID=Europe/Berlin:20260901T191500
UID:26-A50142-20260901T183000@BFODÜREN
SUMMARY:Rückengymnastik (26-A50142) 
LOCATION:Vereinskartell Hostel, Kreuzgasse 6, 53894 Mechernich-Hostel
END:VEVENT
BEGIN:VEVENT
DTSTAMP:20260424T201558
DTSTART;TZID=Europe/Berlin:20260908T183000
DTEND;TZID=Europe/Berlin:20260908T191500
UID:26-A50142-20260908T183000@BFODÜREN
SUMMARY:Rückengymnastik (26-A50142) 
LOCATION:Vereinskartell Hostel, Kreuzgasse 6, 53894 Mechernich-Hostel
END:VEVENT
BEGIN:VEVENT
DTSTAMP:20260424T201558
DTSTART;TZID=Europe/Berlin:20260915T183000
DTEND;TZID=Europe/Berlin:20260915T191500
UID:26-A50142-20260915T183000@BFODÜREN
SUMMARY:Rückengymnastik (26-A50142) 
LOCATION:Vereinskartell Hostel, Kreuzgasse 6, 53894 Mechernich-Hostel
END:VEVENT
BEGIN:VEVENT
DTSTAMP:20260424T201558
DTSTART;TZID=Europe/Berlin:20260922T183000
DTEND;TZID=Europe/Berlin:20260922T191500
UID:26-A50142-20260922T183000@BFODÜREN
SUMMARY:Rückengymnastik (26-A50142) 
LOCATION:Vereinskartell Hostel, Kreuzgasse 6, 53894 Mechernich-Hostel
END:VEVENT
BEGIN:VEVENT
DTSTAMP:20260424T201558
DTSTART;TZID=Europe/Berlin:20260929T183000
DTEND;TZID=Europe/Berlin:20260929T191500
UID:26-A50142-20260929T183000@BFODÜREN
SUMMARY:Rückengymnastik (26-A50142) 
LOCATION:Vereinskartell Hostel, Kreuzgasse 6, 53894 Mechernich-Hostel
END:VEVENT
BEGIN:VEVENT
DTSTAMP:20260424T201558
DTSTART;TZID=Europe/Berlin:20261006T183000
DTEND;TZID=Europe/Berlin:20261006T191500
UID:26-A50142-20261006T183000@BFODÜREN
SUMMARY:Rückengymnastik (26-A50142) 
LOCATION:Vereinskartell Hostel, Kreuzgasse 6, 53894 Mechernich-Hostel
END:VEVENT
BEGIN:VEVENT
DTSTAMP:20260424T201558
DTSTART;TZID=Europe/Berlin:20261013T183000
DTEND;TZID=Europe/Berlin:20261013T191500
UID:26-A50142-20261013T183000@BFODÜREN
SUMMARY:Rückengymnastik (26-A50142) 
LOCATION:Vereinskartell Hostel, Kreuzgasse 6, 53894 Mechernich-Hostel
END:VEVENT
BEGIN:VEVENT
DTSTAMP:20260424T201558
DTSTART;TZID=Europe/Berlin:20261020T183000
DTEND;TZID=Europe/Berlin:20261020T191500
UID:26-A50142-20261020T183000@BFODÜREN
SUMMARY:Rückengymnastik (26-A50142) 
LOCATION:Vereinskartell Hostel, Kreuzgasse 6, 53894 Mechernich-Hostel
END:VEVENT
BEGIN:VEVENT
DTSTAMP:20260424T201558
DTSTART;TZID=Europe/Berlin:20261027T183000
DTEND;TZID=Europe/Berlin:20261027T191500
UID:26-A50142-20261027T183000@BFODÜREN
SUMMARY:Rückengymnastik (26-A50142) 
LOCATION:Vereinskartell Hostel, Kreuzgasse 6, 53894 Mechernich-Hostel
END:VEVENT
BEGIN:VEVENT
DTSTAMP:20260424T201558
DTSTART;TZID=Europe/Berlin:20261103T183000
DTEND;TZID=Europe/Berlin:20261103T191500
UID:26-A50142-20261103T183000@BFODÜREN
SUMMARY:Rückengymnastik (26-A50142) 
LOCATION:Vereinskartell Hostel, Kreuzgasse 6, 53894 Mechernich-Hostel
END:VEVENT
BEGIN:VEVENT
DTSTAMP:20260424T201558
DTSTART;TZID=Europe/Berlin:20261110T183000
DTEND;TZID=Europe/Berlin:20261110T191500
UID:26-A50142-20261110T183000@BFODÜREN
SUMMARY:Rückengymnastik (26-A50142) 
LOCATION:Vereinskartell Hostel, Kreuzgasse 6, 53894 Mechernich-Hostel
END:VEVENT
BEGIN:VEVENT
DTSTAMP:20260424T201558
DTSTART;TZID=Europe/Berlin:20261117T183000
DTEND;TZID=Europe/Berlin:20261117T191500
UID:26-A50142-20261117T183000@BFODÜREN
SUMMARY:Rückengymnastik (26-A50142) 
LOCATION:Vereinskartell Hostel, Kreuzgasse 6, 53894 Mechernich-Hostel
END:VEVENT
BEGIN:VEVENT
DTSTAMP:20260424T201558
DTSTART;TZID=Europe/Berlin:20261124T183000
DTEND;TZID=Europe/Berlin:20261124T191500
UID:26-A50142-20261124T183000@BFODÜREN
SUMMARY:Rückengymnastik (26-A50142) 
LOCATION:Vereinskartell Hostel, Kreuzgasse 6, 53894 Mechernich-Hostel
END:VEVENT
BEGIN:VEVENT
DTSTAMP:20260424T201558
DTSTART;TZID=Europe/Berlin:20261201T183000
DTEND;TZID=Europe/Berlin:20261201T191500
UID:26-A50142-20261201T183000@BFODÜREN
SUMMARY:Rückengymnastik (26-A50142) 
LOCATION:Vereinskartell Hostel, Kreuzgasse 6, 53894 Mechernich-Hostel
END:VEVENT
BEGIN:VEVENT
DTSTAMP:20260424T201558
DTSTART;TZID=Europe/Berlin:20261208T183000
DTEND;TZID=Europe/Berlin:20261208T191500
UID:26-A50142-20261208T183000@BFODÜREN
SUMMARY:Rückengymnastik (26-A50142) 
LOCATION:Vereinskartell Hostel, Kreuzgasse 6, 53894 Mechernich-Hostel
END:VEVENT
BEGIN:VEVENT
DTSTAMP:20260424T201558
DTSTART;TZID=Europe/Berlin:20261215T183000
DTEND;TZID=Europe/Berlin:20261215T191500
UID:26-A50142-20261215T183000@BFODÜREN
SUMMARY:Rückengymnastik (26-A50142) 
LOCATION:Vereinskartell Hostel, Kreuzgasse 6, 53894 Mechernich-Hostel
END:VEVENT
END:VCALENDAR