BEGIN:VCALENDAR
VERSION:2.0
PRODID:https://www.kufer.de/kuferweb / DE
METHOD:PUBLISH
CALSCALE:GREGORIAN
X-WR-TIMEZONE:Europe/Berlin
BEGIN:VTIMEZONE
TZID:Europe/Berlin
X-LIC-LOCATION:Europe/Berlin
BEGIN:DAYLIGHT
TZOFFSETFROM:+0100
TZOFFSETTO:+0200
TZNAME:CEST
DTSTART:19700329T020000
RRULE:FREQ=YEARLY;INTERVAL=1;BYDAY=-1SU;BYMONTH=3
END:DAYLIGHT
BEGIN:STANDARD
TZOFFSETFROM:+0200
TZOFFSETTO:+0100
TZNAME:CET
DTSTART:19701025T030000
RRULE:FREQ=YEARLY;INTERVAL=1;BYDAY=-1SU;BYMONTH=10
END:STANDARD
END:VTIMEZONE
BEGIN:VEVENT
DTSTAMP:20260424T162808
DTSTART;TZID=Europe/Berlin:20260908T100000
DTEND;TZID=Europe/Berlin:20260908T113000
UID:26-A52002-20260908T100000@BFODÜREN
SUMMARY:Tai Chi (26-A52002) 
LOCATION:Kath. Pfarrheim Kall, Aachener Straße 17, 53925 Kall
END:VEVENT
BEGIN:VEVENT
DTSTAMP:20260424T162808
DTSTART;TZID=Europe/Berlin:20260915T100000
DTEND;TZID=Europe/Berlin:20260915T113000
UID:26-A52002-20260915T100000@BFODÜREN
SUMMARY:Tai Chi (26-A52002) 
LOCATION:Kath. Pfarrheim Kall, Aachener Straße 17, 53925 Kall
END:VEVENT
BEGIN:VEVENT
DTSTAMP:20260424T162808
DTSTART;TZID=Europe/Berlin:20260922T100000
DTEND;TZID=Europe/Berlin:20260922T113000
UID:26-A52002-20260922T100000@BFODÜREN
SUMMARY:Tai Chi (26-A52002) 
LOCATION:Kath. Pfarrheim Kall, Aachener Straße 17, 53925 Kall
END:VEVENT
BEGIN:VEVENT
DTSTAMP:20260424T162808
DTSTART;TZID=Europe/Berlin:20260929T100000
DTEND;TZID=Europe/Berlin:20260929T113000
UID:26-A52002-20260929T100000@BFODÜREN
SUMMARY:Tai Chi (26-A52002) 
LOCATION:Kath. Pfarrheim Kall, Aachener Straße 17, 53925 Kall
END:VEVENT
BEGIN:VEVENT
DTSTAMP:20260424T162808
DTSTART;TZID=Europe/Berlin:20261006T100000
DTEND;TZID=Europe/Berlin:20261006T113000
UID:26-A52002-20261006T100000@BFODÜREN
SUMMARY:Tai Chi (26-A52002) 
LOCATION:Kath. Pfarrheim Kall, Aachener Straße 17, 53925 Kall
END:VEVENT
BEGIN:VEVENT
DTSTAMP:20260424T162808
DTSTART;TZID=Europe/Berlin:20261013T100000
DTEND;TZID=Europe/Berlin:20261013T113000
UID:26-A52002-20261013T100000@BFODÜREN
SUMMARY:Tai Chi (26-A52002) 
LOCATION:Kath. Pfarrheim Kall, Aachener Straße 17, 53925 Kall
END:VEVENT
BEGIN:VEVENT
DTSTAMP:20260424T162808
DTSTART;TZID=Europe/Berlin:20261103T100000
DTEND;TZID=Europe/Berlin:20261103T113000
UID:26-A52002-20261103T100000@BFODÜREN
SUMMARY:Tai Chi (26-A52002) 
LOCATION:Kath. Pfarrheim Kall, Aachener Straße 17, 53925 Kall
END:VEVENT
BEGIN:VEVENT
DTSTAMP:20260424T162808
DTSTART;TZID=Europe/Berlin:20261110T100000
DTEND;TZID=Europe/Berlin:20261110T113000
UID:26-A52002-20261110T100000@BFODÜREN
SUMMARY:Tai Chi (26-A52002) 
LOCATION:Kath. Pfarrheim Kall, Aachener Straße 17, 53925 Kall
END:VEVENT
BEGIN:VEVENT
DTSTAMP:20260424T162808
DTSTART;TZID=Europe/Berlin:20261117T100000
DTEND;TZID=Europe/Berlin:20261117T113000
UID:26-A52002-20261117T100000@BFODÜREN
SUMMARY:Tai Chi (26-A52002) 
LOCATION:Kath. Pfarrheim Kall, Aachener Straße 17, 53925 Kall
END:VEVENT
BEGIN:VEVENT
DTSTAMP:20260424T162808
DTSTART;TZID=Europe/Berlin:20261124T100000
DTEND;TZID=Europe/Berlin:20261124T113000
UID:26-A52002-20261124T100000@BFODÜREN
SUMMARY:Tai Chi (26-A52002) 
LOCATION:Kath. Pfarrheim Kall, Aachener Straße 17, 53925 Kall
END:VEVENT
BEGIN:VEVENT
DTSTAMP:20260424T162808
DTSTART;TZID=Europe/Berlin:20261208T100000
DTEND;TZID=Europe/Berlin:20261208T113000
UID:26-A52002-20261208T100000@BFODÜREN
SUMMARY:Tai Chi (26-A52002) 
LOCATION:Kath. Pfarrheim Kall, Aachener Straße 17, 53925 Kall
END:VEVENT
BEGIN:VEVENT
DTSTAMP:20260424T162808
DTSTART;TZID=Europe/Berlin:20261215T100000
DTEND;TZID=Europe/Berlin:20261215T113000
UID:26-A52002-20261215T100000@BFODÜREN
SUMMARY:Tai Chi (26-A52002) 
LOCATION:Kath. Pfarrheim Kall, Aachener Straße 17, 53925 Kall
END:VEVENT
END:VCALENDAR