BEGIN:VCALENDAR
VERSION:2.0
PRODID:https://www.kufer.de/kuferweb / DE
METHOD:PUBLISH
CALSCALE:GREGORIAN
X-WR-TIMEZONE:Europe/Berlin
BEGIN:VTIMEZONE
TZID:Europe/Berlin
X-LIC-LOCATION:Europe/Berlin
BEGIN:DAYLIGHT
TZOFFSETFROM:+0100
TZOFFSETTO:+0200
TZNAME:CEST
DTSTART:19700329T020000
RRULE:FREQ=YEARLY;INTERVAL=1;BYDAY=-1SU;BYMONTH=3
END:DAYLIGHT
BEGIN:STANDARD
TZOFFSETFROM:+0200
TZOFFSETTO:+0100
TZNAME:CET
DTSTART:19701025T030000
RRULE:FREQ=YEARLY;INTERVAL=1;BYDAY=-1SU;BYMONTH=10
END:STANDARD
END:VTIMEZONE
BEGIN:VEVENT
DTSTAMP:20260424T180223
DTSTART;TZID=Europe/Berlin:20260129T180000
DTEND;TZID=Europe/Berlin:20260129T210000
UID:26-A53011-20260129T180000@BFODÜREN
SUMMARY:Kochen für Männer II (Eifel) (26-A53011) 
LOCATION:Städt. Realschule Schleiden, Ruppenberg 9, 53937 Schleiden
END:VEVENT
BEGIN:VEVENT
DTSTAMP:20260424T180223
DTSTART;TZID=Europe/Berlin:20260226T180000
DTEND;TZID=Europe/Berlin:20260226T210000
UID:26-A53011-20260226T180000@BFODÜREN
SUMMARY:Kochen für Männer II (Eifel) (26-A53011) 
LOCATION:Städt. Realschule Schleiden, Ruppenberg 9, 53937 Schleiden
END:VEVENT
BEGIN:VEVENT
DTSTAMP:20260424T180223
DTSTART;TZID=Europe/Berlin:20260326T180000
DTEND;TZID=Europe/Berlin:20260326T210000
UID:26-A53011-20260326T180000@BFODÜREN
SUMMARY:Kochen für Männer II (Eifel) (26-A53011) 
LOCATION:Städt. Realschule Schleiden, Ruppenberg 9, 53937 Schleiden
END:VEVENT
BEGIN:VEVENT
DTSTAMP:20260424T180223
DTSTART;TZID=Europe/Berlin:20260423T180000
DTEND;TZID=Europe/Berlin:20260423T210000
UID:26-A53011-20260423T180000@BFODÜREN
SUMMARY:Kochen für Männer II (Eifel) (26-A53011) 
LOCATION:Städt. Realschule Schleiden, Ruppenberg 9, 53937 Schleiden
END:VEVENT
BEGIN:VEVENT
DTSTAMP:20260424T180223
DTSTART;TZID=Europe/Berlin:20260521T180000
DTEND;TZID=Europe/Berlin:20260521T210000
UID:26-A53011-20260521T180000@BFODÜREN
SUMMARY:Kochen für Männer II (Eifel) (26-A53011) 
LOCATION:Städt. Realschule Schleiden, Ruppenberg 9, 53937 Schleiden
END:VEVENT
BEGIN:VEVENT
DTSTAMP:20260424T180223
DTSTART;TZID=Europe/Berlin:20260618T180000
DTEND;TZID=Europe/Berlin:20260618T210000
UID:26-A53011-20260618T180000@BFODÜREN
SUMMARY:Kochen für Männer II (Eifel) (26-A53011) 
LOCATION:Städt. Realschule Schleiden, Ruppenberg 9, 53937 Schleiden
END:VEVENT
END:VCALENDAR