BEGIN:VCALENDAR
VERSION:2.0
PRODID:https://www.kufer.de/kuferweb / DE
METHOD:PUBLISH
CALSCALE:GREGORIAN
X-WR-TIMEZONE:Europe/Berlin
BEGIN:VTIMEZONE
TZID:Europe/Berlin
X-LIC-LOCATION:Europe/Berlin
BEGIN:DAYLIGHT
TZOFFSETFROM:+0100
TZOFFSETTO:+0200
TZNAME:CEST
DTSTART:19700329T020000
RRULE:FREQ=YEARLY;INTERVAL=1;BYDAY=-1SU;BYMONTH=3
END:DAYLIGHT
BEGIN:STANDARD
TZOFFSETFROM:+0200
TZOFFSETTO:+0100
TZNAME:CET
DTSTART:19701025T030000
RRULE:FREQ=YEARLY;INTERVAL=1;BYDAY=-1SU;BYMONTH=10
END:STANDARD
END:VTIMEZONE
BEGIN:VEVENT
DTSTAMP:20260425T031029
DTSTART;TZID=Europe/Berlin:20260922T091500
DTEND;TZID=Europe/Berlin:20260922T104500
UID:26-B21002-20260922T091500@BFODÜREN
SUMMARY:Eltern-Kind-Treff für Eltern mit Kindern ab 14 Monaten (26-B21002) 
LOCATION:Kath. Pfarrzentrum Höfen, Schmiedegasse 1, 52156 Monschau
END:VEVENT
BEGIN:VEVENT
DTSTAMP:20260425T031029
DTSTART;TZID=Europe/Berlin:20260929T091500
DTEND;TZID=Europe/Berlin:20260929T104500
UID:26-B21002-20260929T091500@BFODÜREN
SUMMARY:Eltern-Kind-Treff für Eltern mit Kindern ab 14 Monaten (26-B21002) 
LOCATION:Kath. Pfarrzentrum Höfen, Schmiedegasse 1, 52156 Monschau
END:VEVENT
BEGIN:VEVENT
DTSTAMP:20260425T031029
DTSTART;TZID=Europe/Berlin:20261006T091500
DTEND;TZID=Europe/Berlin:20261006T104500
UID:26-B21002-20261006T091500@BFODÜREN
SUMMARY:Eltern-Kind-Treff für Eltern mit Kindern ab 14 Monaten (26-B21002) 
LOCATION:Kath. Pfarrzentrum Höfen, Schmiedegasse 1, 52156 Monschau
END:VEVENT
BEGIN:VEVENT
DTSTAMP:20260425T031029
DTSTART;TZID=Europe/Berlin:20261103T091500
DTEND;TZID=Europe/Berlin:20261103T104500
UID:26-B21002-20261103T091500@BFODÜREN
SUMMARY:Eltern-Kind-Treff für Eltern mit Kindern ab 14 Monaten (26-B21002) 
LOCATION:Kath. Pfarrzentrum Höfen, Schmiedegasse 1, 52156 Monschau
END:VEVENT
BEGIN:VEVENT
DTSTAMP:20260425T031029
DTSTART;TZID=Europe/Berlin:20261110T091500
DTEND;TZID=Europe/Berlin:20261110T104500
UID:26-B21002-20261110T091500@BFODÜREN
SUMMARY:Eltern-Kind-Treff für Eltern mit Kindern ab 14 Monaten (26-B21002) 
LOCATION:Kath. Pfarrzentrum Höfen, Schmiedegasse 1, 52156 Monschau
END:VEVENT
BEGIN:VEVENT
DTSTAMP:20260425T031029
DTSTART;TZID=Europe/Berlin:20261117T091500
DTEND;TZID=Europe/Berlin:20261117T104500
UID:26-B21002-20261117T091500@BFODÜREN
SUMMARY:Eltern-Kind-Treff für Eltern mit Kindern ab 14 Monaten (26-B21002) 
LOCATION:Kath. Pfarrzentrum Höfen, Schmiedegasse 1, 52156 Monschau
END:VEVENT
BEGIN:VEVENT
DTSTAMP:20260425T031029
DTSTART;TZID=Europe/Berlin:20261124T091500
DTEND;TZID=Europe/Berlin:20261124T104500
UID:26-B21002-20261124T091500@BFODÜREN
SUMMARY:Eltern-Kind-Treff für Eltern mit Kindern ab 14 Monaten (26-B21002) 
LOCATION:Kath. Pfarrzentrum Höfen, Schmiedegasse 1, 52156 Monschau
END:VEVENT
BEGIN:VEVENT
DTSTAMP:20260425T031029
DTSTART;TZID=Europe/Berlin:20261124T200000
DTEND;TZID=Europe/Berlin:20261124T221500
UID:26-B21002-20261124T200000@BFODÜREN
DESCRIPTION:Elternabend
SUMMARY:Eltern-Kind-Treff für Eltern mit Kindern ab 14 Monaten (26-B21002) 
LOCATION:Kath. Pfarrzentrum Höfen, Schmiedegasse 1, 52156 Monschau
END:VEVENT
BEGIN:VEVENT
DTSTAMP:20260425T031029
DTSTART;TZID=Europe/Berlin:20261201T091500
DTEND;TZID=Europe/Berlin:20261201T104500
UID:26-B21002-20261201T091500@BFODÜREN
SUMMARY:Eltern-Kind-Treff für Eltern mit Kindern ab 14 Monaten (26-B21002) 
LOCATION:Kath. Pfarrzentrum Höfen, Schmiedegasse 1, 52156 Monschau
END:VEVENT
END:VCALENDAR