BEGIN:VCALENDAR
VERSION:2.0
PRODID:https://www.kufer.de/kuferweb / DE
METHOD:PUBLISH
CALSCALE:GREGORIAN
X-WR-TIMEZONE:Europe/Berlin
BEGIN:VTIMEZONE
TZID:Europe/Berlin
X-LIC-LOCATION:Europe/Berlin
BEGIN:DAYLIGHT
TZOFFSETFROM:+0100
TZOFFSETTO:+0200
TZNAME:CEST
DTSTART:19700329T020000
RRULE:FREQ=YEARLY;INTERVAL=1;BYDAY=-1SU;BYMONTH=3
END:DAYLIGHT
BEGIN:STANDARD
TZOFFSETFROM:+0200
TZOFFSETTO:+0100
TZNAME:CET
DTSTART:19701025T030000
RRULE:FREQ=YEARLY;INTERVAL=1;BYDAY=-1SU;BYMONTH=10
END:STANDARD
END:VTIMEZONE
BEGIN:VEVENT
DTSTAMP:20260425T013854
DTSTART;TZID=Europe/Berlin:20260909T184500
DTEND;TZID=Europe/Berlin:20260909T194500
UID:26-B50012-20260909T184500@BFODÜREN
SUMMARY:Aerobic und Gymnastik/Tabata in Eicherscheid (26-B50012) 
LOCATION:Förderschule Eicherscheid, Bachstraße 13, 52152 Simmerath-Eicherscheid
END:VEVENT
BEGIN:VEVENT
DTSTAMP:20260425T013854
DTSTART;TZID=Europe/Berlin:20260916T184500
DTEND;TZID=Europe/Berlin:20260916T194500
UID:26-B50012-20260916T184500@BFODÜREN
SUMMARY:Aerobic und Gymnastik/Tabata in Eicherscheid (26-B50012) 
LOCATION:Förderschule Eicherscheid, Bachstraße 13, 52152 Simmerath-Eicherscheid
END:VEVENT
BEGIN:VEVENT
DTSTAMP:20260425T013854
DTSTART;TZID=Europe/Berlin:20260923T184500
DTEND;TZID=Europe/Berlin:20260923T194500
UID:26-B50012-20260923T184500@BFODÜREN
SUMMARY:Aerobic und Gymnastik/Tabata in Eicherscheid (26-B50012) 
LOCATION:Förderschule Eicherscheid, Bachstraße 13, 52152 Simmerath-Eicherscheid
END:VEVENT
BEGIN:VEVENT
DTSTAMP:20260425T013854
DTSTART;TZID=Europe/Berlin:20260930T184500
DTEND;TZID=Europe/Berlin:20260930T194500
UID:26-B50012-20260930T184500@BFODÜREN
SUMMARY:Aerobic und Gymnastik/Tabata in Eicherscheid (26-B50012) 
LOCATION:Förderschule Eicherscheid, Bachstraße 13, 52152 Simmerath-Eicherscheid
END:VEVENT
BEGIN:VEVENT
DTSTAMP:20260425T013854
DTSTART;TZID=Europe/Berlin:20261007T184500
DTEND;TZID=Europe/Berlin:20261007T194500
UID:26-B50012-20261007T184500@BFODÜREN
SUMMARY:Aerobic und Gymnastik/Tabata in Eicherscheid (26-B50012) 
LOCATION:Förderschule Eicherscheid, Bachstraße 13, 52152 Simmerath-Eicherscheid
END:VEVENT
BEGIN:VEVENT
DTSTAMP:20260425T013854
DTSTART;TZID=Europe/Berlin:20261014T184500
DTEND;TZID=Europe/Berlin:20261014T194500
UID:26-B50012-20261014T184500@BFODÜREN
SUMMARY:Aerobic und Gymnastik/Tabata in Eicherscheid (26-B50012) 
LOCATION:Förderschule Eicherscheid, Bachstraße 13, 52152 Simmerath-Eicherscheid
END:VEVENT
BEGIN:VEVENT
DTSTAMP:20260425T013854
DTSTART;TZID=Europe/Berlin:20261104T184500
DTEND;TZID=Europe/Berlin:20261104T194500
UID:26-B50012-20261104T184500@BFODÜREN
SUMMARY:Aerobic und Gymnastik/Tabata in Eicherscheid (26-B50012) 
LOCATION:Förderschule Eicherscheid, Bachstraße 13, 52152 Simmerath-Eicherscheid
END:VEVENT
BEGIN:VEVENT
DTSTAMP:20260425T013854
DTSTART;TZID=Europe/Berlin:20261111T184500
DTEND;TZID=Europe/Berlin:20261111T194500
UID:26-B50012-20261111T184500@BFODÜREN
SUMMARY:Aerobic und Gymnastik/Tabata in Eicherscheid (26-B50012) 
LOCATION:Förderschule Eicherscheid, Bachstraße 13, 52152 Simmerath-Eicherscheid
END:VEVENT
BEGIN:VEVENT
DTSTAMP:20260425T013854
DTSTART;TZID=Europe/Berlin:20261118T184500
DTEND;TZID=Europe/Berlin:20261118T194500
UID:26-B50012-20261118T184500@BFODÜREN
SUMMARY:Aerobic und Gymnastik/Tabata in Eicherscheid (26-B50012) 
LOCATION:Förderschule Eicherscheid, Bachstraße 13, 52152 Simmerath-Eicherscheid
END:VEVENT
BEGIN:VEVENT
DTSTAMP:20260425T013854
DTSTART;TZID=Europe/Berlin:20261125T184500
DTEND;TZID=Europe/Berlin:20261125T194500
UID:26-B50012-20261125T184500@BFODÜREN
SUMMARY:Aerobic und Gymnastik/Tabata in Eicherscheid (26-B50012) 
LOCATION:Förderschule Eicherscheid, Bachstraße 13, 52152 Simmerath-Eicherscheid
END:VEVENT
BEGIN:VEVENT
DTSTAMP:20260425T013854
DTSTART;TZID=Europe/Berlin:20261202T184500
DTEND;TZID=Europe/Berlin:20261202T194500
UID:26-B50012-20261202T184500@BFODÜREN
SUMMARY:Aerobic und Gymnastik/Tabata in Eicherscheid (26-B50012) 
LOCATION:Förderschule Eicherscheid, Bachstraße 13, 52152 Simmerath-Eicherscheid
END:VEVENT
END:VCALENDAR