BEGIN:VCALENDAR
VERSION:2.0
PRODID:https://www.kufer.de/kuferweb / DE
METHOD:PUBLISH
CALSCALE:GREGORIAN
X-WR-TIMEZONE:Europe/Berlin
BEGIN:VTIMEZONE
TZID:Europe/Berlin
X-LIC-LOCATION:Europe/Berlin
BEGIN:DAYLIGHT
TZOFFSETFROM:+0100
TZOFFSETTO:+0200
TZNAME:CEST
DTSTART:19700329T020000
RRULE:FREQ=YEARLY;INTERVAL=1;BYDAY=-1SU;BYMONTH=3
END:DAYLIGHT
BEGIN:STANDARD
TZOFFSETFROM:+0200
TZOFFSETTO:+0100
TZNAME:CET
DTSTART:19701025T030000
RRULE:FREQ=YEARLY;INTERVAL=1;BYDAY=-1SU;BYMONTH=10
END:STANDARD
END:VTIMEZONE
BEGIN:VEVENT
DTSTAMP:20260425T013905
DTSTART;TZID=Europe/Berlin:20260909T194500
DTEND;TZID=Europe/Berlin:20260909T203000
UID:26-B50022-20260909T194500@BFODÜREN
SUMMARY:Rückenfit in Eicherscheid (26-B50022) 
LOCATION:Förderschule Eicherscheid, Bachstraße 13, 52152 Simmerath-Eicherscheid
END:VEVENT
BEGIN:VEVENT
DTSTAMP:20260425T013905
DTSTART;TZID=Europe/Berlin:20260916T194500
DTEND;TZID=Europe/Berlin:20260916T203000
UID:26-B50022-20260916T194500@BFODÜREN
SUMMARY:Rückenfit in Eicherscheid (26-B50022) 
LOCATION:Förderschule Eicherscheid, Bachstraße 13, 52152 Simmerath-Eicherscheid
END:VEVENT
BEGIN:VEVENT
DTSTAMP:20260425T013905
DTSTART;TZID=Europe/Berlin:20260923T194500
DTEND;TZID=Europe/Berlin:20260923T203000
UID:26-B50022-20260923T194500@BFODÜREN
SUMMARY:Rückenfit in Eicherscheid (26-B50022) 
LOCATION:Förderschule Eicherscheid, Bachstraße 13, 52152 Simmerath-Eicherscheid
END:VEVENT
BEGIN:VEVENT
DTSTAMP:20260425T013905
DTSTART;TZID=Europe/Berlin:20260930T194500
DTEND;TZID=Europe/Berlin:20260930T203000
UID:26-B50022-20260930T194500@BFODÜREN
SUMMARY:Rückenfit in Eicherscheid (26-B50022) 
LOCATION:Förderschule Eicherscheid, Bachstraße 13, 52152 Simmerath-Eicherscheid
END:VEVENT
BEGIN:VEVENT
DTSTAMP:20260425T013905
DTSTART;TZID=Europe/Berlin:20261007T194500
DTEND;TZID=Europe/Berlin:20261007T203000
UID:26-B50022-20261007T194500@BFODÜREN
SUMMARY:Rückenfit in Eicherscheid (26-B50022) 
LOCATION:Förderschule Eicherscheid, Bachstraße 13, 52152 Simmerath-Eicherscheid
END:VEVENT
BEGIN:VEVENT
DTSTAMP:20260425T013905
DTSTART;TZID=Europe/Berlin:20261014T194500
DTEND;TZID=Europe/Berlin:20261014T203000
UID:26-B50022-20261014T194500@BFODÜREN
SUMMARY:Rückenfit in Eicherscheid (26-B50022) 
LOCATION:Förderschule Eicherscheid, Bachstraße 13, 52152 Simmerath-Eicherscheid
END:VEVENT
BEGIN:VEVENT
DTSTAMP:20260425T013905
DTSTART;TZID=Europe/Berlin:20261104T194500
DTEND;TZID=Europe/Berlin:20261104T203000
UID:26-B50022-20261104T194500@BFODÜREN
SUMMARY:Rückenfit in Eicherscheid (26-B50022) 
LOCATION:Förderschule Eicherscheid, Bachstraße 13, 52152 Simmerath-Eicherscheid
END:VEVENT
BEGIN:VEVENT
DTSTAMP:20260425T013905
DTSTART;TZID=Europe/Berlin:20261111T194500
DTEND;TZID=Europe/Berlin:20261111T203000
UID:26-B50022-20261111T194500@BFODÜREN
SUMMARY:Rückenfit in Eicherscheid (26-B50022) 
LOCATION:Förderschule Eicherscheid, Bachstraße 13, 52152 Simmerath-Eicherscheid
END:VEVENT
BEGIN:VEVENT
DTSTAMP:20260425T013905
DTSTART;TZID=Europe/Berlin:20261118T194500
DTEND;TZID=Europe/Berlin:20261118T203000
UID:26-B50022-20261118T194500@BFODÜREN
SUMMARY:Rückenfit in Eicherscheid (26-B50022) 
LOCATION:Förderschule Eicherscheid, Bachstraße 13, 52152 Simmerath-Eicherscheid
END:VEVENT
BEGIN:VEVENT
DTSTAMP:20260425T013905
DTSTART;TZID=Europe/Berlin:20261125T194500
DTEND;TZID=Europe/Berlin:20261125T203000
UID:26-B50022-20261125T194500@BFODÜREN
SUMMARY:Rückenfit in Eicherscheid (26-B50022) 
LOCATION:Förderschule Eicherscheid, Bachstraße 13, 52152 Simmerath-Eicherscheid
END:VEVENT
BEGIN:VEVENT
DTSTAMP:20260425T013905
DTSTART;TZID=Europe/Berlin:20261202T194500
DTEND;TZID=Europe/Berlin:20261202T203000
UID:26-B50022-20261202T194500@BFODÜREN
SUMMARY:Rückenfit in Eicherscheid (26-B50022) 
LOCATION:Förderschule Eicherscheid, Bachstraße 13, 52152 Simmerath-Eicherscheid
END:VEVENT
END:VCALENDAR