BEGIN:VCALENDAR
VERSION:2.0
PRODID:https://www.kufer.de/kuferweb / DE
METHOD:PUBLISH
CALSCALE:GREGORIAN
X-WR-TIMEZONE:Europe/Berlin
BEGIN:VTIMEZONE
TZID:Europe/Berlin
X-LIC-LOCATION:Europe/Berlin
BEGIN:DAYLIGHT
TZOFFSETFROM:+0100
TZOFFSETTO:+0200
TZNAME:CEST
DTSTART:19700329T020000
RRULE:FREQ=YEARLY;INTERVAL=1;BYDAY=-1SU;BYMONTH=3
END:DAYLIGHT
BEGIN:STANDARD
TZOFFSETFROM:+0200
TZOFFSETTO:+0100
TZNAME:CET
DTSTART:19701025T030000
RRULE:FREQ=YEARLY;INTERVAL=1;BYDAY=-1SU;BYMONTH=10
END:STANDARD
END:VTIMEZONE
BEGIN:VEVENT
DTSTAMP:20260424T230644
DTSTART;TZID=Europe/Berlin:20260831T180000
DTEND;TZID=Europe/Berlin:20260831T184500
UID:26-B50032-20260831T180000@BFODÜREN
SUMMARY:Sport und Spaß Gymnastik für Frauen (26-B50032) 
LOCATION:Antoniushof Rurberg, Seeufer 5, 52152 Simmerath-Rurberg
END:VEVENT
BEGIN:VEVENT
DTSTAMP:20260424T230644
DTSTART;TZID=Europe/Berlin:20260907T180000
DTEND;TZID=Europe/Berlin:20260907T184500
UID:26-B50032-20260907T180000@BFODÜREN
SUMMARY:Sport und Spaß Gymnastik für Frauen (26-B50032) 
LOCATION:Antoniushof Rurberg, Seeufer 5, 52152 Simmerath-Rurberg
END:VEVENT
BEGIN:VEVENT
DTSTAMP:20260424T230644
DTSTART;TZID=Europe/Berlin:20260914T180000
DTEND;TZID=Europe/Berlin:20260914T184500
UID:26-B50032-20260914T180000@BFODÜREN
SUMMARY:Sport und Spaß Gymnastik für Frauen (26-B50032) 
LOCATION:Antoniushof Rurberg, Seeufer 5, 52152 Simmerath-Rurberg
END:VEVENT
BEGIN:VEVENT
DTSTAMP:20260424T230644
DTSTART;TZID=Europe/Berlin:20260921T180000
DTEND;TZID=Europe/Berlin:20260921T184500
UID:26-B50032-20260921T180000@BFODÜREN
SUMMARY:Sport und Spaß Gymnastik für Frauen (26-B50032) 
LOCATION:Antoniushof Rurberg, Seeufer 5, 52152 Simmerath-Rurberg
END:VEVENT
BEGIN:VEVENT
DTSTAMP:20260424T230644
DTSTART;TZID=Europe/Berlin:20260928T180000
DTEND;TZID=Europe/Berlin:20260928T184500
UID:26-B50032-20260928T180000@BFODÜREN
SUMMARY:Sport und Spaß Gymnastik für Frauen (26-B50032) 
LOCATION:Antoniushof Rurberg, Seeufer 5, 52152 Simmerath-Rurberg
END:VEVENT
BEGIN:VEVENT
DTSTAMP:20260424T230644
DTSTART;TZID=Europe/Berlin:20261005T180000
DTEND;TZID=Europe/Berlin:20261005T184500
UID:26-B50032-20261005T180000@BFODÜREN
SUMMARY:Sport und Spaß Gymnastik für Frauen (26-B50032) 
LOCATION:Antoniushof Rurberg, Seeufer 5, 52152 Simmerath-Rurberg
END:VEVENT
BEGIN:VEVENT
DTSTAMP:20260424T230644
DTSTART;TZID=Europe/Berlin:20261012T180000
DTEND;TZID=Europe/Berlin:20261012T184500
UID:26-B50032-20261012T180000@BFODÜREN
SUMMARY:Sport und Spaß Gymnastik für Frauen (26-B50032) 
LOCATION:Antoniushof Rurberg, Seeufer 5, 52152 Simmerath-Rurberg
END:VEVENT
BEGIN:VEVENT
DTSTAMP:20260424T230644
DTSTART;TZID=Europe/Berlin:20261102T180000
DTEND;TZID=Europe/Berlin:20261102T184500
UID:26-B50032-20261102T180000@BFODÜREN
SUMMARY:Sport und Spaß Gymnastik für Frauen (26-B50032) 
LOCATION:Antoniushof Rurberg, Seeufer 5, 52152 Simmerath-Rurberg
END:VEVENT
BEGIN:VEVENT
DTSTAMP:20260424T230644
DTSTART;TZID=Europe/Berlin:20261109T180000
DTEND;TZID=Europe/Berlin:20261109T184500
UID:26-B50032-20261109T180000@BFODÜREN
SUMMARY:Sport und Spaß Gymnastik für Frauen (26-B50032) 
LOCATION:Antoniushof Rurberg, Seeufer 5, 52152 Simmerath-Rurberg
END:VEVENT
BEGIN:VEVENT
DTSTAMP:20260424T230644
DTSTART;TZID=Europe/Berlin:20261116T180000
DTEND;TZID=Europe/Berlin:20261116T184500
UID:26-B50032-20261116T180000@BFODÜREN
SUMMARY:Sport und Spaß Gymnastik für Frauen (26-B50032) 
LOCATION:Antoniushof Rurberg, Seeufer 5, 52152 Simmerath-Rurberg
END:VEVENT
BEGIN:VEVENT
DTSTAMP:20260424T230644
DTSTART;TZID=Europe/Berlin:20261123T180000
DTEND;TZID=Europe/Berlin:20261123T184500
UID:26-B50032-20261123T180000@BFODÜREN
SUMMARY:Sport und Spaß Gymnastik für Frauen (26-B50032) 
LOCATION:Antoniushof Rurberg, Seeufer 5, 52152 Simmerath-Rurberg
END:VEVENT
BEGIN:VEVENT
DTSTAMP:20260424T230644
DTSTART;TZID=Europe/Berlin:20261130T180000
DTEND;TZID=Europe/Berlin:20261130T184500
UID:26-B50032-20261130T180000@BFODÜREN
SUMMARY:Sport und Spaß Gymnastik für Frauen (26-B50032) 
LOCATION:Antoniushof Rurberg, Seeufer 5, 52152 Simmerath-Rurberg
END:VEVENT
BEGIN:VEVENT
DTSTAMP:20260424T230644
DTSTART;TZID=Europe/Berlin:20261207T180000
DTEND;TZID=Europe/Berlin:20261207T184500
UID:26-B50032-20261207T180000@BFODÜREN
SUMMARY:Sport und Spaß Gymnastik für Frauen (26-B50032) 
LOCATION:Antoniushof Rurberg, Seeufer 5, 52152 Simmerath-Rurberg
END:VEVENT
BEGIN:VEVENT
DTSTAMP:20260424T230644
DTSTART;TZID=Europe/Berlin:20261214T180000
DTEND;TZID=Europe/Berlin:20261214T184500
UID:26-B50032-20261214T180000@BFODÜREN
SUMMARY:Sport und Spaß Gymnastik für Frauen (26-B50032) 
LOCATION:Antoniushof Rurberg, Seeufer 5, 52152 Simmerath-Rurberg
END:VEVENT
END:VCALENDAR