BEGIN:VCALENDAR
VERSION:2.0
PRODID:https://www.kufer.de/kuferweb / DE
METHOD:PUBLISH
CALSCALE:GREGORIAN
X-WR-TIMEZONE:Europe/Berlin
BEGIN:VTIMEZONE
TZID:Europe/Berlin
X-LIC-LOCATION:Europe/Berlin
BEGIN:DAYLIGHT
TZOFFSETFROM:+0100
TZOFFSETTO:+0200
TZNAME:CEST
DTSTART:19700329T020000
RRULE:FREQ=YEARLY;INTERVAL=1;BYDAY=-1SU;BYMONTH=3
END:DAYLIGHT
BEGIN:STANDARD
TZOFFSETFROM:+0200
TZOFFSETTO:+0100
TZNAME:CET
DTSTART:19701025T030000
RRULE:FREQ=YEARLY;INTERVAL=1;BYDAY=-1SU;BYMONTH=10
END:STANDARD
END:VTIMEZONE
BEGIN:VEVENT
DTSTAMP:20260424T225848
DTSTART;TZID=Europe/Berlin:20260901T200000
DTEND;TZID=Europe/Berlin:20260901T210000
UID:26-B50052-20260901T200000@BFODÜREN
SUMMARY:Sport und Spaß Gymnastik für Frauen und Männer (26-B50052) 
LOCATION:Kath. Pfarrheim Lammersdorf, Kirchstraße 32, 52152 Lammersdorf
END:VEVENT
BEGIN:VEVENT
DTSTAMP:20260424T225848
DTSTART;TZID=Europe/Berlin:20260908T200000
DTEND;TZID=Europe/Berlin:20260908T210000
UID:26-B50052-20260908T200000@BFODÜREN
SUMMARY:Sport und Spaß Gymnastik für Frauen und Männer (26-B50052) 
LOCATION:Kath. Pfarrheim Lammersdorf, Kirchstraße 32, 52152 Lammersdorf
END:VEVENT
BEGIN:VEVENT
DTSTAMP:20260424T225848
DTSTART;TZID=Europe/Berlin:20260915T200000
DTEND;TZID=Europe/Berlin:20260915T210000
UID:26-B50052-20260915T200000@BFODÜREN
SUMMARY:Sport und Spaß Gymnastik für Frauen und Männer (26-B50052) 
LOCATION:Kath. Pfarrheim Lammersdorf, Kirchstraße 32, 52152 Lammersdorf
END:VEVENT
BEGIN:VEVENT
DTSTAMP:20260424T225848
DTSTART;TZID=Europe/Berlin:20260922T200000
DTEND;TZID=Europe/Berlin:20260922T210000
UID:26-B50052-20260922T200000@BFODÜREN
SUMMARY:Sport und Spaß Gymnastik für Frauen und Männer (26-B50052) 
LOCATION:Kath. Pfarrheim Lammersdorf, Kirchstraße 32, 52152 Lammersdorf
END:VEVENT
BEGIN:VEVENT
DTSTAMP:20260424T225848
DTSTART;TZID=Europe/Berlin:20260929T200000
DTEND;TZID=Europe/Berlin:20260929T210000
UID:26-B50052-20260929T200000@BFODÜREN
SUMMARY:Sport und Spaß Gymnastik für Frauen und Männer (26-B50052) 
LOCATION:Kath. Pfarrheim Lammersdorf, Kirchstraße 32, 52152 Lammersdorf
END:VEVENT
BEGIN:VEVENT
DTSTAMP:20260424T225848
DTSTART;TZID=Europe/Berlin:20261006T200000
DTEND;TZID=Europe/Berlin:20261006T210000
UID:26-B50052-20261006T200000@BFODÜREN
SUMMARY:Sport und Spaß Gymnastik für Frauen und Männer (26-B50052) 
LOCATION:Kath. Pfarrheim Lammersdorf, Kirchstraße 32, 52152 Lammersdorf
END:VEVENT
BEGIN:VEVENT
DTSTAMP:20260424T225848
DTSTART;TZID=Europe/Berlin:20261013T200000
DTEND;TZID=Europe/Berlin:20261013T210000
UID:26-B50052-20261013T200000@BFODÜREN
SUMMARY:Sport und Spaß Gymnastik für Frauen und Männer (26-B50052) 
LOCATION:Kath. Pfarrheim Lammersdorf, Kirchstraße 32, 52152 Lammersdorf
END:VEVENT
BEGIN:VEVENT
DTSTAMP:20260424T225848
DTSTART;TZID=Europe/Berlin:20261103T200000
DTEND;TZID=Europe/Berlin:20261103T210000
UID:26-B50052-20261103T200000@BFODÜREN
SUMMARY:Sport und Spaß Gymnastik für Frauen und Männer (26-B50052) 
LOCATION:Kath. Pfarrheim Lammersdorf, Kirchstraße 32, 52152 Lammersdorf
END:VEVENT
BEGIN:VEVENT
DTSTAMP:20260424T225848
DTSTART;TZID=Europe/Berlin:20261110T200000
DTEND;TZID=Europe/Berlin:20261110T210000
UID:26-B50052-20261110T200000@BFODÜREN
SUMMARY:Sport und Spaß Gymnastik für Frauen und Männer (26-B50052) 
LOCATION:Kath. Pfarrheim Lammersdorf, Kirchstraße 32, 52152 Lammersdorf
END:VEVENT
BEGIN:VEVENT
DTSTAMP:20260424T225848
DTSTART;TZID=Europe/Berlin:20261117T200000
DTEND;TZID=Europe/Berlin:20261117T210000
UID:26-B50052-20261117T200000@BFODÜREN
SUMMARY:Sport und Spaß Gymnastik für Frauen und Männer (26-B50052) 
LOCATION:Kath. Pfarrheim Lammersdorf, Kirchstraße 32, 52152 Lammersdorf
END:VEVENT
BEGIN:VEVENT
DTSTAMP:20260424T225848
DTSTART;TZID=Europe/Berlin:20261124T200000
DTEND;TZID=Europe/Berlin:20261124T210000
UID:26-B50052-20261124T200000@BFODÜREN
SUMMARY:Sport und Spaß Gymnastik für Frauen und Männer (26-B50052) 
LOCATION:Kath. Pfarrheim Lammersdorf, Kirchstraße 32, 52152 Lammersdorf
END:VEVENT
BEGIN:VEVENT
DTSTAMP:20260424T225848
DTSTART;TZID=Europe/Berlin:20261201T200000
DTEND;TZID=Europe/Berlin:20261201T210000
UID:26-B50052-20261201T200000@BFODÜREN
SUMMARY:Sport und Spaß Gymnastik für Frauen und Männer (26-B50052) 
LOCATION:Kath. Pfarrheim Lammersdorf, Kirchstraße 32, 52152 Lammersdorf
END:VEVENT
BEGIN:VEVENT
DTSTAMP:20260424T225848
DTSTART;TZID=Europe/Berlin:20261208T200000
DTEND;TZID=Europe/Berlin:20261208T210000
UID:26-B50052-20261208T200000@BFODÜREN
SUMMARY:Sport und Spaß Gymnastik für Frauen und Männer (26-B50052) 
LOCATION:Kath. Pfarrheim Lammersdorf, Kirchstraße 32, 52152 Lammersdorf
END:VEVENT
BEGIN:VEVENT
DTSTAMP:20260424T225848
DTSTART;TZID=Europe/Berlin:20261215T200000
DTEND;TZID=Europe/Berlin:20261215T210000
UID:26-B50052-20261215T200000@BFODÜREN
SUMMARY:Sport und Spaß Gymnastik für Frauen und Männer (26-B50052) 
LOCATION:Kath. Pfarrheim Lammersdorf, Kirchstraße 32, 52152 Lammersdorf
END:VEVENT
END:VCALENDAR