BEGIN:VCALENDAR
VERSION:2.0
PRODID:https://www.kufer.de/kuferweb / DE
METHOD:PUBLISH
CALSCALE:GREGORIAN
X-WR-TIMEZONE:Europe/Berlin
BEGIN:VTIMEZONE
TZID:Europe/Berlin
X-LIC-LOCATION:Europe/Berlin
BEGIN:DAYLIGHT
TZOFFSETFROM:+0100
TZOFFSETTO:+0200
TZNAME:CEST
DTSTART:19700329T020000
RRULE:FREQ=YEARLY;INTERVAL=1;BYDAY=-1SU;BYMONTH=3
END:DAYLIGHT
BEGIN:STANDARD
TZOFFSETFROM:+0200
TZOFFSETTO:+0100
TZNAME:CET
DTSTART:19701025T030000
RRULE:FREQ=YEARLY;INTERVAL=1;BYDAY=-1SU;BYMONTH=10
END:STANDARD
END:VTIMEZONE
BEGIN:VEVENT
DTSTAMP:20260425T001910
DTSTART;TZID=Europe/Berlin:20260909T093000
DTEND;TZID=Europe/Berlin:20260909T103000
UID:26-B50082-20260909T093000@BFODÜREN
SUMMARY:Fitness-Gymnastik (26-B50082) 
LOCATION:Pfarrheim Imgenbroich, Schulstraße 6, 52156 Monschau
END:VEVENT
BEGIN:VEVENT
DTSTAMP:20260425T001910
DTSTART;TZID=Europe/Berlin:20260916T093000
DTEND;TZID=Europe/Berlin:20260916T103000
UID:26-B50082-20260916T093000@BFODÜREN
SUMMARY:Fitness-Gymnastik (26-B50082) 
LOCATION:Pfarrheim Imgenbroich, Schulstraße 6, 52156 Monschau
END:VEVENT
BEGIN:VEVENT
DTSTAMP:20260425T001910
DTSTART;TZID=Europe/Berlin:20260923T093000
DTEND;TZID=Europe/Berlin:20260923T103000
UID:26-B50082-20260923T093000@BFODÜREN
SUMMARY:Fitness-Gymnastik (26-B50082) 
LOCATION:Pfarrheim Imgenbroich, Schulstraße 6, 52156 Monschau
END:VEVENT
BEGIN:VEVENT
DTSTAMP:20260425T001910
DTSTART;TZID=Europe/Berlin:20260930T093000
DTEND;TZID=Europe/Berlin:20260930T103000
UID:26-B50082-20260930T093000@BFODÜREN
SUMMARY:Fitness-Gymnastik (26-B50082) 
LOCATION:Pfarrheim Imgenbroich, Schulstraße 6, 52156 Monschau
END:VEVENT
BEGIN:VEVENT
DTSTAMP:20260425T001910
DTSTART;TZID=Europe/Berlin:20261007T093000
DTEND;TZID=Europe/Berlin:20261007T103000
UID:26-B50082-20261007T093000@BFODÜREN
SUMMARY:Fitness-Gymnastik (26-B50082) 
LOCATION:Pfarrheim Imgenbroich, Schulstraße 6, 52156 Monschau
END:VEVENT
BEGIN:VEVENT
DTSTAMP:20260425T001910
DTSTART;TZID=Europe/Berlin:20261014T093000
DTEND;TZID=Europe/Berlin:20261014T103000
UID:26-B50082-20261014T093000@BFODÜREN
SUMMARY:Fitness-Gymnastik (26-B50082) 
LOCATION:Pfarrheim Imgenbroich, Schulstraße 6, 52156 Monschau
END:VEVENT
BEGIN:VEVENT
DTSTAMP:20260425T001910
DTSTART;TZID=Europe/Berlin:20261104T093000
DTEND;TZID=Europe/Berlin:20261104T103000
UID:26-B50082-20261104T093000@BFODÜREN
SUMMARY:Fitness-Gymnastik (26-B50082) 
LOCATION:Pfarrheim Imgenbroich, Schulstraße 6, 52156 Monschau
END:VEVENT
BEGIN:VEVENT
DTSTAMP:20260425T001910
DTSTART;TZID=Europe/Berlin:20261111T093000
DTEND;TZID=Europe/Berlin:20261111T103000
UID:26-B50082-20261111T093000@BFODÜREN
SUMMARY:Fitness-Gymnastik (26-B50082) 
LOCATION:Pfarrheim Imgenbroich, Schulstraße 6, 52156 Monschau
END:VEVENT
BEGIN:VEVENT
DTSTAMP:20260425T001910
DTSTART;TZID=Europe/Berlin:20261118T093000
DTEND;TZID=Europe/Berlin:20261118T103000
UID:26-B50082-20261118T093000@BFODÜREN
SUMMARY:Fitness-Gymnastik (26-B50082) 
LOCATION:Pfarrheim Imgenbroich, Schulstraße 6, 52156 Monschau
END:VEVENT
BEGIN:VEVENT
DTSTAMP:20260425T001910
DTSTART;TZID=Europe/Berlin:20261125T093000
DTEND;TZID=Europe/Berlin:20261125T103000
UID:26-B50082-20261125T093000@BFODÜREN
SUMMARY:Fitness-Gymnastik (26-B50082) 
LOCATION:Pfarrheim Imgenbroich, Schulstraße 6, 52156 Monschau
END:VEVENT
BEGIN:VEVENT
DTSTAMP:20260425T001910
DTSTART;TZID=Europe/Berlin:20261202T093000
DTEND;TZID=Europe/Berlin:20261202T103000
UID:26-B50082-20261202T093000@BFODÜREN
SUMMARY:Fitness-Gymnastik (26-B50082) 
LOCATION:Pfarrheim Imgenbroich, Schulstraße 6, 52156 Monschau
END:VEVENT
END:VCALENDAR