BEGIN:VCALENDAR
VERSION:2.0
PRODID:https://www.kufer.de/kuferweb / DE
METHOD:PUBLISH
CALSCALE:GREGORIAN
X-WR-TIMEZONE:Europe/Berlin
BEGIN:VTIMEZONE
TZID:Europe/Berlin
X-LIC-LOCATION:Europe/Berlin
BEGIN:DAYLIGHT
TZOFFSETFROM:+0100
TZOFFSETTO:+0200
TZNAME:CEST
DTSTART:19700329T020000
RRULE:FREQ=YEARLY;INTERVAL=1;BYDAY=-1SU;BYMONTH=3
END:DAYLIGHT
BEGIN:STANDARD
TZOFFSETFROM:+0200
TZOFFSETTO:+0100
TZNAME:CET
DTSTART:19701025T030000
RRULE:FREQ=YEARLY;INTERVAL=1;BYDAY=-1SU;BYMONTH=10
END:STANDARD
END:VTIMEZONE
BEGIN:VEVENT
DTSTAMP:20260425T001939
DTSTART;TZID=Europe/Berlin:20260909T083000
DTEND;TZID=Europe/Berlin:20260909T093000
UID:26-B50092-20260909T083000@BFODÜREN
SUMMARY:Fitness-Gymnastik (26-B50092) 
LOCATION:Pfarrheim Imgenbroich, Schulstraße 6, 52156 Monschau
END:VEVENT
BEGIN:VEVENT
DTSTAMP:20260425T001939
DTSTART;TZID=Europe/Berlin:20260916T083000
DTEND;TZID=Europe/Berlin:20260916T093000
UID:26-B50092-20260916T083000@BFODÜREN
SUMMARY:Fitness-Gymnastik (26-B50092) 
LOCATION:Pfarrheim Imgenbroich, Schulstraße 6, 52156 Monschau
END:VEVENT
BEGIN:VEVENT
DTSTAMP:20260425T001939
DTSTART;TZID=Europe/Berlin:20260923T083000
DTEND;TZID=Europe/Berlin:20260923T093000
UID:26-B50092-20260923T083000@BFODÜREN
SUMMARY:Fitness-Gymnastik (26-B50092) 
LOCATION:Pfarrheim Imgenbroich, Schulstraße 6, 52156 Monschau
END:VEVENT
BEGIN:VEVENT
DTSTAMP:20260425T001939
DTSTART;TZID=Europe/Berlin:20260930T083000
DTEND;TZID=Europe/Berlin:20260930T093000
UID:26-B50092-20260930T083000@BFODÜREN
SUMMARY:Fitness-Gymnastik (26-B50092) 
LOCATION:Pfarrheim Imgenbroich, Schulstraße 6, 52156 Monschau
END:VEVENT
BEGIN:VEVENT
DTSTAMP:20260425T001939
DTSTART;TZID=Europe/Berlin:20261007T083000
DTEND;TZID=Europe/Berlin:20261007T093000
UID:26-B50092-20261007T083000@BFODÜREN
SUMMARY:Fitness-Gymnastik (26-B50092) 
LOCATION:Pfarrheim Imgenbroich, Schulstraße 6, 52156 Monschau
END:VEVENT
BEGIN:VEVENT
DTSTAMP:20260425T001939
DTSTART;TZID=Europe/Berlin:20261014T083000
DTEND;TZID=Europe/Berlin:20261014T093000
UID:26-B50092-20261014T083000@BFODÜREN
SUMMARY:Fitness-Gymnastik (26-B50092) 
LOCATION:Pfarrheim Imgenbroich, Schulstraße 6, 52156 Monschau
END:VEVENT
BEGIN:VEVENT
DTSTAMP:20260425T001939
DTSTART;TZID=Europe/Berlin:20261104T083000
DTEND;TZID=Europe/Berlin:20261104T093000
UID:26-B50092-20261104T083000@BFODÜREN
SUMMARY:Fitness-Gymnastik (26-B50092) 
LOCATION:Pfarrheim Imgenbroich, Schulstraße 6, 52156 Monschau
END:VEVENT
BEGIN:VEVENT
DTSTAMP:20260425T001939
DTSTART;TZID=Europe/Berlin:20261111T083000
DTEND;TZID=Europe/Berlin:20261111T093000
UID:26-B50092-20261111T083000@BFODÜREN
SUMMARY:Fitness-Gymnastik (26-B50092) 
LOCATION:Pfarrheim Imgenbroich, Schulstraße 6, 52156 Monschau
END:VEVENT
BEGIN:VEVENT
DTSTAMP:20260425T001939
DTSTART;TZID=Europe/Berlin:20261118T083000
DTEND;TZID=Europe/Berlin:20261118T093000
UID:26-B50092-20261118T083000@BFODÜREN
SUMMARY:Fitness-Gymnastik (26-B50092) 
LOCATION:Pfarrheim Imgenbroich, Schulstraße 6, 52156 Monschau
END:VEVENT
BEGIN:VEVENT
DTSTAMP:20260425T001939
DTSTART;TZID=Europe/Berlin:20261125T083000
DTEND;TZID=Europe/Berlin:20261125T093000
UID:26-B50092-20261125T083000@BFODÜREN
SUMMARY:Fitness-Gymnastik (26-B50092) 
LOCATION:Pfarrheim Imgenbroich, Schulstraße 6, 52156 Monschau
END:VEVENT
BEGIN:VEVENT
DTSTAMP:20260425T001939
DTSTART;TZID=Europe/Berlin:20261202T083000
DTEND;TZID=Europe/Berlin:20261202T093000
UID:26-B50092-20261202T083000@BFODÜREN
SUMMARY:Fitness-Gymnastik (26-B50092) 
LOCATION:Pfarrheim Imgenbroich, Schulstraße 6, 52156 Monschau
END:VEVENT
END:VCALENDAR