BEGIN:VCALENDAR
VERSION:2.0
PRODID:https://www.kufer.de/kuferweb / DE
METHOD:PUBLISH
CALSCALE:GREGORIAN
X-WR-TIMEZONE:Europe/Berlin
BEGIN:VTIMEZONE
TZID:Europe/Berlin
X-LIC-LOCATION:Europe/Berlin
BEGIN:DAYLIGHT
TZOFFSETFROM:+0100
TZOFFSETTO:+0200
TZNAME:CEST
DTSTART:19700329T020000
RRULE:FREQ=YEARLY;INTERVAL=1;BYDAY=-1SU;BYMONTH=3
END:DAYLIGHT
BEGIN:STANDARD
TZOFFSETFROM:+0200
TZOFFSETTO:+0100
TZNAME:CET
DTSTART:19701025T030000
RRULE:FREQ=YEARLY;INTERVAL=1;BYDAY=-1SU;BYMONTH=10
END:STANDARD
END:VTIMEZONE
BEGIN:VEVENT
DTSTAMP:20260425T013858
DTSTART;TZID=Europe/Berlin:20260908T090000
DTEND;TZID=Europe/Berlin:20260908T100000
UID:26-B50102-20260908T090000@BFODÜREN
SUMMARY:Fitness-Gymnastik (26-B50102) 
LOCATION:Pfarrheim Imgenbroich, Schulstraße 6, 52156 Monschau
END:VEVENT
BEGIN:VEVENT
DTSTAMP:20260425T013858
DTSTART;TZID=Europe/Berlin:20260915T090000
DTEND;TZID=Europe/Berlin:20260915T100000
UID:26-B50102-20260915T090000@BFODÜREN
SUMMARY:Fitness-Gymnastik (26-B50102) 
LOCATION:Pfarrheim Imgenbroich, Schulstraße 6, 52156 Monschau
END:VEVENT
BEGIN:VEVENT
DTSTAMP:20260425T013858
DTSTART;TZID=Europe/Berlin:20260922T090000
DTEND;TZID=Europe/Berlin:20260922T100000
UID:26-B50102-20260922T090000@BFODÜREN
SUMMARY:Fitness-Gymnastik (26-B50102) 
LOCATION:Pfarrheim Imgenbroich, Schulstraße 6, 52156 Monschau
END:VEVENT
BEGIN:VEVENT
DTSTAMP:20260425T013858
DTSTART;TZID=Europe/Berlin:20260929T090000
DTEND;TZID=Europe/Berlin:20260929T100000
UID:26-B50102-20260929T090000@BFODÜREN
SUMMARY:Fitness-Gymnastik (26-B50102) 
LOCATION:Pfarrheim Imgenbroich, Schulstraße 6, 52156 Monschau
END:VEVENT
BEGIN:VEVENT
DTSTAMP:20260425T013858
DTSTART;TZID=Europe/Berlin:20261006T090000
DTEND;TZID=Europe/Berlin:20261006T100000
UID:26-B50102-20261006T090000@BFODÜREN
SUMMARY:Fitness-Gymnastik (26-B50102) 
LOCATION:Pfarrheim Imgenbroich, Schulstraße 6, 52156 Monschau
END:VEVENT
BEGIN:VEVENT
DTSTAMP:20260425T013858
DTSTART;TZID=Europe/Berlin:20261013T090000
DTEND;TZID=Europe/Berlin:20261013T100000
UID:26-B50102-20261013T090000@BFODÜREN
SUMMARY:Fitness-Gymnastik (26-B50102) 
LOCATION:Pfarrheim Imgenbroich, Schulstraße 6, 52156 Monschau
END:VEVENT
BEGIN:VEVENT
DTSTAMP:20260425T013858
DTSTART;TZID=Europe/Berlin:20261103T090000
DTEND;TZID=Europe/Berlin:20261103T100000
UID:26-B50102-20261103T090000@BFODÜREN
SUMMARY:Fitness-Gymnastik (26-B50102) 
LOCATION:Pfarrheim Imgenbroich, Schulstraße 6, 52156 Monschau
END:VEVENT
BEGIN:VEVENT
DTSTAMP:20260425T013858
DTSTART;TZID=Europe/Berlin:20261110T090000
DTEND;TZID=Europe/Berlin:20261110T100000
UID:26-B50102-20261110T090000@BFODÜREN
SUMMARY:Fitness-Gymnastik (26-B50102) 
LOCATION:Pfarrheim Imgenbroich, Schulstraße 6, 52156 Monschau
END:VEVENT
BEGIN:VEVENT
DTSTAMP:20260425T013858
DTSTART;TZID=Europe/Berlin:20261117T090000
DTEND;TZID=Europe/Berlin:20261117T100000
UID:26-B50102-20261117T090000@BFODÜREN
SUMMARY:Fitness-Gymnastik (26-B50102) 
LOCATION:Pfarrheim Imgenbroich, Schulstraße 6, 52156 Monschau
END:VEVENT
BEGIN:VEVENT
DTSTAMP:20260425T013858
DTSTART;TZID=Europe/Berlin:20261124T090000
DTEND;TZID=Europe/Berlin:20261124T100000
UID:26-B50102-20261124T090000@BFODÜREN
SUMMARY:Fitness-Gymnastik (26-B50102) 
LOCATION:Pfarrheim Imgenbroich, Schulstraße 6, 52156 Monschau
END:VEVENT
BEGIN:VEVENT
DTSTAMP:20260425T013858
DTSTART;TZID=Europe/Berlin:20261201T090000
DTEND;TZID=Europe/Berlin:20261201T100000
UID:26-B50102-20261201T090000@BFODÜREN
SUMMARY:Fitness-Gymnastik (26-B50102) 
LOCATION:Pfarrheim Imgenbroich, Schulstraße 6, 52156 Monschau
END:VEVENT
END:VCALENDAR