BEGIN:VCALENDAR
VERSION:2.0
PRODID:https://www.kufer.de/kuferweb / DE
METHOD:PUBLISH
CALSCALE:GREGORIAN
X-WR-TIMEZONE:Europe/Berlin
BEGIN:VTIMEZONE
TZID:Europe/Berlin
X-LIC-LOCATION:Europe/Berlin
BEGIN:DAYLIGHT
TZOFFSETFROM:+0100
TZOFFSETTO:+0200
TZNAME:CEST
DTSTART:19700329T020000
RRULE:FREQ=YEARLY;INTERVAL=1;BYDAY=-1SU;BYMONTH=3
END:DAYLIGHT
BEGIN:STANDARD
TZOFFSETFROM:+0200
TZOFFSETTO:+0100
TZNAME:CET
DTSTART:19701025T030000
RRULE:FREQ=YEARLY;INTERVAL=1;BYDAY=-1SU;BYMONTH=10
END:STANDARD
END:VTIMEZONE
BEGIN:VEVENT
DTSTAMP:20260425T043839
DTSTART;TZID=Europe/Berlin:20260917T180000
DTEND;TZID=Europe/Berlin:20260917T210000
UID:26-B62022-20260917T180000@BFODÜREN
SUMMARY:Nähkurs am Abend; Wir nähen alles, was uns Spaß macht. (26-B62022) 
LOCATION:Kath. Pfarrheim Simmerath, Kirchplatz, 52152 Simmerath
END:VEVENT
BEGIN:VEVENT
DTSTAMP:20260425T043839
DTSTART;TZID=Europe/Berlin:20260924T180000
DTEND;TZID=Europe/Berlin:20260924T210000
UID:26-B62022-20260924T180000@BFODÜREN
SUMMARY:Nähkurs am Abend; Wir nähen alles, was uns Spaß macht. (26-B62022) 
LOCATION:Kath. Pfarrheim Simmerath, Kirchplatz, 52152 Simmerath
END:VEVENT
BEGIN:VEVENT
DTSTAMP:20260425T043839
DTSTART;TZID=Europe/Berlin:20261008T180000
DTEND;TZID=Europe/Berlin:20261008T210000
UID:26-B62022-20261008T180000@BFODÜREN
SUMMARY:Nähkurs am Abend; Wir nähen alles, was uns Spaß macht. (26-B62022) 
LOCATION:Kath. Pfarrheim Simmerath, Kirchplatz, 52152 Simmerath
END:VEVENT
BEGIN:VEVENT
DTSTAMP:20260425T043839
DTSTART;TZID=Europe/Berlin:20261015T180000
DTEND;TZID=Europe/Berlin:20261015T210000
UID:26-B62022-20261015T180000@BFODÜREN
SUMMARY:Nähkurs am Abend; Wir nähen alles, was uns Spaß macht. (26-B62022) 
LOCATION:Kath. Pfarrheim Simmerath, Kirchplatz, 52152 Simmerath
END:VEVENT
BEGIN:VEVENT
DTSTAMP:20260425T043839
DTSTART;TZID=Europe/Berlin:20261105T180000
DTEND;TZID=Europe/Berlin:20261105T210000
UID:26-B62022-20261105T180000@BFODÜREN
SUMMARY:Nähkurs am Abend; Wir nähen alles, was uns Spaß macht. (26-B62022) 
LOCATION:Kath. Pfarrheim Simmerath, Kirchplatz, 52152 Simmerath
END:VEVENT
BEGIN:VEVENT
DTSTAMP:20260425T043839
DTSTART;TZID=Europe/Berlin:20261112T180000
DTEND;TZID=Europe/Berlin:20261112T210000
UID:26-B62022-20261112T180000@BFODÜREN
SUMMARY:Nähkurs am Abend; Wir nähen alles, was uns Spaß macht. (26-B62022) 
LOCATION:Kath. Pfarrheim Simmerath, Kirchplatz, 52152 Simmerath
END:VEVENT
BEGIN:VEVENT
DTSTAMP:20260425T043839
DTSTART;TZID=Europe/Berlin:20261119T180000
DTEND;TZID=Europe/Berlin:20261119T210000
UID:26-B62022-20261119T180000@BFODÜREN
SUMMARY:Nähkurs am Abend; Wir nähen alles, was uns Spaß macht. (26-B62022) 
LOCATION:Kath. Pfarrheim Simmerath, Kirchplatz, 52152 Simmerath
END:VEVENT
BEGIN:VEVENT
DTSTAMP:20260425T043839
DTSTART;TZID=Europe/Berlin:20261126T180000
DTEND;TZID=Europe/Berlin:20261126T210000
UID:26-B62022-20261126T180000@BFODÜREN
SUMMARY:Nähkurs am Abend; Wir nähen alles, was uns Spaß macht. (26-B62022) 
LOCATION:Kath. Pfarrheim Simmerath, Kirchplatz, 52152 Simmerath
END:VEVENT
END:VCALENDAR