BEGIN:VCALENDAR
VERSION:2.0
PRODID:https://www.kufer.de/kuferweb / DE
METHOD:PUBLISH
CALSCALE:GREGORIAN
X-WR-TIMEZONE:Europe/Berlin
BEGIN:VTIMEZONE
TZID:Europe/Berlin
X-LIC-LOCATION:Europe/Berlin
BEGIN:DAYLIGHT
TZOFFSETFROM:+0100
TZOFFSETTO:+0200
TZNAME:CEST
DTSTART:19700329T020000
RRULE:FREQ=YEARLY;INTERVAL=1;BYDAY=-1SU;BYMONTH=3
END:DAYLIGHT
BEGIN:STANDARD
TZOFFSETFROM:+0200
TZOFFSETTO:+0100
TZNAME:CET
DTSTART:19701025T030000
RRULE:FREQ=YEARLY;INTERVAL=1;BYDAY=-1SU;BYMONTH=10
END:STANDARD
END:VTIMEZONE
BEGIN:VEVENT
DTSTAMP:20260425T031004
DTSTART;TZID=Europe/Berlin:20260916T084500
DTEND;TZID=Europe/Berlin:20260916T114500
UID:26-B62042-20260916T084500@BFODÜREN
SUMMARY:Nähkurs  wir nähen alles, was uns Spaß macht. (26-B62042) 
LOCATION:Kath. Pfarrheim Lammersdorf, Kirchstraße 32, 52152 Lammersdorf
END:VEVENT
BEGIN:VEVENT
DTSTAMP:20260425T031004
DTSTART;TZID=Europe/Berlin:20260923T084500
DTEND;TZID=Europe/Berlin:20260923T114500
UID:26-B62042-20260923T084500@BFODÜREN
SUMMARY:Nähkurs  wir nähen alles, was uns Spaß macht. (26-B62042) 
LOCATION:Kath. Pfarrheim Lammersdorf, Kirchstraße 32, 52152 Lammersdorf
END:VEVENT
BEGIN:VEVENT
DTSTAMP:20260425T031004
DTSTART;TZID=Europe/Berlin:20261007T084500
DTEND;TZID=Europe/Berlin:20261007T114500
UID:26-B62042-20261007T084500@BFODÜREN
SUMMARY:Nähkurs  wir nähen alles, was uns Spaß macht. (26-B62042) 
LOCATION:Kath. Pfarrheim Lammersdorf, Kirchstraße 32, 52152 Lammersdorf
END:VEVENT
BEGIN:VEVENT
DTSTAMP:20260425T031004
DTSTART;TZID=Europe/Berlin:20261014T084500
DTEND;TZID=Europe/Berlin:20261014T114500
UID:26-B62042-20261014T084500@BFODÜREN
SUMMARY:Nähkurs  wir nähen alles, was uns Spaß macht. (26-B62042) 
LOCATION:Kath. Pfarrheim Lammersdorf, Kirchstraße 32, 52152 Lammersdorf
END:VEVENT
BEGIN:VEVENT
DTSTAMP:20260425T031004
DTSTART;TZID=Europe/Berlin:20261104T084500
DTEND;TZID=Europe/Berlin:20261104T114500
UID:26-B62042-20261104T084500@BFODÜREN
SUMMARY:Nähkurs  wir nähen alles, was uns Spaß macht. (26-B62042) 
LOCATION:Kath. Pfarrheim Lammersdorf, Kirchstraße 32, 52152 Lammersdorf
END:VEVENT
BEGIN:VEVENT
DTSTAMP:20260425T031004
DTSTART;TZID=Europe/Berlin:20261111T084500
DTEND;TZID=Europe/Berlin:20261111T114500
UID:26-B62042-20261111T084500@BFODÜREN
SUMMARY:Nähkurs  wir nähen alles, was uns Spaß macht. (26-B62042) 
LOCATION:Kath. Pfarrheim Lammersdorf, Kirchstraße 32, 52152 Lammersdorf
END:VEVENT
BEGIN:VEVENT
DTSTAMP:20260425T031004
DTSTART;TZID=Europe/Berlin:20261118T084500
DTEND;TZID=Europe/Berlin:20261118T114500
UID:26-B62042-20261118T084500@BFODÜREN
SUMMARY:Nähkurs  wir nähen alles, was uns Spaß macht. (26-B62042) 
LOCATION:Kath. Pfarrheim Lammersdorf, Kirchstraße 32, 52152 Lammersdorf
END:VEVENT
BEGIN:VEVENT
DTSTAMP:20260425T031004
DTSTART;TZID=Europe/Berlin:20261125T084500
DTEND;TZID=Europe/Berlin:20261125T114500
UID:26-B62042-20261125T084500@BFODÜREN
SUMMARY:Nähkurs  wir nähen alles, was uns Spaß macht. (26-B62042) 
LOCATION:Kath. Pfarrheim Lammersdorf, Kirchstraße 32, 52152 Lammersdorf
END:VEVENT
END:VCALENDAR