BEGIN:VCALENDAR
VERSION:2.0
PRODID:https://www.kufer.de/kuferweb / DE
METHOD:PUBLISH
CALSCALE:GREGORIAN
X-WR-TIMEZONE:Europe/Berlin
BEGIN:VTIMEZONE
TZID:Europe/Berlin
X-LIC-LOCATION:Europe/Berlin
BEGIN:DAYLIGHT
TZOFFSETFROM:+0100
TZOFFSETTO:+0200
TZNAME:CEST
DTSTART:19700329T020000
RRULE:FREQ=YEARLY;INTERVAL=1;BYDAY=-1SU;BYMONTH=3
END:DAYLIGHT
BEGIN:STANDARD
TZOFFSETFROM:+0200
TZOFFSETTO:+0100
TZNAME:CET
DTSTART:19701025T030000
RRULE:FREQ=YEARLY;INTERVAL=1;BYDAY=-1SU;BYMONTH=10
END:STANDARD
END:VTIMEZONE
BEGIN:VEVENT
DTSTAMP:20260424T190206
DTSTART;TZID=Europe/Berlin:20260113T142000
DTEND;TZID=Europe/Berlin:20260113T155000
UID:26-F22081-20260113T142000@BFODÜREN
SUMMARY:Eltern-Kind-Treff für Kinder von 0 bis 5 Jahre (26-F22081) 
LOCATION:Familienzentrum Maria Goretti in Nideggen, Bahnhofstrasse 26, 52385 Nideggen
END:VEVENT
BEGIN:VEVENT
DTSTAMP:20260424T190206
DTSTART;TZID=Europe/Berlin:20260120T142000
DTEND;TZID=Europe/Berlin:20260120T155000
UID:26-F22081-20260120T142000@BFODÜREN
SUMMARY:Eltern-Kind-Treff für Kinder von 0 bis 5 Jahre (26-F22081) 
LOCATION:Familienzentrum Maria Goretti in Nideggen, Bahnhofstrasse 26, 52385 Nideggen
END:VEVENT
BEGIN:VEVENT
DTSTAMP:20260424T190206
DTSTART;TZID=Europe/Berlin:20260127T142000
DTEND;TZID=Europe/Berlin:20260127T155000
UID:26-F22081-20260127T142000@BFODÜREN
SUMMARY:Eltern-Kind-Treff für Kinder von 0 bis 5 Jahre (26-F22081) 
LOCATION:Familienzentrum Maria Goretti in Nideggen, Bahnhofstrasse 26, 52385 Nideggen
END:VEVENT
BEGIN:VEVENT
DTSTAMP:20260424T190206
DTSTART;TZID=Europe/Berlin:20260203T142000
DTEND;TZID=Europe/Berlin:20260203T155000
UID:26-F22081-20260203T142000@BFODÜREN
SUMMARY:Eltern-Kind-Treff für Kinder von 0 bis 5 Jahre (26-F22081) 
LOCATION:Familienzentrum Maria Goretti in Nideggen, Bahnhofstrasse 26, 52385 Nideggen
END:VEVENT
BEGIN:VEVENT
DTSTAMP:20260424T190206
DTSTART;TZID=Europe/Berlin:20260210T142000
DTEND;TZID=Europe/Berlin:20260210T155000
UID:26-F22081-20260210T142000@BFODÜREN
SUMMARY:Eltern-Kind-Treff für Kinder von 0 bis 5 Jahre (26-F22081) 
LOCATION:Familienzentrum Maria Goretti in Nideggen, Bahnhofstrasse 26, 52385 Nideggen
END:VEVENT
BEGIN:VEVENT
DTSTAMP:20260424T190206
DTSTART;TZID=Europe/Berlin:20260217T142000
DTEND;TZID=Europe/Berlin:20260217T155000
UID:26-F22081-20260217T142000@BFODÜREN
SUMMARY:Eltern-Kind-Treff für Kinder von 0 bis 5 Jahre (26-F22081) 
LOCATION:Familienzentrum Maria Goretti in Nideggen, Bahnhofstrasse 26, 52385 Nideggen
END:VEVENT
BEGIN:VEVENT
DTSTAMP:20260424T190206
DTSTART;TZID=Europe/Berlin:20260224T142000
DTEND;TZID=Europe/Berlin:20260224T155000
UID:26-F22081-20260224T142000@BFODÜREN
SUMMARY:Eltern-Kind-Treff für Kinder von 0 bis 5 Jahre (26-F22081) 
LOCATION:Familienzentrum Maria Goretti in Nideggen, Bahnhofstrasse 26, 52385 Nideggen
END:VEVENT
BEGIN:VEVENT
DTSTAMP:20260424T190206
DTSTART;TZID=Europe/Berlin:20260303T142000
DTEND;TZID=Europe/Berlin:20260303T155000
UID:26-F22081-20260303T142000@BFODÜREN
SUMMARY:Eltern-Kind-Treff für Kinder von 0 bis 5 Jahre (26-F22081) 
LOCATION:Familienzentrum Maria Goretti in Nideggen, Bahnhofstrasse 26, 52385 Nideggen
END:VEVENT
BEGIN:VEVENT
DTSTAMP:20260424T190206
DTSTART;TZID=Europe/Berlin:20260310T142000
DTEND;TZID=Europe/Berlin:20260310T155000
UID:26-F22081-20260310T142000@BFODÜREN
SUMMARY:Eltern-Kind-Treff für Kinder von 0 bis 5 Jahre (26-F22081) 
LOCATION:Familienzentrum Maria Goretti in Nideggen, Bahnhofstrasse 26, 52385 Nideggen
END:VEVENT
BEGIN:VEVENT
DTSTAMP:20260424T190206
DTSTART;TZID=Europe/Berlin:20260317T142000
DTEND;TZID=Europe/Berlin:20260317T155000
UID:26-F22081-20260317T142000@BFODÜREN
SUMMARY:Eltern-Kind-Treff für Kinder von 0 bis 5 Jahre (26-F22081) 
LOCATION:Familienzentrum Maria Goretti in Nideggen, Bahnhofstrasse 26, 52385 Nideggen
END:VEVENT
BEGIN:VEVENT
DTSTAMP:20260424T190206
DTSTART;TZID=Europe/Berlin:20260324T142000
DTEND;TZID=Europe/Berlin:20260324T155000
UID:26-F22081-20260324T142000@BFODÜREN
SUMMARY:Eltern-Kind-Treff für Kinder von 0 bis 5 Jahre (26-F22081) 
LOCATION:Familienzentrum Maria Goretti in Nideggen, Bahnhofstrasse 26, 52385 Nideggen
END:VEVENT
BEGIN:VEVENT
DTSTAMP:20260424T190206
DTSTART;TZID=Europe/Berlin:20260414T142000
DTEND;TZID=Europe/Berlin:20260414T155000
UID:26-F22081-20260414T142000@BFODÜREN
SUMMARY:Eltern-Kind-Treff für Kinder von 0 bis 5 Jahre (26-F22081) 
LOCATION:Familienzentrum Maria Goretti in Nideggen, Bahnhofstrasse 26, 52385 Nideggen
END:VEVENT
BEGIN:VEVENT
DTSTAMP:20260424T190206
DTSTART;TZID=Europe/Berlin:20260421T142000
DTEND;TZID=Europe/Berlin:20260421T155000
UID:26-F22081-20260421T142000@BFODÜREN
SUMMARY:Eltern-Kind-Treff für Kinder von 0 bis 5 Jahre (26-F22081) 
LOCATION:Familienzentrum Maria Goretti in Nideggen, Bahnhofstrasse 26, 52385 Nideggen
END:VEVENT
BEGIN:VEVENT
DTSTAMP:20260424T190206
DTSTART;TZID=Europe/Berlin:20260428T142000
DTEND;TZID=Europe/Berlin:20260428T155000
UID:26-F22081-20260428T142000@BFODÜREN
SUMMARY:Eltern-Kind-Treff für Kinder von 0 bis 5 Jahre (26-F22081) 
LOCATION:Familienzentrum Maria Goretti in Nideggen, Bahnhofstrasse 26, 52385 Nideggen
END:VEVENT
BEGIN:VEVENT
DTSTAMP:20260424T190206
DTSTART;TZID=Europe/Berlin:20260505T142000
DTEND;TZID=Europe/Berlin:20260505T155000
UID:26-F22081-20260505T142000@BFODÜREN
SUMMARY:Eltern-Kind-Treff für Kinder von 0 bis 5 Jahre (26-F22081) 
LOCATION:Familienzentrum Maria Goretti in Nideggen, Bahnhofstrasse 26, 52385 Nideggen
END:VEVENT
BEGIN:VEVENT
DTSTAMP:20260424T190206
DTSTART;TZID=Europe/Berlin:20260512T142000
DTEND;TZID=Europe/Berlin:20260512T155000
UID:26-F22081-20260512T142000@BFODÜREN
SUMMARY:Eltern-Kind-Treff für Kinder von 0 bis 5 Jahre (26-F22081) 
LOCATION:Familienzentrum Maria Goretti in Nideggen, Bahnhofstrasse 26, 52385 Nideggen
END:VEVENT
BEGIN:VEVENT
DTSTAMP:20260424T190206
DTSTART;TZID=Europe/Berlin:20260519T142000
DTEND;TZID=Europe/Berlin:20260519T155000
UID:26-F22081-20260519T142000@BFODÜREN
SUMMARY:Eltern-Kind-Treff für Kinder von 0 bis 5 Jahre (26-F22081) 
LOCATION:Familienzentrum Maria Goretti in Nideggen, Bahnhofstrasse 26, 52385 Nideggen
END:VEVENT
BEGIN:VEVENT
DTSTAMP:20260424T190206
DTSTART;TZID=Europe/Berlin:20260602T142000
DTEND;TZID=Europe/Berlin:20260602T155000
UID:26-F22081-20260602T142000@BFODÜREN
SUMMARY:Eltern-Kind-Treff für Kinder von 0 bis 5 Jahre (26-F22081) 
LOCATION:Familienzentrum Maria Goretti in Nideggen, Bahnhofstrasse 26, 52385 Nideggen
END:VEVENT
BEGIN:VEVENT
DTSTAMP:20260424T190206
DTSTART;TZID=Europe/Berlin:20260609T142000
DTEND;TZID=Europe/Berlin:20260609T155000
UID:26-F22081-20260609T142000@BFODÜREN
SUMMARY:Eltern-Kind-Treff für Kinder von 0 bis 5 Jahre (26-F22081) 
LOCATION:Familienzentrum Maria Goretti in Nideggen, Bahnhofstrasse 26, 52385 Nideggen
END:VEVENT
BEGIN:VEVENT
DTSTAMP:20260424T190206
DTSTART;TZID=Europe/Berlin:20260616T142000
DTEND;TZID=Europe/Berlin:20260616T155000
UID:26-F22081-20260616T142000@BFODÜREN
SUMMARY:Eltern-Kind-Treff für Kinder von 0 bis 5 Jahre (26-F22081) 
LOCATION:Familienzentrum Maria Goretti in Nideggen, Bahnhofstrasse 26, 52385 Nideggen
END:VEVENT
BEGIN:VEVENT
DTSTAMP:20260424T190206
DTSTART;TZID=Europe/Berlin:20260623T142000
DTEND;TZID=Europe/Berlin:20260623T155000
UID:26-F22081-20260623T142000@BFODÜREN
SUMMARY:Eltern-Kind-Treff für Kinder von 0 bis 5 Jahre (26-F22081) 
LOCATION:Familienzentrum Maria Goretti in Nideggen, Bahnhofstrasse 26, 52385 Nideggen
END:VEVENT
BEGIN:VEVENT
DTSTAMP:20260424T190206
DTSTART;TZID=Europe/Berlin:20260630T142000
DTEND;TZID=Europe/Berlin:20260630T155000
UID:26-F22081-20260630T142000@BFODÜREN
SUMMARY:Eltern-Kind-Treff für Kinder von 0 bis 5 Jahre (26-F22081) 
LOCATION:Familienzentrum Maria Goretti in Nideggen, Bahnhofstrasse 26, 52385 Nideggen
END:VEVENT
BEGIN:VEVENT
DTSTAMP:20260424T190206
DTSTART;TZID=Europe/Berlin:20260707T142000
DTEND;TZID=Europe/Berlin:20260707T155000
UID:26-F22081-20260707T142000@BFODÜREN
SUMMARY:Eltern-Kind-Treff für Kinder von 0 bis 5 Jahre (26-F22081) 
LOCATION:Familienzentrum Maria Goretti in Nideggen, Bahnhofstrasse 26, 52385 Nideggen
END:VEVENT
END:VCALENDAR