BEGIN:VCALENDAR
VERSION:2.0
PRODID:https://www.kufer.de/kuferweb / DE
METHOD:PUBLISH
CALSCALE:GREGORIAN
X-WR-TIMEZONE:Europe/Berlin
BEGIN:VTIMEZONE
TZID:Europe/Berlin
X-LIC-LOCATION:Europe/Berlin
BEGIN:DAYLIGHT
TZOFFSETFROM:+0100
TZOFFSETTO:+0200
TZNAME:CEST
DTSTART:19700329T020000
RRULE:FREQ=YEARLY;INTERVAL=1;BYDAY=-1SU;BYMONTH=3
END:DAYLIGHT
BEGIN:STANDARD
TZOFFSETFROM:+0200
TZOFFSETTO:+0100
TZNAME:CET
DTSTART:19701025T030000
RRULE:FREQ=YEARLY;INTERVAL=1;BYDAY=-1SU;BYMONTH=10
END:STANDARD
END:VTIMEZONE
BEGIN:VEVENT
DTSTAMP:20260425T032638
DTSTART;TZID=Europe/Berlin:20260908T142000
DTEND;TZID=Europe/Berlin:20260908T155000
UID:26-F22082-20260908T142000@BFODÜREN
SUMMARY:Eltern-Kind-Treff für Kinder von 0 bis 5 Jahre (26-F22082) 
LOCATION:Familienzentrum Maria Goretti in Nideggen, Bahnhofstrasse 26, 52385 Nideggen
END:VEVENT
BEGIN:VEVENT
DTSTAMP:20260425T032638
DTSTART;TZID=Europe/Berlin:20260915T142000
DTEND;TZID=Europe/Berlin:20260915T155000
UID:26-F22082-20260915T142000@BFODÜREN
SUMMARY:Eltern-Kind-Treff für Kinder von 0 bis 5 Jahre (26-F22082) 
LOCATION:Familienzentrum Maria Goretti in Nideggen, Bahnhofstrasse 26, 52385 Nideggen
END:VEVENT
BEGIN:VEVENT
DTSTAMP:20260425T032638
DTSTART;TZID=Europe/Berlin:20260922T142000
DTEND;TZID=Europe/Berlin:20260922T155000
UID:26-F22082-20260922T142000@BFODÜREN
SUMMARY:Eltern-Kind-Treff für Kinder von 0 bis 5 Jahre (26-F22082) 
LOCATION:Familienzentrum Maria Goretti in Nideggen, Bahnhofstrasse 26, 52385 Nideggen
END:VEVENT
BEGIN:VEVENT
DTSTAMP:20260425T032638
DTSTART;TZID=Europe/Berlin:20260929T142000
DTEND;TZID=Europe/Berlin:20260929T155000
UID:26-F22082-20260929T142000@BFODÜREN
SUMMARY:Eltern-Kind-Treff für Kinder von 0 bis 5 Jahre (26-F22082) 
LOCATION:Familienzentrum Maria Goretti in Nideggen, Bahnhofstrasse 26, 52385 Nideggen
END:VEVENT
BEGIN:VEVENT
DTSTAMP:20260425T032638
DTSTART;TZID=Europe/Berlin:20261006T142000
DTEND;TZID=Europe/Berlin:20261006T155000
UID:26-F22082-20261006T142000@BFODÜREN
SUMMARY:Eltern-Kind-Treff für Kinder von 0 bis 5 Jahre (26-F22082) 
LOCATION:Familienzentrum Maria Goretti in Nideggen, Bahnhofstrasse 26, 52385 Nideggen
END:VEVENT
BEGIN:VEVENT
DTSTAMP:20260425T032638
DTSTART;TZID=Europe/Berlin:20261013T142000
DTEND;TZID=Europe/Berlin:20261013T155000
UID:26-F22082-20261013T142000@BFODÜREN
SUMMARY:Eltern-Kind-Treff für Kinder von 0 bis 5 Jahre (26-F22082) 
LOCATION:Familienzentrum Maria Goretti in Nideggen, Bahnhofstrasse 26, 52385 Nideggen
END:VEVENT
BEGIN:VEVENT
DTSTAMP:20260425T032638
DTSTART;TZID=Europe/Berlin:20261103T142000
DTEND;TZID=Europe/Berlin:20261103T155000
UID:26-F22082-20261103T142000@BFODÜREN
SUMMARY:Eltern-Kind-Treff für Kinder von 0 bis 5 Jahre (26-F22082) 
LOCATION:Familienzentrum Maria Goretti in Nideggen, Bahnhofstrasse 26, 52385 Nideggen
END:VEVENT
BEGIN:VEVENT
DTSTAMP:20260425T032638
DTSTART;TZID=Europe/Berlin:20261110T142000
DTEND;TZID=Europe/Berlin:20261110T155000
UID:26-F22082-20261110T142000@BFODÜREN
SUMMARY:Eltern-Kind-Treff für Kinder von 0 bis 5 Jahre (26-F22082) 
LOCATION:Familienzentrum Maria Goretti in Nideggen, Bahnhofstrasse 26, 52385 Nideggen
END:VEVENT
BEGIN:VEVENT
DTSTAMP:20260425T032638
DTSTART;TZID=Europe/Berlin:20261117T142000
DTEND;TZID=Europe/Berlin:20261117T155000
UID:26-F22082-20261117T142000@BFODÜREN
SUMMARY:Eltern-Kind-Treff für Kinder von 0 bis 5 Jahre (26-F22082) 
LOCATION:Familienzentrum Maria Goretti in Nideggen, Bahnhofstrasse 26, 52385 Nideggen
END:VEVENT
BEGIN:VEVENT
DTSTAMP:20260425T032638
DTSTART;TZID=Europe/Berlin:20261124T142000
DTEND;TZID=Europe/Berlin:20261124T155000
UID:26-F22082-20261124T142000@BFODÜREN
SUMMARY:Eltern-Kind-Treff für Kinder von 0 bis 5 Jahre (26-F22082) 
LOCATION:Familienzentrum Maria Goretti in Nideggen, Bahnhofstrasse 26, 52385 Nideggen
END:VEVENT
BEGIN:VEVENT
DTSTAMP:20260425T032638
DTSTART;TZID=Europe/Berlin:20261201T142000
DTEND;TZID=Europe/Berlin:20261201T155000
UID:26-F22082-20261201T142000@BFODÜREN
SUMMARY:Eltern-Kind-Treff für Kinder von 0 bis 5 Jahre (26-F22082) 
LOCATION:Familienzentrum Maria Goretti in Nideggen, Bahnhofstrasse 26, 52385 Nideggen
END:VEVENT
BEGIN:VEVENT
DTSTAMP:20260425T032638
DTSTART;TZID=Europe/Berlin:20261208T142000
DTEND;TZID=Europe/Berlin:20261208T155000
UID:26-F22082-20261208T142000@BFODÜREN
SUMMARY:Eltern-Kind-Treff für Kinder von 0 bis 5 Jahre (26-F22082) 
LOCATION:Familienzentrum Maria Goretti in Nideggen, Bahnhofstrasse 26, 52385 Nideggen
END:VEVENT
BEGIN:VEVENT
DTSTAMP:20260425T032638
DTSTART;TZID=Europe/Berlin:20261215T142000
DTEND;TZID=Europe/Berlin:20261215T155000
UID:26-F22082-20261215T142000@BFODÜREN
SUMMARY:Eltern-Kind-Treff für Kinder von 0 bis 5 Jahre (26-F22082) 
LOCATION:Familienzentrum Maria Goretti in Nideggen, Bahnhofstrasse 26, 52385 Nideggen
END:VEVENT
END:VCALENDAR