BEGIN:VCALENDAR
VERSION:2.0
PRODID:https://www.kufer.de/kuferweb / DE
METHOD:PUBLISH
CALSCALE:GREGORIAN
X-WR-TIMEZONE:Europe/Berlin
BEGIN:VTIMEZONE
TZID:Europe/Berlin
X-LIC-LOCATION:Europe/Berlin
BEGIN:DAYLIGHT
TZOFFSETFROM:+0100
TZOFFSETTO:+0200
TZNAME:CEST
DTSTART:19700329T020000
RRULE:FREQ=YEARLY;INTERVAL=1;BYDAY=-1SU;BYMONTH=3
END:DAYLIGHT
BEGIN:STANDARD
TZOFFSETFROM:+0200
TZOFFSETTO:+0100
TZNAME:CET
DTSTART:19701025T030000
RRULE:FREQ=YEARLY;INTERVAL=1;BYDAY=-1SU;BYMONTH=10
END:STANDARD
END:VTIMEZONE
BEGIN:VEVENT
DTSTAMP:20260420T181139
DTSTART;TZID=Europe/Berlin:20260113T094500
DTEND;TZID=Europe/Berlin:20260113T111500
UID:26-F22141-20260113T094500@BFODÜREN
SUMMARY:Eltern-Kind-Gruppe im Familienzentrum St. Peter Birkesdorf (26-F22141) 
LOCATION:Jugendheim Birkesdorf, Pfarrer-Rody-Straße 5, 52353 Düren
END:VEVENT
BEGIN:VEVENT
DTSTAMP:20260420T181139
DTSTART;TZID=Europe/Berlin:20260120T094500
DTEND;TZID=Europe/Berlin:20260120T111500
UID:26-F22141-20260120T094500@BFODÜREN
SUMMARY:Eltern-Kind-Gruppe im Familienzentrum St. Peter Birkesdorf (26-F22141) 
LOCATION:Jugendheim Birkesdorf, Pfarrer-Rody-Straße 5, 52353 Düren
END:VEVENT
BEGIN:VEVENT
DTSTAMP:20260420T181139
DTSTART;TZID=Europe/Berlin:20260127T094500
DTEND;TZID=Europe/Berlin:20260127T111500
UID:26-F22141-20260127T094500@BFODÜREN
SUMMARY:Eltern-Kind-Gruppe im Familienzentrum St. Peter Birkesdorf (26-F22141) 
LOCATION:Jugendheim Birkesdorf, Pfarrer-Rody-Straße 5, 52353 Düren
END:VEVENT
BEGIN:VEVENT
DTSTAMP:20260420T181139
DTSTART;TZID=Europe/Berlin:20260203T094500
DTEND;TZID=Europe/Berlin:20260203T111500
UID:26-F22141-20260203T094500@BFODÜREN
SUMMARY:Eltern-Kind-Gruppe im Familienzentrum St. Peter Birkesdorf (26-F22141) 
LOCATION:Jugendheim Birkesdorf, Pfarrer-Rody-Straße 5, 52353 Düren
END:VEVENT
BEGIN:VEVENT
DTSTAMP:20260420T181139
DTSTART;TZID=Europe/Berlin:20260210T094500
DTEND;TZID=Europe/Berlin:20260210T111500
UID:26-F22141-20260210T094500@BFODÜREN
SUMMARY:Eltern-Kind-Gruppe im Familienzentrum St. Peter Birkesdorf (26-F22141) 
LOCATION:Jugendheim Birkesdorf, Pfarrer-Rody-Straße 5, 52353 Düren
END:VEVENT
BEGIN:VEVENT
DTSTAMP:20260420T181139
DTSTART;TZID=Europe/Berlin:20260224T094500
DTEND;TZID=Europe/Berlin:20260224T111500
UID:26-F22141-20260224T094500@BFODÜREN
SUMMARY:Eltern-Kind-Gruppe im Familienzentrum St. Peter Birkesdorf (26-F22141) 
LOCATION:Jugendheim Birkesdorf, Pfarrer-Rody-Straße 5, 52353 Düren
END:VEVENT
BEGIN:VEVENT
DTSTAMP:20260420T181139
DTSTART;TZID=Europe/Berlin:20260303T094500
DTEND;TZID=Europe/Berlin:20260303T111500
UID:26-F22141-20260303T094500@BFODÜREN
SUMMARY:Eltern-Kind-Gruppe im Familienzentrum St. Peter Birkesdorf (26-F22141) 
LOCATION:Jugendheim Birkesdorf, Pfarrer-Rody-Straße 5, 52353 Düren
END:VEVENT
BEGIN:VEVENT
DTSTAMP:20260420T181139
DTSTART;TZID=Europe/Berlin:20260310T094500
DTEND;TZID=Europe/Berlin:20260310T111500
UID:26-F22141-20260310T094500@BFODÜREN
SUMMARY:Eltern-Kind-Gruppe im Familienzentrum St. Peter Birkesdorf (26-F22141) 
LOCATION:Jugendheim Birkesdorf, Pfarrer-Rody-Straße 5, 52353 Düren
END:VEVENT
BEGIN:VEVENT
DTSTAMP:20260420T181139
DTSTART;TZID=Europe/Berlin:20260317T094500
DTEND;TZID=Europe/Berlin:20260317T111500
UID:26-F22141-20260317T094500@BFODÜREN
SUMMARY:Eltern-Kind-Gruppe im Familienzentrum St. Peter Birkesdorf (26-F22141) 
LOCATION:Jugendheim Birkesdorf, Pfarrer-Rody-Straße 5, 52353 Düren
END:VEVENT
BEGIN:VEVENT
DTSTAMP:20260420T181139
DTSTART;TZID=Europe/Berlin:20260324T094500
DTEND;TZID=Europe/Berlin:20260324T111500
UID:26-F22141-20260324T094500@BFODÜREN
SUMMARY:Eltern-Kind-Gruppe im Familienzentrum St. Peter Birkesdorf (26-F22141) 
LOCATION:Jugendheim Birkesdorf, Pfarrer-Rody-Straße 5, 52353 Düren
END:VEVENT
BEGIN:VEVENT
DTSTAMP:20260420T181139
DTSTART;TZID=Europe/Berlin:20260414T094500
DTEND;TZID=Europe/Berlin:20260414T111500
UID:26-F22141-20260414T094500@BFODÜREN
SUMMARY:Eltern-Kind-Gruppe im Familienzentrum St. Peter Birkesdorf (26-F22141) 
LOCATION:Jugendheim Birkesdorf, Pfarrer-Rody-Straße 5, 52353 Düren
END:VEVENT
BEGIN:VEVENT
DTSTAMP:20260420T181139
DTSTART;TZID=Europe/Berlin:20260421T094500
DTEND;TZID=Europe/Berlin:20260421T111500
UID:26-F22141-20260421T094500@BFODÜREN
SUMMARY:Eltern-Kind-Gruppe im Familienzentrum St. Peter Birkesdorf (26-F22141) 
LOCATION:Jugendheim Birkesdorf, Pfarrer-Rody-Straße 5, 52353 Düren
END:VEVENT
BEGIN:VEVENT
DTSTAMP:20260420T181139
DTSTART;TZID=Europe/Berlin:20260428T094500
DTEND;TZID=Europe/Berlin:20260428T111500
UID:26-F22141-20260428T094500@BFODÜREN
SUMMARY:Eltern-Kind-Gruppe im Familienzentrum St. Peter Birkesdorf (26-F22141) 
LOCATION:Jugendheim Birkesdorf, Pfarrer-Rody-Straße 5, 52353 Düren
END:VEVENT
BEGIN:VEVENT
DTSTAMP:20260420T181139
DTSTART;TZID=Europe/Berlin:20260505T094500
DTEND;TZID=Europe/Berlin:20260505T111500
UID:26-F22141-20260505T094500@BFODÜREN
SUMMARY:Eltern-Kind-Gruppe im Familienzentrum St. Peter Birkesdorf (26-F22141) 
LOCATION:Jugendheim Birkesdorf, Pfarrer-Rody-Straße 5, 52353 Düren
END:VEVENT
BEGIN:VEVENT
DTSTAMP:20260420T181139
DTSTART;TZID=Europe/Berlin:20260512T094500
DTEND;TZID=Europe/Berlin:20260512T111500
UID:26-F22141-20260512T094500@BFODÜREN
SUMMARY:Eltern-Kind-Gruppe im Familienzentrum St. Peter Birkesdorf (26-F22141) 
LOCATION:Jugendheim Birkesdorf, Pfarrer-Rody-Straße 5, 52353 Düren
END:VEVENT
BEGIN:VEVENT
DTSTAMP:20260420T181139
DTSTART;TZID=Europe/Berlin:20260519T094500
DTEND;TZID=Europe/Berlin:20260519T111500
UID:26-F22141-20260519T094500@BFODÜREN
SUMMARY:Eltern-Kind-Gruppe im Familienzentrum St. Peter Birkesdorf (26-F22141) 
LOCATION:Jugendheim Birkesdorf, Pfarrer-Rody-Straße 5, 52353 Düren
END:VEVENT
BEGIN:VEVENT
DTSTAMP:20260420T181139
DTSTART;TZID=Europe/Berlin:20260602T094500
DTEND;TZID=Europe/Berlin:20260602T111500
UID:26-F22141-20260602T094500@BFODÜREN
SUMMARY:Eltern-Kind-Gruppe im Familienzentrum St. Peter Birkesdorf (26-F22141) 
LOCATION:Jugendheim Birkesdorf, Pfarrer-Rody-Straße 5, 52353 Düren
END:VEVENT
BEGIN:VEVENT
DTSTAMP:20260420T181139
DTSTART;TZID=Europe/Berlin:20260609T094500
DTEND;TZID=Europe/Berlin:20260609T111500
UID:26-F22141-20260609T094500@BFODÜREN
SUMMARY:Eltern-Kind-Gruppe im Familienzentrum St. Peter Birkesdorf (26-F22141) 
LOCATION:Jugendheim Birkesdorf, Pfarrer-Rody-Straße 5, 52353 Düren
END:VEVENT
BEGIN:VEVENT
DTSTAMP:20260420T181139
DTSTART;TZID=Europe/Berlin:20260616T094500
DTEND;TZID=Europe/Berlin:20260616T111500
UID:26-F22141-20260616T094500@BFODÜREN
SUMMARY:Eltern-Kind-Gruppe im Familienzentrum St. Peter Birkesdorf (26-F22141) 
LOCATION:Jugendheim Birkesdorf, Pfarrer-Rody-Straße 5, 52353 Düren
END:VEVENT
BEGIN:VEVENT
DTSTAMP:20260420T181139
DTSTART;TZID=Europe/Berlin:20260623T094500
DTEND;TZID=Europe/Berlin:20260623T111500
UID:26-F22141-20260623T094500@BFODÜREN
SUMMARY:Eltern-Kind-Gruppe im Familienzentrum St. Peter Birkesdorf (26-F22141) 
LOCATION:Jugendheim Birkesdorf, Pfarrer-Rody-Straße 5, 52353 Düren
END:VEVENT
BEGIN:VEVENT
DTSTAMP:20260420T181139
DTSTART;TZID=Europe/Berlin:20260623T200000
DTEND;TZID=Europe/Berlin:20260623T221500
UID:26-F22141-20260623T200000@BFODÜREN
DESCRIPTION:Elternabend
SUMMARY:Eltern-Kind-Gruppe im Familienzentrum St. Peter Birkesdorf (26-F22141) 
LOCATION:Jugendheim Birkesdorf, Pfarrer-Rody-Straße 5, 52353 Düren
END:VEVENT
BEGIN:VEVENT
DTSTAMP:20260420T181139
DTSTART;TZID=Europe/Berlin:20260630T094500
DTEND;TZID=Europe/Berlin:20260630T111500
UID:26-F22141-20260630T094500@BFODÜREN
SUMMARY:Eltern-Kind-Gruppe im Familienzentrum St. Peter Birkesdorf (26-F22141) 
LOCATION:Jugendheim Birkesdorf, Pfarrer-Rody-Straße 5, 52353 Düren
END:VEVENT
END:VCALENDAR