BEGIN:VCALENDAR
VERSION:2.0
PRODID:https://www.kufer.de/kuferweb / DE
METHOD:PUBLISH
CALSCALE:GREGORIAN
X-WR-TIMEZONE:Europe/Berlin
BEGIN:VTIMEZONE
TZID:Europe/Berlin
X-LIC-LOCATION:Europe/Berlin
BEGIN:DAYLIGHT
TZOFFSETFROM:+0100
TZOFFSETTO:+0200
TZNAME:CEST
DTSTART:19700329T020000
RRULE:FREQ=YEARLY;INTERVAL=1;BYDAY=-1SU;BYMONTH=3
END:DAYLIGHT
BEGIN:STANDARD
TZOFFSETFROM:+0200
TZOFFSETTO:+0100
TZNAME:CET
DTSTART:19701025T030000
RRULE:FREQ=YEARLY;INTERVAL=1;BYDAY=-1SU;BYMONTH=10
END:STANDARD
END:VTIMEZONE
BEGIN:VEVENT
DTSTAMP:20260425T031007
DTSTART;TZID=Europe/Berlin:20260908T094500
DTEND;TZID=Europe/Berlin:20260908T111500
UID:26-F22142-20260908T094500@BFODÜREN
SUMMARY:Eltern-Kind-Gruppe im Familienzentrum St. Peter Birkesdorf (26-F22142) 
LOCATION:Jugendheim Birkesdorf, Pfarrer-Rody-Straße 5, 52353 Düren
END:VEVENT
BEGIN:VEVENT
DTSTAMP:20260425T031007
DTSTART;TZID=Europe/Berlin:20260915T094500
DTEND;TZID=Europe/Berlin:20260915T111500
UID:26-F22142-20260915T094500@BFODÜREN
SUMMARY:Eltern-Kind-Gruppe im Familienzentrum St. Peter Birkesdorf (26-F22142) 
LOCATION:Jugendheim Birkesdorf, Pfarrer-Rody-Straße 5, 52353 Düren
END:VEVENT
BEGIN:VEVENT
DTSTAMP:20260425T031007
DTSTART;TZID=Europe/Berlin:20260922T094500
DTEND;TZID=Europe/Berlin:20260922T111500
UID:26-F22142-20260922T094500@BFODÜREN
SUMMARY:Eltern-Kind-Gruppe im Familienzentrum St. Peter Birkesdorf (26-F22142) 
LOCATION:Jugendheim Birkesdorf, Pfarrer-Rody-Straße 5, 52353 Düren
END:VEVENT
BEGIN:VEVENT
DTSTAMP:20260425T031007
DTSTART;TZID=Europe/Berlin:20260929T094500
DTEND;TZID=Europe/Berlin:20260929T111500
UID:26-F22142-20260929T094500@BFODÜREN
SUMMARY:Eltern-Kind-Gruppe im Familienzentrum St. Peter Birkesdorf (26-F22142) 
LOCATION:Jugendheim Birkesdorf, Pfarrer-Rody-Straße 5, 52353 Düren
END:VEVENT
BEGIN:VEVENT
DTSTAMP:20260425T031007
DTSTART;TZID=Europe/Berlin:20261013T094500
DTEND;TZID=Europe/Berlin:20261013T111500
UID:26-F22142-20261013T094500@BFODÜREN
SUMMARY:Eltern-Kind-Gruppe im Familienzentrum St. Peter Birkesdorf (26-F22142) 
LOCATION:Jugendheim Birkesdorf, Pfarrer-Rody-Straße 5, 52353 Düren
END:VEVENT
BEGIN:VEVENT
DTSTAMP:20260425T031007
DTSTART;TZID=Europe/Berlin:20261103T094500
DTEND;TZID=Europe/Berlin:20261103T111500
UID:26-F22142-20261103T094500@BFODÜREN
SUMMARY:Eltern-Kind-Gruppe im Familienzentrum St. Peter Birkesdorf (26-F22142) 
LOCATION:Jugendheim Birkesdorf, Pfarrer-Rody-Straße 5, 52353 Düren
END:VEVENT
BEGIN:VEVENT
DTSTAMP:20260425T031007
DTSTART;TZID=Europe/Berlin:20261110T094500
DTEND;TZID=Europe/Berlin:20261110T111500
UID:26-F22142-20261110T094500@BFODÜREN
SUMMARY:Eltern-Kind-Gruppe im Familienzentrum St. Peter Birkesdorf (26-F22142) 
LOCATION:Jugendheim Birkesdorf, Pfarrer-Rody-Straße 5, 52353 Düren
END:VEVENT
BEGIN:VEVENT
DTSTAMP:20260425T031007
DTSTART;TZID=Europe/Berlin:20261117T094500
DTEND;TZID=Europe/Berlin:20261117T111500
UID:26-F22142-20261117T094500@BFODÜREN
SUMMARY:Eltern-Kind-Gruppe im Familienzentrum St. Peter Birkesdorf (26-F22142) 
LOCATION:Jugendheim Birkesdorf, Pfarrer-Rody-Straße 5, 52353 Düren
END:VEVENT
BEGIN:VEVENT
DTSTAMP:20260425T031007
DTSTART;TZID=Europe/Berlin:20261124T094500
DTEND;TZID=Europe/Berlin:20261124T111500
UID:26-F22142-20261124T094500@BFODÜREN
SUMMARY:Eltern-Kind-Gruppe im Familienzentrum St. Peter Birkesdorf (26-F22142) 
LOCATION:Jugendheim Birkesdorf, Pfarrer-Rody-Straße 5, 52353 Düren
END:VEVENT
BEGIN:VEVENT
DTSTAMP:20260425T031007
DTSTART;TZID=Europe/Berlin:20261201T094500
DTEND;TZID=Europe/Berlin:20261201T111500
UID:26-F22142-20261201T094500@BFODÜREN
SUMMARY:Eltern-Kind-Gruppe im Familienzentrum St. Peter Birkesdorf (26-F22142) 
LOCATION:Jugendheim Birkesdorf, Pfarrer-Rody-Straße 5, 52353 Düren
END:VEVENT
BEGIN:VEVENT
DTSTAMP:20260425T031007
DTSTART;TZID=Europe/Berlin:20261208T094500
DTEND;TZID=Europe/Berlin:20261208T111500
UID:26-F22142-20261208T094500@BFODÜREN
SUMMARY:Eltern-Kind-Gruppe im Familienzentrum St. Peter Birkesdorf (26-F22142) 
LOCATION:Jugendheim Birkesdorf, Pfarrer-Rody-Straße 5, 52353 Düren
END:VEVENT
BEGIN:VEVENT
DTSTAMP:20260425T031007
DTSTART;TZID=Europe/Berlin:20261215T094500
DTEND;TZID=Europe/Berlin:20261215T111500
UID:26-F22142-20261215T094500@BFODÜREN
SUMMARY:Eltern-Kind-Gruppe im Familienzentrum St. Peter Birkesdorf (26-F22142) 
LOCATION:Jugendheim Birkesdorf, Pfarrer-Rody-Straße 5, 52353 Düren
END:VEVENT
END:VCALENDAR