BEGIN:VCALENDAR
VERSION:2.0
PRODID:https://www.kufer.de/kuferweb / DE
METHOD:PUBLISH
CALSCALE:GREGORIAN
X-WR-TIMEZONE:Europe/Berlin
BEGIN:VTIMEZONE
TZID:Europe/Berlin
X-LIC-LOCATION:Europe/Berlin
BEGIN:DAYLIGHT
TZOFFSETFROM:+0100
TZOFFSETTO:+0200
TZNAME:CEST
DTSTART:19700329T020000
RRULE:FREQ=YEARLY;INTERVAL=1;BYDAY=-1SU;BYMONTH=3
END:DAYLIGHT
BEGIN:STANDARD
TZOFFSETFROM:+0200
TZOFFSETTO:+0100
TZNAME:CET
DTSTART:19701025T030000
RRULE:FREQ=YEARLY;INTERVAL=1;BYDAY=-1SU;BYMONTH=10
END:STANDARD
END:VTIMEZONE
BEGIN:VEVENT
DTSTAMP:20260425T004521
DTSTART;TZID=Europe/Berlin:20261114T100000
DTEND;TZID=Europe/Berlin:20261114T130000
UID:26-F22312-20261114T100000@BFODÜREN
SUMMARY:Wir bauen eine Eichhörnchen-Futterstation für Familien mit Kindern (26-F22312) 
LOCATION:Familienzentrum "Bachpiraten" Linnich, Bendenweg 21 A, 52441 Linnich
END:VEVENT
END:VCALENDAR