BEGIN:VCALENDAR
VERSION:2.0
PRODID:https://www.kufer.de/kuferweb / DE
METHOD:PUBLISH
CALSCALE:GREGORIAN
X-WR-TIMEZONE:Europe/Berlin
BEGIN:VTIMEZONE
TZID:Europe/Berlin
X-LIC-LOCATION:Europe/Berlin
BEGIN:DAYLIGHT
TZOFFSETFROM:+0100
TZOFFSETTO:+0200
TZNAME:CEST
DTSTART:19700329T020000
RRULE:FREQ=YEARLY;INTERVAL=1;BYDAY=-1SU;BYMONTH=3
END:DAYLIGHT
BEGIN:STANDARD
TZOFFSETFROM:+0200
TZOFFSETTO:+0100
TZNAME:CET
DTSTART:19701025T030000
RRULE:FREQ=YEARLY;INTERVAL=1;BYDAY=-1SU;BYMONTH=10
END:STANDARD
END:VTIMEZONE
BEGIN:VEVENT
DTSTAMP:20260420T182041
DTSTART;TZID=Europe/Berlin:20260114T150000
DTEND;TZID=Europe/Berlin:20260114T160000
UID:26-F23401-20260114T150000@BFODÜREN
SUMMARY:Schwimmen will gelernt sein für Eltern mit Kindern ab 4 Jahren (26-F23401) 
LOCATION:Kath. Grundschule Embken, St. Antoniusstraße 10, 52385 Nideggen
END:VEVENT
BEGIN:VEVENT
DTSTAMP:20260420T182041
DTSTART;TZID=Europe/Berlin:20260121T150000
DTEND;TZID=Europe/Berlin:20260121T160000
UID:26-F23401-20260121T150000@BFODÜREN
SUMMARY:Schwimmen will gelernt sein für Eltern mit Kindern ab 4 Jahren (26-F23401) 
LOCATION:Kath. Grundschule Embken, St. Antoniusstraße 10, 52385 Nideggen
END:VEVENT
BEGIN:VEVENT
DTSTAMP:20260420T182041
DTSTART;TZID=Europe/Berlin:20260128T150000
DTEND;TZID=Europe/Berlin:20260128T160000
UID:26-F23401-20260128T150000@BFODÜREN
SUMMARY:Schwimmen will gelernt sein für Eltern mit Kindern ab 4 Jahren (26-F23401) 
LOCATION:Kath. Grundschule Embken, St. Antoniusstraße 10, 52385 Nideggen
END:VEVENT
BEGIN:VEVENT
DTSTAMP:20260420T182041
DTSTART;TZID=Europe/Berlin:20260204T150000
DTEND;TZID=Europe/Berlin:20260204T160000
UID:26-F23401-20260204T150000@BFODÜREN
SUMMARY:Schwimmen will gelernt sein für Eltern mit Kindern ab 4 Jahren (26-F23401) 
LOCATION:Kath. Grundschule Embken, St. Antoniusstraße 10, 52385 Nideggen
END:VEVENT
BEGIN:VEVENT
DTSTAMP:20260420T182041
DTSTART;TZID=Europe/Berlin:20260211T150000
DTEND;TZID=Europe/Berlin:20260211T160000
UID:26-F23401-20260211T150000@BFODÜREN
SUMMARY:Schwimmen will gelernt sein für Eltern mit Kindern ab 4 Jahren (26-F23401) 
LOCATION:Kath. Grundschule Embken, St. Antoniusstraße 10, 52385 Nideggen
END:VEVENT
BEGIN:VEVENT
DTSTAMP:20260420T182041
DTSTART;TZID=Europe/Berlin:20260218T150000
DTEND;TZID=Europe/Berlin:20260218T160000
UID:26-F23401-20260218T150000@BFODÜREN
SUMMARY:Schwimmen will gelernt sein für Eltern mit Kindern ab 4 Jahren (26-F23401) 
LOCATION:Kath. Grundschule Embken, St. Antoniusstraße 10, 52385 Nideggen
END:VEVENT
BEGIN:VEVENT
DTSTAMP:20260420T182041
DTSTART;TZID=Europe/Berlin:20260225T150000
DTEND;TZID=Europe/Berlin:20260225T160000
UID:26-F23401-20260225T150000@BFODÜREN
SUMMARY:Schwimmen will gelernt sein für Eltern mit Kindern ab 4 Jahren (26-F23401) 
LOCATION:Kath. Grundschule Embken, St. Antoniusstraße 10, 52385 Nideggen
END:VEVENT
BEGIN:VEVENT
DTSTAMP:20260420T182041
DTSTART;TZID=Europe/Berlin:20260304T150000
DTEND;TZID=Europe/Berlin:20260304T160000
UID:26-F23401-20260304T150000@BFODÜREN
SUMMARY:Schwimmen will gelernt sein für Eltern mit Kindern ab 4 Jahren (26-F23401) 
LOCATION:Kath. Grundschule Embken, St. Antoniusstraße 10, 52385 Nideggen
END:VEVENT
BEGIN:VEVENT
DTSTAMP:20260420T182041
DTSTART;TZID=Europe/Berlin:20260311T150000
DTEND;TZID=Europe/Berlin:20260311T160000
UID:26-F23401-20260311T150000@BFODÜREN
SUMMARY:Schwimmen will gelernt sein für Eltern mit Kindern ab 4 Jahren (26-F23401) 
LOCATION:Kath. Grundschule Embken, St. Antoniusstraße 10, 52385 Nideggen
END:VEVENT
BEGIN:VEVENT
DTSTAMP:20260420T182041
DTSTART;TZID=Europe/Berlin:20260318T150000
DTEND;TZID=Europe/Berlin:20260318T160000
UID:26-F23401-20260318T150000@BFODÜREN
SUMMARY:Schwimmen will gelernt sein für Eltern mit Kindern ab 4 Jahren (26-F23401) 
LOCATION:Kath. Grundschule Embken, St. Antoniusstraße 10, 52385 Nideggen
END:VEVENT
BEGIN:VEVENT
DTSTAMP:20260420T182041
DTSTART;TZID=Europe/Berlin:20260325T150000
DTEND;TZID=Europe/Berlin:20260325T160000
UID:26-F23401-20260325T150000@BFODÜREN
SUMMARY:Schwimmen will gelernt sein für Eltern mit Kindern ab 4 Jahren (26-F23401) 
LOCATION:Kath. Grundschule Embken, St. Antoniusstraße 10, 52385 Nideggen
END:VEVENT
BEGIN:VEVENT
DTSTAMP:20260420T182041
DTSTART;TZID=Europe/Berlin:20260422T150000
DTEND;TZID=Europe/Berlin:20260422T160000
UID:26-F23401-20260422T150000@BFODÜREN
SUMMARY:Schwimmen will gelernt sein für Eltern mit Kindern ab 4 Jahren (26-F23401) 
LOCATION:Kath. Grundschule Embken, St. Antoniusstraße 10, 52385 Nideggen
END:VEVENT
BEGIN:VEVENT
DTSTAMP:20260420T182041
DTSTART;TZID=Europe/Berlin:20260429T150000
DTEND;TZID=Europe/Berlin:20260429T160000
UID:26-F23401-20260429T150000@BFODÜREN
SUMMARY:Schwimmen will gelernt sein für Eltern mit Kindern ab 4 Jahren (26-F23401) 
LOCATION:Kath. Grundschule Embken, St. Antoniusstraße 10, 52385 Nideggen
END:VEVENT
BEGIN:VEVENT
DTSTAMP:20260420T182041
DTSTART;TZID=Europe/Berlin:20260506T150000
DTEND;TZID=Europe/Berlin:20260506T160000
UID:26-F23401-20260506T150000@BFODÜREN
SUMMARY:Schwimmen will gelernt sein für Eltern mit Kindern ab 4 Jahren (26-F23401) 
LOCATION:Kath. Grundschule Embken, St. Antoniusstraße 10, 52385 Nideggen
END:VEVENT
BEGIN:VEVENT
DTSTAMP:20260420T182041
DTSTART;TZID=Europe/Berlin:20260513T150000
DTEND;TZID=Europe/Berlin:20260513T160000
UID:26-F23401-20260513T150000@BFODÜREN
SUMMARY:Schwimmen will gelernt sein für Eltern mit Kindern ab 4 Jahren (26-F23401) 
LOCATION:Kath. Grundschule Embken, St. Antoniusstraße 10, 52385 Nideggen
END:VEVENT
BEGIN:VEVENT
DTSTAMP:20260420T182041
DTSTART;TZID=Europe/Berlin:20260520T150000
DTEND;TZID=Europe/Berlin:20260520T160000
UID:26-F23401-20260520T150000@BFODÜREN
SUMMARY:Schwimmen will gelernt sein für Eltern mit Kindern ab 4 Jahren (26-F23401) 
LOCATION:Kath. Grundschule Embken, St. Antoniusstraße 10, 52385 Nideggen
END:VEVENT
BEGIN:VEVENT
DTSTAMP:20260420T182041
DTSTART;TZID=Europe/Berlin:20260527T150000
DTEND;TZID=Europe/Berlin:20260527T160000
UID:26-F23401-20260527T150000@BFODÜREN
SUMMARY:Schwimmen will gelernt sein für Eltern mit Kindern ab 4 Jahren (26-F23401) 
LOCATION:Kath. Grundschule Embken, St. Antoniusstraße 10, 52385 Nideggen
END:VEVENT
BEGIN:VEVENT
DTSTAMP:20260420T182041
DTSTART;TZID=Europe/Berlin:20260603T150000
DTEND;TZID=Europe/Berlin:20260603T160000
UID:26-F23401-20260603T150000@BFODÜREN
SUMMARY:Schwimmen will gelernt sein für Eltern mit Kindern ab 4 Jahren (26-F23401) 
LOCATION:Kath. Grundschule Embken, St. Antoniusstraße 10, 52385 Nideggen
END:VEVENT
BEGIN:VEVENT
DTSTAMP:20260420T182041
DTSTART;TZID=Europe/Berlin:20260610T150000
DTEND;TZID=Europe/Berlin:20260610T160000
UID:26-F23401-20260610T150000@BFODÜREN
SUMMARY:Schwimmen will gelernt sein für Eltern mit Kindern ab 4 Jahren (26-F23401) 
LOCATION:Kath. Grundschule Embken, St. Antoniusstraße 10, 52385 Nideggen
END:VEVENT
BEGIN:VEVENT
DTSTAMP:20260420T182041
DTSTART;TZID=Europe/Berlin:20260617T150000
DTEND;TZID=Europe/Berlin:20260617T160000
UID:26-F23401-20260617T150000@BFODÜREN
SUMMARY:Schwimmen will gelernt sein für Eltern mit Kindern ab 4 Jahren (26-F23401) 
LOCATION:Kath. Grundschule Embken, St. Antoniusstraße 10, 52385 Nideggen
END:VEVENT
BEGIN:VEVENT
DTSTAMP:20260420T182041
DTSTART;TZID=Europe/Berlin:20260624T150000
DTEND;TZID=Europe/Berlin:20260624T160000
UID:26-F23401-20260624T150000@BFODÜREN
SUMMARY:Schwimmen will gelernt sein für Eltern mit Kindern ab 4 Jahren (26-F23401) 
LOCATION:Kath. Grundschule Embken, St. Antoniusstraße 10, 52385 Nideggen
END:VEVENT
BEGIN:VEVENT
DTSTAMP:20260420T182041
DTSTART;TZID=Europe/Berlin:20260701T150000
DTEND;TZID=Europe/Berlin:20260701T160000
UID:26-F23401-20260701T150000@BFODÜREN
SUMMARY:Schwimmen will gelernt sein für Eltern mit Kindern ab 4 Jahren (26-F23401) 
LOCATION:Kath. Grundschule Embken, St. Antoniusstraße 10, 52385 Nideggen
END:VEVENT
BEGIN:VEVENT
DTSTAMP:20260420T182041
DTSTART;TZID=Europe/Berlin:20260708T150000
DTEND;TZID=Europe/Berlin:20260708T160000
UID:26-F23401-20260708T150000@BFODÜREN
SUMMARY:Schwimmen will gelernt sein für Eltern mit Kindern ab 4 Jahren (26-F23401) 
LOCATION:Kath. Grundschule Embken, St. Antoniusstraße 10, 52385 Nideggen
END:VEVENT
BEGIN:VEVENT
DTSTAMP:20260420T182041
DTSTART;TZID=Europe/Berlin:20260715T150000
DTEND;TZID=Europe/Berlin:20260715T160000
UID:26-F23401-20260715T150000@BFODÜREN
SUMMARY:Schwimmen will gelernt sein für Eltern mit Kindern ab 4 Jahren (26-F23401) 
LOCATION:Kath. Grundschule Embken, St. Antoniusstraße 10, 52385 Nideggen
END:VEVENT
END:VCALENDAR