BEGIN:VCALENDAR
VERSION:2.0
PRODID:https://www.kufer.de/kuferweb / DE
METHOD:PUBLISH
CALSCALE:GREGORIAN
X-WR-TIMEZONE:Europe/Berlin
BEGIN:VTIMEZONE
TZID:Europe/Berlin
X-LIC-LOCATION:Europe/Berlin
BEGIN:DAYLIGHT
TZOFFSETFROM:+0100
TZOFFSETTO:+0200
TZNAME:CEST
DTSTART:19700329T020000
RRULE:FREQ=YEARLY;INTERVAL=1;BYDAY=-1SU;BYMONTH=3
END:DAYLIGHT
BEGIN:STANDARD
TZOFFSETFROM:+0200
TZOFFSETTO:+0100
TZNAME:CET
DTSTART:19701025T030000
RRULE:FREQ=YEARLY;INTERVAL=1;BYDAY=-1SU;BYMONTH=10
END:STANDARD
END:VTIMEZONE
BEGIN:VEVENT
DTSTAMP:20260424T163724
DTSTART;TZID=Europe/Berlin:20260127T183000
DTEND;TZID=Europe/Berlin:20260127T193000
UID:26-F52001-20260127T183000@BFODÜREN
SUMMARY:Qi Gong für alle Altersgruppen (26-F52001) 
LOCATION:Familienzentrum St. Heribert Kreuzau, Poststraße 3, 52372 Kreuzau
END:VEVENT
BEGIN:VEVENT
DTSTAMP:20260424T163724
DTSTART;TZID=Europe/Berlin:20260203T183000
DTEND;TZID=Europe/Berlin:20260203T193000
UID:26-F52001-20260203T183000@BFODÜREN
SUMMARY:Qi Gong für alle Altersgruppen (26-F52001) 
LOCATION:Familienzentrum St. Heribert Kreuzau, Poststraße 3, 52372 Kreuzau
END:VEVENT
BEGIN:VEVENT
DTSTAMP:20260424T163724
DTSTART;TZID=Europe/Berlin:20260210T183000
DTEND;TZID=Europe/Berlin:20260210T193000
UID:26-F52001-20260210T183000@BFODÜREN
SUMMARY:Qi Gong für alle Altersgruppen (26-F52001) 
LOCATION:Familienzentrum St. Heribert Kreuzau, Poststraße 3, 52372 Kreuzau
END:VEVENT
BEGIN:VEVENT
DTSTAMP:20260424T163724
DTSTART;TZID=Europe/Berlin:20260224T183000
DTEND;TZID=Europe/Berlin:20260224T193000
UID:26-F52001-20260224T183000@BFODÜREN
SUMMARY:Qi Gong für alle Altersgruppen (26-F52001) 
LOCATION:Familienzentrum St. Heribert Kreuzau, Poststraße 3, 52372 Kreuzau
END:VEVENT
BEGIN:VEVENT
DTSTAMP:20260424T163724
DTSTART;TZID=Europe/Berlin:20260303T183000
DTEND;TZID=Europe/Berlin:20260303T193000
UID:26-F52001-20260303T183000@BFODÜREN
SUMMARY:Qi Gong für alle Altersgruppen (26-F52001) 
LOCATION:Familienzentrum St. Heribert Kreuzau, Poststraße 3, 52372 Kreuzau
END:VEVENT
BEGIN:VEVENT
DTSTAMP:20260424T163724
DTSTART;TZID=Europe/Berlin:20260310T183000
DTEND;TZID=Europe/Berlin:20260310T193000
UID:26-F52001-20260310T183000@BFODÜREN
SUMMARY:Qi Gong für alle Altersgruppen (26-F52001) 
LOCATION:Familienzentrum St. Heribert Kreuzau, Poststraße 3, 52372 Kreuzau
END:VEVENT
BEGIN:VEVENT
DTSTAMP:20260424T163724
DTSTART;TZID=Europe/Berlin:20260317T183000
DTEND;TZID=Europe/Berlin:20260317T193000
UID:26-F52001-20260317T183000@BFODÜREN
SUMMARY:Qi Gong für alle Altersgruppen (26-F52001) 
LOCATION:Familienzentrum St. Heribert Kreuzau, Poststraße 3, 52372 Kreuzau
END:VEVENT
BEGIN:VEVENT
DTSTAMP:20260424T163724
DTSTART;TZID=Europe/Berlin:20260414T183000
DTEND;TZID=Europe/Berlin:20260414T193000
UID:26-F52001-20260414T183000@BFODÜREN
SUMMARY:Qi Gong für alle Altersgruppen (26-F52001) 
LOCATION:Familienzentrum St. Heribert Kreuzau, Poststraße 3, 52372 Kreuzau
END:VEVENT
BEGIN:VEVENT
DTSTAMP:20260424T163724
DTSTART;TZID=Europe/Berlin:20260421T183000
DTEND;TZID=Europe/Berlin:20260421T193000
UID:26-F52001-20260421T183000@BFODÜREN
SUMMARY:Qi Gong für alle Altersgruppen (26-F52001) 
LOCATION:Familienzentrum St. Heribert Kreuzau, Poststraße 3, 52372 Kreuzau
END:VEVENT
BEGIN:VEVENT
DTSTAMP:20260424T163724
DTSTART;TZID=Europe/Berlin:20260428T183000
DTEND;TZID=Europe/Berlin:20260428T193000
UID:26-F52001-20260428T183000@BFODÜREN
SUMMARY:Qi Gong für alle Altersgruppen (26-F52001) 
LOCATION:Familienzentrum St. Heribert Kreuzau, Poststraße 3, 52372 Kreuzau
END:VEVENT
BEGIN:VEVENT
DTSTAMP:20260424T163724
DTSTART;TZID=Europe/Berlin:20260505T183000
DTEND;TZID=Europe/Berlin:20260505T193000
UID:26-F52001-20260505T183000@BFODÜREN
SUMMARY:Qi Gong für alle Altersgruppen (26-F52001) 
LOCATION:Familienzentrum St. Heribert Kreuzau, Poststraße 3, 52372 Kreuzau
END:VEVENT
BEGIN:VEVENT
DTSTAMP:20260424T163724
DTSTART;TZID=Europe/Berlin:20260512T183000
DTEND;TZID=Europe/Berlin:20260512T193000
UID:26-F52001-20260512T183000@BFODÜREN
SUMMARY:Qi Gong für alle Altersgruppen (26-F52001) 
LOCATION:Familienzentrum St. Heribert Kreuzau, Poststraße 3, 52372 Kreuzau
END:VEVENT
BEGIN:VEVENT
DTSTAMP:20260424T163724
DTSTART;TZID=Europe/Berlin:20260526T183000
DTEND;TZID=Europe/Berlin:20260526T193000
UID:26-F52001-20260526T183000@BFODÜREN
DESCRIPTION:Nachholtermin für 24.03.2026 
SUMMARY:Qi Gong für alle Altersgruppen (26-F52001) 
LOCATION:Familienzentrum St. Heribert Kreuzau, Poststraße 3, 52372 Kreuzau
END:VEVENT
BEGIN:VEVENT
DTSTAMP:20260424T163724
DTSTART;TZID=Europe/Berlin:20260609T183000
DTEND;TZID=Europe/Berlin:20260609T193000
UID:26-F52001-20260609T183000@BFODÜREN
DESCRIPTION:gemäß E-Mail 
SUMMARY:Qi Gong für alle Altersgruppen (26-F52001) 
LOCATION:Familienzentrum St. Heribert Kreuzau, Poststraße 3, 52372 Kreuzau
END:VEVENT
BEGIN:VEVENT
DTSTAMP:20260424T163724
DTSTART;TZID=Europe/Berlin:20260616T183000
DTEND;TZID=Europe/Berlin:20260616T193000
UID:26-F52001-20260616T183000@BFODÜREN
DESCRIPTION:Gemäß E-Mail 
SUMMARY:Qi Gong für alle Altersgruppen (26-F52001) 
LOCATION:Familienzentrum St. Heribert Kreuzau, Poststraße 3, 52372 Kreuzau
END:VEVENT
BEGIN:VEVENT
DTSTAMP:20260424T163724
DTSTART;TZID=Europe/Berlin:20260623T183000
DTEND;TZID=Europe/Berlin:20260623T193000
UID:26-F52001-20260623T183000@BFODÜREN
DESCRIPTION:Gemäß E-Mail 
SUMMARY:Qi Gong für alle Altersgruppen (26-F52001) 
LOCATION:Familienzentrum St. Heribert Kreuzau, Poststraße 3, 52372 Kreuzau
END:VEVENT
END:VCALENDAR