BEGIN:VCALENDAR
VERSION:2.0
PRODID:https://www.kufer.de/kuferweb / DE
METHOD:PUBLISH
CALSCALE:GREGORIAN
X-WR-TIMEZONE:Europe/Berlin
BEGIN:VTIMEZONE
TZID:Europe/Berlin
X-LIC-LOCATION:Europe/Berlin
BEGIN:DAYLIGHT
TZOFFSETFROM:+0100
TZOFFSETTO:+0200
TZNAME:CEST
DTSTART:19700329T020000
RRULE:FREQ=YEARLY;INTERVAL=1;BYDAY=-1SU;BYMONTH=3
END:DAYLIGHT
BEGIN:STANDARD
TZOFFSETFROM:+0200
TZOFFSETTO:+0100
TZNAME:CET
DTSTART:19701025T030000
RRULE:FREQ=YEARLY;INTERVAL=1;BYDAY=-1SU;BYMONTH=10
END:STANDARD
END:VTIMEZONE
BEGIN:VEVENT
DTSTAMP:20260424T163726
DTSTART;TZID=Europe/Berlin:20260127T194500
DTEND;TZID=Europe/Berlin:20260127T204500
UID:26-F52011-20260127T194500@BFODÜREN
SUMMARY:Qi Gong für alle Altersgruppen (26-F52011) 
LOCATION:Familienzentrum St. Heribert Kreuzau, Poststraße 3, 52372 Kreuzau
END:VEVENT
BEGIN:VEVENT
DTSTAMP:20260424T163726
DTSTART;TZID=Europe/Berlin:20260203T194500
DTEND;TZID=Europe/Berlin:20260203T204500
UID:26-F52011-20260203T194500@BFODÜREN
SUMMARY:Qi Gong für alle Altersgruppen (26-F52011) 
LOCATION:Familienzentrum St. Heribert Kreuzau, Poststraße 3, 52372 Kreuzau
END:VEVENT
BEGIN:VEVENT
DTSTAMP:20260424T163726
DTSTART;TZID=Europe/Berlin:20260210T194500
DTEND;TZID=Europe/Berlin:20260210T204500
UID:26-F52011-20260210T194500@BFODÜREN
SUMMARY:Qi Gong für alle Altersgruppen (26-F52011) 
LOCATION:Familienzentrum St. Heribert Kreuzau, Poststraße 3, 52372 Kreuzau
END:VEVENT
BEGIN:VEVENT
DTSTAMP:20260424T163726
DTSTART;TZID=Europe/Berlin:20260224T194500
DTEND;TZID=Europe/Berlin:20260224T204500
UID:26-F52011-20260224T194500@BFODÜREN
SUMMARY:Qi Gong für alle Altersgruppen (26-F52011) 
LOCATION:Familienzentrum St. Heribert Kreuzau, Poststraße 3, 52372 Kreuzau
END:VEVENT
BEGIN:VEVENT
DTSTAMP:20260424T163726
DTSTART;TZID=Europe/Berlin:20260303T194500
DTEND;TZID=Europe/Berlin:20260303T204500
UID:26-F52011-20260303T194500@BFODÜREN
SUMMARY:Qi Gong für alle Altersgruppen (26-F52011) 
LOCATION:Familienzentrum St. Heribert Kreuzau, Poststraße 3, 52372 Kreuzau
END:VEVENT
BEGIN:VEVENT
DTSTAMP:20260424T163726
DTSTART;TZID=Europe/Berlin:20260310T194500
DTEND;TZID=Europe/Berlin:20260310T204500
UID:26-F52011-20260310T194500@BFODÜREN
SUMMARY:Qi Gong für alle Altersgruppen (26-F52011) 
LOCATION:Familienzentrum St. Heribert Kreuzau, Poststraße 3, 52372 Kreuzau
END:VEVENT
BEGIN:VEVENT
DTSTAMP:20260424T163726
DTSTART;TZID=Europe/Berlin:20260317T194500
DTEND;TZID=Europe/Berlin:20260317T204500
UID:26-F52011-20260317T194500@BFODÜREN
SUMMARY:Qi Gong für alle Altersgruppen (26-F52011) 
LOCATION:Familienzentrum St. Heribert Kreuzau, Poststraße 3, 52372 Kreuzau
END:VEVENT
BEGIN:VEVENT
DTSTAMP:20260424T163726
DTSTART;TZID=Europe/Berlin:20260414T194500
DTEND;TZID=Europe/Berlin:20260414T204500
UID:26-F52011-20260414T194500@BFODÜREN
SUMMARY:Qi Gong für alle Altersgruppen (26-F52011) 
LOCATION:Familienzentrum St. Heribert Kreuzau, Poststraße 3, 52372 Kreuzau
END:VEVENT
BEGIN:VEVENT
DTSTAMP:20260424T163726
DTSTART;TZID=Europe/Berlin:20260421T194500
DTEND;TZID=Europe/Berlin:20260421T204500
UID:26-F52011-20260421T194500@BFODÜREN
SUMMARY:Qi Gong für alle Altersgruppen (26-F52011) 
LOCATION:Familienzentrum St. Heribert Kreuzau, Poststraße 3, 52372 Kreuzau
END:VEVENT
BEGIN:VEVENT
DTSTAMP:20260424T163726
DTSTART;TZID=Europe/Berlin:20260428T194500
DTEND;TZID=Europe/Berlin:20260428T204500
UID:26-F52011-20260428T194500@BFODÜREN
SUMMARY:Qi Gong für alle Altersgruppen (26-F52011) 
LOCATION:Familienzentrum St. Heribert Kreuzau, Poststraße 3, 52372 Kreuzau
END:VEVENT
BEGIN:VEVENT
DTSTAMP:20260424T163726
DTSTART;TZID=Europe/Berlin:20260505T194500
DTEND;TZID=Europe/Berlin:20260505T204500
UID:26-F52011-20260505T194500@BFODÜREN
SUMMARY:Qi Gong für alle Altersgruppen (26-F52011) 
LOCATION:Familienzentrum St. Heribert Kreuzau, Poststraße 3, 52372 Kreuzau
END:VEVENT
BEGIN:VEVENT
DTSTAMP:20260424T163726
DTSTART;TZID=Europe/Berlin:20260512T194500
DTEND;TZID=Europe/Berlin:20260512T204500
UID:26-F52011-20260512T194500@BFODÜREN
SUMMARY:Qi Gong für alle Altersgruppen (26-F52011) 
LOCATION:Familienzentrum St. Heribert Kreuzau, Poststraße 3, 52372 Kreuzau
END:VEVENT
BEGIN:VEVENT
DTSTAMP:20260424T163726
DTSTART;TZID=Europe/Berlin:20260526T194500
DTEND;TZID=Europe/Berlin:20260526T204500
UID:26-F52011-20260526T194500@BFODÜREN
DESCRIPTION:Nachholtermin 24.03.2026
SUMMARY:Qi Gong für alle Altersgruppen (26-F52011) 
LOCATION:Familienzentrum St. Heribert Kreuzau, Poststraße 3, 52372 Kreuzau
END:VEVENT
BEGIN:VEVENT
DTSTAMP:20260424T163726
DTSTART;TZID=Europe/Berlin:20260609T194500
DTEND;TZID=Europe/Berlin:20260609T204500
UID:26-F52011-20260609T194500@BFODÜREN
DESCRIPTION:Gemäß E-Mail 
SUMMARY:Qi Gong für alle Altersgruppen (26-F52011) 
LOCATION:Familienzentrum St. Heribert Kreuzau, Poststraße 3, 52372 Kreuzau
END:VEVENT
BEGIN:VEVENT
DTSTAMP:20260424T163726
DTSTART;TZID=Europe/Berlin:20260616T194500
DTEND;TZID=Europe/Berlin:20260616T204500
UID:26-F52011-20260616T194500@BFODÜREN
DESCRIPTION:Gemäß E-Mail
SUMMARY:Qi Gong für alle Altersgruppen (26-F52011) 
LOCATION:Familienzentrum St. Heribert Kreuzau, Poststraße 3, 52372 Kreuzau
END:VEVENT
BEGIN:VEVENT
DTSTAMP:20260424T163726
DTSTART;TZID=Europe/Berlin:20260623T194500
DTEND;TZID=Europe/Berlin:20260623T204500
UID:26-F52011-20260623T194500@BFODÜREN
DESCRIPTION:Gemäß E-Mail
SUMMARY:Qi Gong für alle Altersgruppen (26-F52011) 
LOCATION:Familienzentrum St. Heribert Kreuzau, Poststraße 3, 52372 Kreuzau
END:VEVENT
END:VCALENDAR