BEGIN:VCALENDAR
VERSION:2.0
PRODID:https://www.kufer.de/kuferweb / DE
METHOD:PUBLISH
CALSCALE:GREGORIAN
X-WR-TIMEZONE:Europe/Berlin
BEGIN:VTIMEZONE
TZID:Europe/Berlin
X-LIC-LOCATION:Europe/Berlin
BEGIN:DAYLIGHT
TZOFFSETFROM:+0100
TZOFFSETTO:+0200
TZNAME:CEST
DTSTART:19700329T020000
RRULE:FREQ=YEARLY;INTERVAL=1;BYDAY=-1SU;BYMONTH=3
END:DAYLIGHT
BEGIN:STANDARD
TZOFFSETFROM:+0200
TZOFFSETTO:+0100
TZNAME:CET
DTSTART:19701025T030000
RRULE:FREQ=YEARLY;INTERVAL=1;BYDAY=-1SU;BYMONTH=10
END:STANDARD
END:VTIMEZONE
BEGIN:VEVENT
DTSTAMP:20260424T180732
DTSTART;TZID=Europe/Berlin:20260922T194500
DTEND;TZID=Europe/Berlin:20260922T204500
UID:26-F52012-20260922T194500@BFODÜREN
SUMMARY:Qi Gong für alle Altersgruppen (26-F52012) 
LOCATION:Familienzentrum St. Heribert Kreuzau, Poststraße 3, 52372 Kreuzau
END:VEVENT
BEGIN:VEVENT
DTSTAMP:20260424T180732
DTSTART;TZID=Europe/Berlin:20260929T194500
DTEND;TZID=Europe/Berlin:20260929T204500
UID:26-F52012-20260929T194500@BFODÜREN
SUMMARY:Qi Gong für alle Altersgruppen (26-F52012) 
LOCATION:Familienzentrum St. Heribert Kreuzau, Poststraße 3, 52372 Kreuzau
END:VEVENT
BEGIN:VEVENT
DTSTAMP:20260424T180732
DTSTART;TZID=Europe/Berlin:20261006T194500
DTEND;TZID=Europe/Berlin:20261006T204500
UID:26-F52012-20261006T194500@BFODÜREN
SUMMARY:Qi Gong für alle Altersgruppen (26-F52012) 
LOCATION:Familienzentrum St. Heribert Kreuzau, Poststraße 3, 52372 Kreuzau
END:VEVENT
BEGIN:VEVENT
DTSTAMP:20260424T180732
DTSTART;TZID=Europe/Berlin:20261013T194500
DTEND;TZID=Europe/Berlin:20261013T204500
UID:26-F52012-20261013T194500@BFODÜREN
SUMMARY:Qi Gong für alle Altersgruppen (26-F52012) 
LOCATION:Familienzentrum St. Heribert Kreuzau, Poststraße 3, 52372 Kreuzau
END:VEVENT
BEGIN:VEVENT
DTSTAMP:20260424T180732
DTSTART;TZID=Europe/Berlin:20261103T194500
DTEND;TZID=Europe/Berlin:20261103T204500
UID:26-F52012-20261103T194500@BFODÜREN
SUMMARY:Qi Gong für alle Altersgruppen (26-F52012) 
LOCATION:Familienzentrum St. Heribert Kreuzau, Poststraße 3, 52372 Kreuzau
END:VEVENT
BEGIN:VEVENT
DTSTAMP:20260424T180732
DTSTART;TZID=Europe/Berlin:20261110T194500
DTEND;TZID=Europe/Berlin:20261110T204500
UID:26-F52012-20261110T194500@BFODÜREN
SUMMARY:Qi Gong für alle Altersgruppen (26-F52012) 
LOCATION:Familienzentrum St. Heribert Kreuzau, Poststraße 3, 52372 Kreuzau
END:VEVENT
BEGIN:VEVENT
DTSTAMP:20260424T180732
DTSTART;TZID=Europe/Berlin:20261117T194500
DTEND;TZID=Europe/Berlin:20261117T204500
UID:26-F52012-20261117T194500@BFODÜREN
SUMMARY:Qi Gong für alle Altersgruppen (26-F52012) 
LOCATION:Familienzentrum St. Heribert Kreuzau, Poststraße 3, 52372 Kreuzau
END:VEVENT
BEGIN:VEVENT
DTSTAMP:20260424T180732
DTSTART;TZID=Europe/Berlin:20261124T194500
DTEND;TZID=Europe/Berlin:20261124T204500
UID:26-F52012-20261124T194500@BFODÜREN
SUMMARY:Qi Gong für alle Altersgruppen (26-F52012) 
LOCATION:Familienzentrum St. Heribert Kreuzau, Poststraße 3, 52372 Kreuzau
END:VEVENT
BEGIN:VEVENT
DTSTAMP:20260424T180732
DTSTART;TZID=Europe/Berlin:20261201T194500
DTEND;TZID=Europe/Berlin:20261201T204500
UID:26-F52012-20261201T194500@BFODÜREN
SUMMARY:Qi Gong für alle Altersgruppen (26-F52012) 
LOCATION:Familienzentrum St. Heribert Kreuzau, Poststraße 3, 52372 Kreuzau
END:VEVENT
BEGIN:VEVENT
DTSTAMP:20260424T180732
DTSTART;TZID=Europe/Berlin:20261208T194500
DTEND;TZID=Europe/Berlin:20261208T204500
UID:26-F52012-20261208T194500@BFODÜREN
SUMMARY:Qi Gong für alle Altersgruppen (26-F52012) 
LOCATION:Familienzentrum St. Heribert Kreuzau, Poststraße 3, 52372 Kreuzau
END:VEVENT
BEGIN:VEVENT
DTSTAMP:20260424T180732
DTSTART;TZID=Europe/Berlin:20261215T194500
DTEND;TZID=Europe/Berlin:20261215T204500
UID:26-F52012-20261215T194500@BFODÜREN
SUMMARY:Qi Gong für alle Altersgruppen (26-F52012) 
LOCATION:Familienzentrum St. Heribert Kreuzau, Poststraße 3, 52372 Kreuzau
END:VEVENT
END:VCALENDAR