BEGIN:VCALENDAR
VERSION:2.0
PRODID:https://www.kufer.de/kuferweb / DE
METHOD:PUBLISH
CALSCALE:GREGORIAN
X-WR-TIMEZONE:Europe/Berlin
BEGIN:VTIMEZONE
TZID:Europe/Berlin
X-LIC-LOCATION:Europe/Berlin
BEGIN:DAYLIGHT
TZOFFSETFROM:+0100
TZOFFSETTO:+0200
TZNAME:CEST
DTSTART:19700329T020000
RRULE:FREQ=YEARLY;INTERVAL=1;BYDAY=-1SU;BYMONTH=3
END:DAYLIGHT
BEGIN:STANDARD
TZOFFSETFROM:+0200
TZOFFSETTO:+0100
TZNAME:CET
DTSTART:19701025T030000
RRULE:FREQ=YEARLY;INTERVAL=1;BYDAY=-1SU;BYMONTH=10
END:STANDARD
END:VTIMEZONE
BEGIN:VEVENT
DTSTAMP:20260424T163842
DTSTART;TZID=Europe/Berlin:20260915T183000
DTEND;TZID=Europe/Berlin:20260915T194500
UID:26-F52112-20260915T183000@BFODÜREN
SUMMARY:Yoga am Abend in Jülich Bringen Sie Ihren Geist in Balance (26-F52112) 
LOCATION:Familienzentrum Rappelkiste, Matthiasplatz 2, 52428 Jülich
END:VEVENT
BEGIN:VEVENT
DTSTAMP:20260424T163842
DTSTART;TZID=Europe/Berlin:20260922T183000
DTEND;TZID=Europe/Berlin:20260922T194500
UID:26-F52112-20260922T183000@BFODÜREN
SUMMARY:Yoga am Abend in Jülich Bringen Sie Ihren Geist in Balance (26-F52112) 
LOCATION:Familienzentrum Rappelkiste, Matthiasplatz 2, 52428 Jülich
END:VEVENT
BEGIN:VEVENT
DTSTAMP:20260424T163842
DTSTART;TZID=Europe/Berlin:20260929T183000
DTEND;TZID=Europe/Berlin:20260929T194500
UID:26-F52112-20260929T183000@BFODÜREN
SUMMARY:Yoga am Abend in Jülich Bringen Sie Ihren Geist in Balance (26-F52112) 
LOCATION:Familienzentrum Rappelkiste, Matthiasplatz 2, 52428 Jülich
END:VEVENT
BEGIN:VEVENT
DTSTAMP:20260424T163842
DTSTART;TZID=Europe/Berlin:20261006T183000
DTEND;TZID=Europe/Berlin:20261006T194500
UID:26-F52112-20261006T183000@BFODÜREN
SUMMARY:Yoga am Abend in Jülich Bringen Sie Ihren Geist in Balance (26-F52112) 
LOCATION:Familienzentrum Rappelkiste, Matthiasplatz 2, 52428 Jülich
END:VEVENT
BEGIN:VEVENT
DTSTAMP:20260424T163842
DTSTART;TZID=Europe/Berlin:20261013T183000
DTEND;TZID=Europe/Berlin:20261013T194500
UID:26-F52112-20261013T183000@BFODÜREN
SUMMARY:Yoga am Abend in Jülich Bringen Sie Ihren Geist in Balance (26-F52112) 
LOCATION:Familienzentrum Rappelkiste, Matthiasplatz 2, 52428 Jülich
END:VEVENT
BEGIN:VEVENT
DTSTAMP:20260424T163842
DTSTART;TZID=Europe/Berlin:20261103T183000
DTEND;TZID=Europe/Berlin:20261103T194500
UID:26-F52112-20261103T183000@BFODÜREN
SUMMARY:Yoga am Abend in Jülich Bringen Sie Ihren Geist in Balance (26-F52112) 
LOCATION:Familienzentrum Rappelkiste, Matthiasplatz 2, 52428 Jülich
END:VEVENT
BEGIN:VEVENT
DTSTAMP:20260424T163842
DTSTART;TZID=Europe/Berlin:20261117T183000
DTEND;TZID=Europe/Berlin:20261117T194500
UID:26-F52112-20261117T183000@BFODÜREN
SUMMARY:Yoga am Abend in Jülich Bringen Sie Ihren Geist in Balance (26-F52112) 
LOCATION:Familienzentrum Rappelkiste, Matthiasplatz 2, 52428 Jülich
END:VEVENT
BEGIN:VEVENT
DTSTAMP:20260424T163842
DTSTART;TZID=Europe/Berlin:20261124T183000
DTEND;TZID=Europe/Berlin:20261124T194500
UID:26-F52112-20261124T183000@BFODÜREN
SUMMARY:Yoga am Abend in Jülich Bringen Sie Ihren Geist in Balance (26-F52112) 
LOCATION:Familienzentrum Rappelkiste, Matthiasplatz 2, 52428 Jülich
END:VEVENT
BEGIN:VEVENT
DTSTAMP:20260424T163842
DTSTART;TZID=Europe/Berlin:20261201T183000
DTEND;TZID=Europe/Berlin:20261201T194500
UID:26-F52112-20261201T183000@BFODÜREN
SUMMARY:Yoga am Abend in Jülich Bringen Sie Ihren Geist in Balance (26-F52112) 
LOCATION:Familienzentrum Rappelkiste, Matthiasplatz 2, 52428 Jülich
END:VEVENT
BEGIN:VEVENT
DTSTAMP:20260424T163842
DTSTART;TZID=Europe/Berlin:20261208T183000
DTEND;TZID=Europe/Berlin:20261208T194500
UID:26-F52112-20261208T183000@BFODÜREN
SUMMARY:Yoga am Abend in Jülich Bringen Sie Ihren Geist in Balance (26-F52112) 
LOCATION:Familienzentrum Rappelkiste, Matthiasplatz 2, 52428 Jülich
END:VEVENT
BEGIN:VEVENT
DTSTAMP:20260424T163842
DTSTART;TZID=Europe/Berlin:20261215T183000
DTEND;TZID=Europe/Berlin:20261215T194500
UID:26-F52112-20261215T183000@BFODÜREN
SUMMARY:Yoga am Abend in Jülich Bringen Sie Ihren Geist in Balance (26-F52112) 
LOCATION:Familienzentrum Rappelkiste, Matthiasplatz 2, 52428 Jülich
END:VEVENT
END:VCALENDAR