BEGIN:VCALENDAR
VERSION:2.0
PRODID:https://www.kufer.de/kuferweb / DE
METHOD:PUBLISH
CALSCALE:GREGORIAN
X-WR-TIMEZONE:Europe/Berlin
BEGIN:VTIMEZONE
TZID:Europe/Berlin
X-LIC-LOCATION:Europe/Berlin
BEGIN:DAYLIGHT
TZOFFSETFROM:+0100
TZOFFSETTO:+0200
TZNAME:CEST
DTSTART:19700329T020000
RRULE:FREQ=YEARLY;INTERVAL=1;BYDAY=-1SU;BYMONTH=3
END:DAYLIGHT
BEGIN:STANDARD
TZOFFSETFROM:+0200
TZOFFSETTO:+0100
TZNAME:CET
DTSTART:19701025T030000
RRULE:FREQ=YEARLY;INTERVAL=1;BYDAY=-1SU;BYMONTH=10
END:STANDARD
END:VTIMEZONE
BEGIN:VEVENT
DTSTAMP:20260425T013858
DTSTART;TZID=Europe/Berlin:20260908T190000
DTEND;TZID=Europe/Berlin:20260908T203000
UID:26-F52122-20260908T190000@BFODÜREN
SUMMARY:Yoga für Körper und Seele (26-F52122) 
LOCATION:Kindergarten Franz Sales Jülich, Artilleriestr. 27, 52428 Jülich
END:VEVENT
BEGIN:VEVENT
DTSTAMP:20260425T013858
DTSTART;TZID=Europe/Berlin:20260915T190000
DTEND;TZID=Europe/Berlin:20260915T203000
UID:26-F52122-20260915T190000@BFODÜREN
SUMMARY:Yoga für Körper und Seele (26-F52122) 
LOCATION:Kindergarten Franz Sales Jülich, Artilleriestr. 27, 52428 Jülich
END:VEVENT
BEGIN:VEVENT
DTSTAMP:20260425T013858
DTSTART;TZID=Europe/Berlin:20260922T190000
DTEND;TZID=Europe/Berlin:20260922T203000
UID:26-F52122-20260922T190000@BFODÜREN
SUMMARY:Yoga für Körper und Seele (26-F52122) 
LOCATION:Kindergarten Franz Sales Jülich, Artilleriestr. 27, 52428 Jülich
END:VEVENT
BEGIN:VEVENT
DTSTAMP:20260425T013858
DTSTART;TZID=Europe/Berlin:20260929T190000
DTEND;TZID=Europe/Berlin:20260929T203000
UID:26-F52122-20260929T190000@BFODÜREN
SUMMARY:Yoga für Körper und Seele (26-F52122) 
LOCATION:Kindergarten Franz Sales Jülich, Artilleriestr. 27, 52428 Jülich
END:VEVENT
BEGIN:VEVENT
DTSTAMP:20260425T013858
DTSTART;TZID=Europe/Berlin:20261006T190000
DTEND;TZID=Europe/Berlin:20261006T203000
UID:26-F52122-20261006T190000@BFODÜREN
SUMMARY:Yoga für Körper und Seele (26-F52122) 
LOCATION:Kindergarten Franz Sales Jülich, Artilleriestr. 27, 52428 Jülich
END:VEVENT
BEGIN:VEVENT
DTSTAMP:20260425T013858
DTSTART;TZID=Europe/Berlin:20261013T190000
DTEND;TZID=Europe/Berlin:20261013T203000
UID:26-F52122-20261013T190000@BFODÜREN
SUMMARY:Yoga für Körper und Seele (26-F52122) 
LOCATION:Kindergarten Franz Sales Jülich, Artilleriestr. 27, 52428 Jülich
END:VEVENT
BEGIN:VEVENT
DTSTAMP:20260425T013858
DTSTART;TZID=Europe/Berlin:20261103T190000
DTEND;TZID=Europe/Berlin:20261103T203000
UID:26-F52122-20261103T190000@BFODÜREN
SUMMARY:Yoga für Körper und Seele (26-F52122) 
LOCATION:Kindergarten Franz Sales Jülich, Artilleriestr. 27, 52428 Jülich
END:VEVENT
BEGIN:VEVENT
DTSTAMP:20260425T013858
DTSTART;TZID=Europe/Berlin:20261110T190000
DTEND;TZID=Europe/Berlin:20261110T203000
UID:26-F52122-20261110T190000@BFODÜREN
SUMMARY:Yoga für Körper und Seele (26-F52122) 
LOCATION:Kindergarten Franz Sales Jülich, Artilleriestr. 27, 52428 Jülich
END:VEVENT
BEGIN:VEVENT
DTSTAMP:20260425T013858
DTSTART;TZID=Europe/Berlin:20261117T190000
DTEND;TZID=Europe/Berlin:20261117T203000
UID:26-F52122-20261117T190000@BFODÜREN
SUMMARY:Yoga für Körper und Seele (26-F52122) 
LOCATION:Kindergarten Franz Sales Jülich, Artilleriestr. 27, 52428 Jülich
END:VEVENT
END:VCALENDAR