BEGIN:VCALENDAR
VERSION:2.0
PRODID:https://www.kufer.de/kuferweb / DE
METHOD:PUBLISH
CALSCALE:GREGORIAN
X-WR-TIMEZONE:Europe/Berlin
BEGIN:VTIMEZONE
TZID:Europe/Berlin
X-LIC-LOCATION:Europe/Berlin
BEGIN:DAYLIGHT
TZOFFSETFROM:+0100
TZOFFSETTO:+0200
TZNAME:CEST
DTSTART:19700329T020000
RRULE:FREQ=YEARLY;INTERVAL=1;BYDAY=-1SU;BYMONTH=3
END:DAYLIGHT
BEGIN:STANDARD
TZOFFSETFROM:+0200
TZOFFSETTO:+0100
TZNAME:CET
DTSTART:19701025T030000
RRULE:FREQ=YEARLY;INTERVAL=1;BYDAY=-1SU;BYMONTH=10
END:STANDARD
END:VTIMEZONE
BEGIN:VEVENT
DTSTAMP:20260420T165015
DTSTART;TZID=Europe/Berlin:20260205T093000
DTEND;TZID=Europe/Berlin:20260205T110000
UID:26-M54011-20260205T093000@BFODÜREN
SUMMARY:Offener Gesprächskreis für Angehörige von demenziell erkrankten Menschen; Austausch – Tipps – Informationen (26-M54011) 
LOCATION:BFO, Raum 15, Holzstraße 50, 52349 Düren
END:VEVENT
BEGIN:VEVENT
DTSTAMP:20260420T165015
DTSTART;TZID=Europe/Berlin:20260305T093000
DTEND;TZID=Europe/Berlin:20260305T110000
UID:26-M54011-20260305T093000@BFODÜREN
SUMMARY:Offener Gesprächskreis für Angehörige von demenziell erkrankten Menschen; Austausch – Tipps – Informationen (26-M54011) 
LOCATION:BFO, Raum 15, Holzstraße 50, 52349 Düren
END:VEVENT
BEGIN:VEVENT
DTSTAMP:20260420T165015
DTSTART;TZID=Europe/Berlin:20260507T093000
DTEND;TZID=Europe/Berlin:20260507T110000
UID:26-M54011-20260507T093000@BFODÜREN
SUMMARY:Offener Gesprächskreis für Angehörige von demenziell erkrankten Menschen; Austausch – Tipps – Informationen (26-M54011) 
LOCATION:BFO, Raum 15, Holzstraße 50, 52349 Düren
END:VEVENT
BEGIN:VEVENT
DTSTAMP:20260420T165015
DTSTART;TZID=Europe/Berlin:20260702T093000
DTEND;TZID=Europe/Berlin:20260702T110000
UID:26-M54011-20260702T093000@BFODÜREN
SUMMARY:Offener Gesprächskreis für Angehörige von demenziell erkrankten Menschen; Austausch – Tipps – Informationen (26-M54011) 
LOCATION:BFO, Raum 15, Holzstraße 50, 52349 Düren
END:VEVENT
END:VCALENDAR