BEGIN:VCALENDAR
VERSION:2.0
PRODID:https://www.kufer.de/kuferweb / DE
METHOD:PUBLISH
CALSCALE:GREGORIAN
X-WR-TIMEZONE:Europe/Berlin
BEGIN:VTIMEZONE
TZID:Europe/Berlin
X-LIC-LOCATION:Europe/Berlin
BEGIN:DAYLIGHT
TZOFFSETFROM:+0100
TZOFFSETTO:+0200
TZNAME:CEST
DTSTART:19700329T020000
RRULE:FREQ=YEARLY;INTERVAL=1;BYDAY=-1SU;BYMONTH=3
END:DAYLIGHT
BEGIN:STANDARD
TZOFFSETFROM:+0200
TZOFFSETTO:+0100
TZNAME:CET
DTSTART:19701025T030000
RRULE:FREQ=YEARLY;INTERVAL=1;BYDAY=-1SU;BYMONTH=10
END:STANDARD
END:VTIMEZONE
BEGIN:VEVENT
DTSTAMP:20260420T181137
DTSTART;TZID=Europe/Berlin:20260115T153000
DTEND;TZID=Europe/Berlin:20260115T180000
UID:26-M54101-20260115T153000@BFODÜREN
SUMMARY:offenes Café für Jung und Alt (26-M54101) 
LOCATION:BFO, Raum 16, Holzstraße 50, 52349 Düren
END:VEVENT
BEGIN:VEVENT
DTSTAMP:20260420T181137
DTSTART;TZID=Europe/Berlin:20260122T153000
DTEND;TZID=Europe/Berlin:20260122T180000
UID:26-M54101-20260122T153000@BFODÜREN
SUMMARY:offenes Café für Jung und Alt (26-M54101) 
LOCATION:BFO, Raum 16, Holzstraße 50, 52349 Düren
END:VEVENT
BEGIN:VEVENT
DTSTAMP:20260420T181137
DTSTART;TZID=Europe/Berlin:20260129T153000
DTEND;TZID=Europe/Berlin:20260129T180000
UID:26-M54101-20260129T153000@BFODÜREN
SUMMARY:offenes Café für Jung und Alt (26-M54101) 
LOCATION:BFO, Raum 16, Holzstraße 50, 52349 Düren
END:VEVENT
BEGIN:VEVENT
DTSTAMP:20260420T181137
DTSTART;TZID=Europe/Berlin:20260205T153000
DTEND;TZID=Europe/Berlin:20260205T180000
UID:26-M54101-20260205T153000@BFODÜREN
SUMMARY:offenes Café für Jung und Alt (26-M54101) 
LOCATION:BFO, Raum 16, Holzstraße 50, 52349 Düren
END:VEVENT
BEGIN:VEVENT
DTSTAMP:20260420T181137
DTSTART;TZID=Europe/Berlin:20260219T153000
DTEND;TZID=Europe/Berlin:20260219T180000
UID:26-M54101-20260219T153000@BFODÜREN
SUMMARY:offenes Café für Jung und Alt (26-M54101) 
LOCATION:BFO, Raum 16, Holzstraße 50, 52349 Düren
END:VEVENT
BEGIN:VEVENT
DTSTAMP:20260420T181137
DTSTART;TZID=Europe/Berlin:20260226T153000
DTEND;TZID=Europe/Berlin:20260226T180000
UID:26-M54101-20260226T153000@BFODÜREN
SUMMARY:offenes Café für Jung und Alt (26-M54101) 
LOCATION:BFO, Raum 16, Holzstraße 50, 52349 Düren
END:VEVENT
BEGIN:VEVENT
DTSTAMP:20260420T181137
DTSTART;TZID=Europe/Berlin:20260305T153000
DTEND;TZID=Europe/Berlin:20260305T180000
UID:26-M54101-20260305T153000@BFODÜREN
SUMMARY:offenes Café für Jung und Alt (26-M54101) 
LOCATION:BFO, Raum 16, Holzstraße 50, 52349 Düren
END:VEVENT
BEGIN:VEVENT
DTSTAMP:20260420T181137
DTSTART;TZID=Europe/Berlin:20260312T153000
DTEND;TZID=Europe/Berlin:20260312T180000
UID:26-M54101-20260312T153000@BFODÜREN
SUMMARY:offenes Café für Jung und Alt (26-M54101) 
LOCATION:BFO, Raum 16, Holzstraße 50, 52349 Düren
END:VEVENT
BEGIN:VEVENT
DTSTAMP:20260420T181137
DTSTART;TZID=Europe/Berlin:20260319T153000
DTEND;TZID=Europe/Berlin:20260319T180000
UID:26-M54101-20260319T153000@BFODÜREN
SUMMARY:offenes Café für Jung und Alt (26-M54101) 
LOCATION:BFO, Raum 16, Holzstraße 50, 52349 Düren
END:VEVENT
BEGIN:VEVENT
DTSTAMP:20260420T181137
DTSTART;TZID=Europe/Berlin:20260326T153000
DTEND;TZID=Europe/Berlin:20260326T180000
UID:26-M54101-20260326T153000@BFODÜREN
SUMMARY:offenes Café für Jung und Alt (26-M54101) 
LOCATION:BFO, Raum 16, Holzstraße 50, 52349 Düren
END:VEVENT
BEGIN:VEVENT
DTSTAMP:20260420T181137
DTSTART;TZID=Europe/Berlin:20260416T153000
DTEND;TZID=Europe/Berlin:20260416T180000
UID:26-M54101-20260416T153000@BFODÜREN
SUMMARY:offenes Café für Jung und Alt (26-M54101) 
LOCATION:BFO, Raum 16, Holzstraße 50, 52349 Düren
END:VEVENT
BEGIN:VEVENT
DTSTAMP:20260420T181137
DTSTART;TZID=Europe/Berlin:20260423T153000
DTEND;TZID=Europe/Berlin:20260423T180000
UID:26-M54101-20260423T153000@BFODÜREN
SUMMARY:offenes Café für Jung und Alt (26-M54101) 
LOCATION:BFO, Raum 16, Holzstraße 50, 52349 Düren
END:VEVENT
BEGIN:VEVENT
DTSTAMP:20260420T181137
DTSTART;TZID=Europe/Berlin:20260430T153000
DTEND;TZID=Europe/Berlin:20260430T180000
UID:26-M54101-20260430T153000@BFODÜREN
SUMMARY:offenes Café für Jung und Alt (26-M54101) 
LOCATION:BFO, Raum 16, Holzstraße 50, 52349 Düren
END:VEVENT
BEGIN:VEVENT
DTSTAMP:20260420T181137
DTSTART;TZID=Europe/Berlin:20260507T153000
DTEND;TZID=Europe/Berlin:20260507T180000
UID:26-M54101-20260507T153000@BFODÜREN
SUMMARY:offenes Café für Jung und Alt (26-M54101) 
LOCATION:BFO, Raum 16, Holzstraße 50, 52349 Düren
END:VEVENT
BEGIN:VEVENT
DTSTAMP:20260420T181137
DTSTART;TZID=Europe/Berlin:20260521T153000
DTEND;TZID=Europe/Berlin:20260521T180000
UID:26-M54101-20260521T153000@BFODÜREN
SUMMARY:offenes Café für Jung und Alt (26-M54101) 
LOCATION:BFO, Raum 16, Holzstraße 50, 52349 Düren
END:VEVENT
BEGIN:VEVENT
DTSTAMP:20260420T181137
DTSTART;TZID=Europe/Berlin:20260528T153000
DTEND;TZID=Europe/Berlin:20260528T180000
UID:26-M54101-20260528T153000@BFODÜREN
SUMMARY:offenes Café für Jung und Alt (26-M54101) 
LOCATION:BFO, Raum 16, Holzstraße 50, 52349 Düren
END:VEVENT
BEGIN:VEVENT
DTSTAMP:20260420T181137
DTSTART;TZID=Europe/Berlin:20260611T153000
DTEND;TZID=Europe/Berlin:20260611T180000
UID:26-M54101-20260611T153000@BFODÜREN
SUMMARY:offenes Café für Jung und Alt (26-M54101) 
LOCATION:BFO, Raum 16, Holzstraße 50, 52349 Düren
END:VEVENT
BEGIN:VEVENT
DTSTAMP:20260420T181137
DTSTART;TZID=Europe/Berlin:20260618T153000
DTEND;TZID=Europe/Berlin:20260618T180000
UID:26-M54101-20260618T153000@BFODÜREN
SUMMARY:offenes Café für Jung und Alt (26-M54101) 
LOCATION:BFO, Raum 16, Holzstraße 50, 52349 Düren
END:VEVENT
BEGIN:VEVENT
DTSTAMP:20260420T181137
DTSTART;TZID=Europe/Berlin:20260625T153000
DTEND;TZID=Europe/Berlin:20260625T180000
UID:26-M54101-20260625T153000@BFODÜREN
SUMMARY:offenes Café für Jung und Alt (26-M54101) 
LOCATION:BFO, Raum 16, Holzstraße 50, 52349 Düren
END:VEVENT
BEGIN:VEVENT
DTSTAMP:20260420T181137
DTSTART;TZID=Europe/Berlin:20260702T153000
DTEND;TZID=Europe/Berlin:20260702T180000
UID:26-M54101-20260702T153000@BFODÜREN
SUMMARY:offenes Café für Jung und Alt (26-M54101) 
LOCATION:BFO, Raum 16, Holzstraße 50, 52349 Düren
END:VEVENT
BEGIN:VEVENT
DTSTAMP:20260420T181137
DTSTART;TZID=Europe/Berlin:20260709T153000
DTEND;TZID=Europe/Berlin:20260709T180000
UID:26-M54101-20260709T153000@BFODÜREN
SUMMARY:offenes Café für Jung und Alt (26-M54101) 
LOCATION:BFO, Raum 16, Holzstraße 50, 52349 Düren
END:VEVENT
BEGIN:VEVENT
DTSTAMP:20260420T181137
DTSTART;TZID=Europe/Berlin:20260716T153000
DTEND;TZID=Europe/Berlin:20260716T180000
UID:26-M54101-20260716T153000@BFODÜREN
SUMMARY:offenes Café für Jung und Alt (26-M54101) 
LOCATION:BFO, Raum 16, Holzstraße 50, 52349 Düren
END:VEVENT
END:VCALENDAR