BEGIN:VCALENDAR
VERSION:2.0
PRODID:https://www.kufer.de/kuferweb / DE
METHOD:PUBLISH
CALSCALE:GREGORIAN
X-WR-TIMEZONE:Europe/Berlin
BEGIN:VTIMEZONE
TZID:Europe/Berlin
X-LIC-LOCATION:Europe/Berlin
BEGIN:DAYLIGHT
TZOFFSETFROM:+0100
TZOFFSETTO:+0200
TZNAME:CEST
DTSTART:19700329T020000
RRULE:FREQ=YEARLY;INTERVAL=1;BYDAY=-1SU;BYMONTH=3
END:DAYLIGHT
BEGIN:STANDARD
TZOFFSETFROM:+0200
TZOFFSETTO:+0100
TZNAME:CET
DTSTART:19701025T030000
RRULE:FREQ=YEARLY;INTERVAL=1;BYDAY=-1SU;BYMONTH=10
END:STANDARD
END:VTIMEZONE
BEGIN:VEVENT
DTSTAMP:20260420T163200
DTSTART;TZID=Europe/Berlin:20260115T150000
DTEND;TZID=Europe/Berlin:20260115T170000
UID:26-M54111-20260115T150000@BFODÜREN
SUMMARY:Lernen verbindet Generationen (26-M54111) 
LOCATION:BFO, Raum 31, Holzstraße 50, 52349 Düren
END:VEVENT
BEGIN:VEVENT
DTSTAMP:20260420T163200
DTSTART;TZID=Europe/Berlin:20260115T150000
DTEND;TZID=Europe/Berlin:20260115T170000
UID:26-M54111-20260115T150000@BFODÜREN
SUMMARY:Lernen verbindet Generationen (26-M54111) 
LOCATION:BFO, Raum 31, Holzstraße 50, 52349 Düren
END:VEVENT
BEGIN:VEVENT
DTSTAMP:20260420T163200
DTSTART;TZID=Europe/Berlin:20260115T150000
DTEND;TZID=Europe/Berlin:20260115T170000
UID:26-M54111-20260115T150000@BFODÜREN
SUMMARY:Lernen verbindet Generationen (26-M54111) 
LOCATION:BFO, Raum 31, Holzstraße 50, 52349 Düren
END:VEVENT
BEGIN:VEVENT
DTSTAMP:20260420T163200
DTSTART;TZID=Europe/Berlin:20260122T150000
DTEND;TZID=Europe/Berlin:20260122T170000
UID:26-M54111-20260122T150000@BFODÜREN
SUMMARY:Lernen verbindet Generationen (26-M54111) 
LOCATION:BFO, Raum 31, Holzstraße 50, 52349 Düren
END:VEVENT
BEGIN:VEVENT
DTSTAMP:20260420T163200
DTSTART;TZID=Europe/Berlin:20260122T150000
DTEND;TZID=Europe/Berlin:20260122T170000
UID:26-M54111-20260122T150000@BFODÜREN
SUMMARY:Lernen verbindet Generationen (26-M54111) 
LOCATION:BFO, Raum 31, Holzstraße 50, 52349 Düren
END:VEVENT
BEGIN:VEVENT
DTSTAMP:20260420T163200
DTSTART;TZID=Europe/Berlin:20260122T150000
DTEND;TZID=Europe/Berlin:20260122T170000
UID:26-M54111-20260122T150000@BFODÜREN
SUMMARY:Lernen verbindet Generationen (26-M54111) 
LOCATION:BFO, Raum 31, Holzstraße 50, 52349 Düren
END:VEVENT
BEGIN:VEVENT
DTSTAMP:20260420T163200
DTSTART;TZID=Europe/Berlin:20260129T150000
DTEND;TZID=Europe/Berlin:20260129T170000
UID:26-M54111-20260129T150000@BFODÜREN
SUMMARY:Lernen verbindet Generationen (26-M54111) 
LOCATION:BFO, Raum 22, Holzstraße 50, 52349 Düren
END:VEVENT
BEGIN:VEVENT
DTSTAMP:20260420T163200
DTSTART;TZID=Europe/Berlin:20260129T150000
DTEND;TZID=Europe/Berlin:20260129T170000
UID:26-M54111-20260129T150000@BFODÜREN
SUMMARY:Lernen verbindet Generationen (26-M54111) 
LOCATION:BFO, Raum 22, Holzstraße 50, 52349 Düren
END:VEVENT
BEGIN:VEVENT
DTSTAMP:20260420T163200
DTSTART;TZID=Europe/Berlin:20260129T150000
DTEND;TZID=Europe/Berlin:20260129T170000
UID:26-M54111-20260129T150000@BFODÜREN
SUMMARY:Lernen verbindet Generationen (26-M54111) 
LOCATION:BFO, Raum 22, Holzstraße 50, 52349 Düren
END:VEVENT
BEGIN:VEVENT
DTSTAMP:20260420T163200
DTSTART;TZID=Europe/Berlin:20260205T150000
DTEND;TZID=Europe/Berlin:20260205T170000
UID:26-M54111-20260205T150000@BFODÜREN
SUMMARY:Lernen verbindet Generationen (26-M54111) 
LOCATION:BFO, Raum 22, Holzstraße 50, 52349 Düren
END:VEVENT
BEGIN:VEVENT
DTSTAMP:20260420T163200
DTSTART;TZID=Europe/Berlin:20260205T150000
DTEND;TZID=Europe/Berlin:20260205T170000
UID:26-M54111-20260205T150000@BFODÜREN
SUMMARY:Lernen verbindet Generationen (26-M54111) 
LOCATION:BFO, Raum 22, Holzstraße 50, 52349 Düren
END:VEVENT
BEGIN:VEVENT
DTSTAMP:20260420T163200
DTSTART;TZID=Europe/Berlin:20260205T150000
DTEND;TZID=Europe/Berlin:20260205T170000
UID:26-M54111-20260205T150000@BFODÜREN
SUMMARY:Lernen verbindet Generationen (26-M54111) 
LOCATION:BFO, Raum 22, Holzstraße 50, 52349 Düren
END:VEVENT
BEGIN:VEVENT
DTSTAMP:20260420T163200
DTSTART;TZID=Europe/Berlin:20260219T150000
DTEND;TZID=Europe/Berlin:20260219T170000
UID:26-M54111-20260219T150000@BFODÜREN
SUMMARY:Lernen verbindet Generationen (26-M54111) 
LOCATION:BFO, Raum 22, Holzstraße 50, 52349 Düren
END:VEVENT
BEGIN:VEVENT
DTSTAMP:20260420T163200
DTSTART;TZID=Europe/Berlin:20260219T150000
DTEND;TZID=Europe/Berlin:20260219T170000
UID:26-M54111-20260219T150000@BFODÜREN
SUMMARY:Lernen verbindet Generationen (26-M54111) 
LOCATION:BFO, Raum 22, Holzstraße 50, 52349 Düren
END:VEVENT
BEGIN:VEVENT
DTSTAMP:20260420T163200
DTSTART;TZID=Europe/Berlin:20260219T150000
DTEND;TZID=Europe/Berlin:20260219T170000
UID:26-M54111-20260219T150000@BFODÜREN
SUMMARY:Lernen verbindet Generationen (26-M54111) 
LOCATION:BFO, Raum 22, Holzstraße 50, 52349 Düren
END:VEVENT
BEGIN:VEVENT
DTSTAMP:20260420T163200
DTSTART;TZID=Europe/Berlin:20260226T150000
DTEND;TZID=Europe/Berlin:20260226T170000
UID:26-M54111-20260226T150000@BFODÜREN
SUMMARY:Lernen verbindet Generationen (26-M54111) 
LOCATION:BFO, Raum 31, Holzstraße 50, 52349 Düren
END:VEVENT
BEGIN:VEVENT
DTSTAMP:20260420T163200
DTSTART;TZID=Europe/Berlin:20260226T150000
DTEND;TZID=Europe/Berlin:20260226T170000
UID:26-M54111-20260226T150000@BFODÜREN
SUMMARY:Lernen verbindet Generationen (26-M54111) 
LOCATION:BFO, Raum 31, Holzstraße 50, 52349 Düren
END:VEVENT
BEGIN:VEVENT
DTSTAMP:20260420T163200
DTSTART;TZID=Europe/Berlin:20260226T150000
DTEND;TZID=Europe/Berlin:20260226T170000
UID:26-M54111-20260226T150000@BFODÜREN
SUMMARY:Lernen verbindet Generationen (26-M54111) 
LOCATION:BFO, Raum 31, Holzstraße 50, 52349 Düren
END:VEVENT
BEGIN:VEVENT
DTSTAMP:20260420T163200
DTSTART;TZID=Europe/Berlin:20260305T150000
DTEND;TZID=Europe/Berlin:20260305T170000
UID:26-M54111-20260305T150000@BFODÜREN
SUMMARY:Lernen verbindet Generationen (26-M54111) 
LOCATION:BFO, Raum 31, Holzstraße 50, 52349 Düren
END:VEVENT
BEGIN:VEVENT
DTSTAMP:20260420T163200
DTSTART;TZID=Europe/Berlin:20260305T150000
DTEND;TZID=Europe/Berlin:20260305T170000
UID:26-M54111-20260305T150000@BFODÜREN
SUMMARY:Lernen verbindet Generationen (26-M54111) 
LOCATION:BFO, Raum 31, Holzstraße 50, 52349 Düren
END:VEVENT
BEGIN:VEVENT
DTSTAMP:20260420T163200
DTSTART;TZID=Europe/Berlin:20260305T150000
DTEND;TZID=Europe/Berlin:20260305T170000
UID:26-M54111-20260305T150000@BFODÜREN
SUMMARY:Lernen verbindet Generationen (26-M54111) 
LOCATION:BFO, Raum 31, Holzstraße 50, 52349 Düren
END:VEVENT
BEGIN:VEVENT
DTSTAMP:20260420T163200
DTSTART;TZID=Europe/Berlin:20260312T150000
DTEND;TZID=Europe/Berlin:20260312T170000
UID:26-M54111-20260312T150000@BFODÜREN
SUMMARY:Lernen verbindet Generationen (26-M54111) 
LOCATION:BFO, Raum 22, Holzstraße 50, 52349 Düren
END:VEVENT
BEGIN:VEVENT
DTSTAMP:20260420T163200
DTSTART;TZID=Europe/Berlin:20260312T150000
DTEND;TZID=Europe/Berlin:20260312T170000
UID:26-M54111-20260312T150000@BFODÜREN
SUMMARY:Lernen verbindet Generationen (26-M54111) 
LOCATION:BFO, Raum 22, Holzstraße 50, 52349 Düren
END:VEVENT
BEGIN:VEVENT
DTSTAMP:20260420T163200
DTSTART;TZID=Europe/Berlin:20260312T150000
DTEND;TZID=Europe/Berlin:20260312T170000
UID:26-M54111-20260312T150000@BFODÜREN
SUMMARY:Lernen verbindet Generationen (26-M54111) 
LOCATION:BFO, Raum 22, Holzstraße 50, 52349 Düren
END:VEVENT
BEGIN:VEVENT
DTSTAMP:20260420T163200
DTSTART;TZID=Europe/Berlin:20260319T150000
DTEND;TZID=Europe/Berlin:20260319T170000
UID:26-M54111-20260319T150000@BFODÜREN
SUMMARY:Lernen verbindet Generationen (26-M54111) 
LOCATION:BFO, Raum 22, Holzstraße 50, 52349 Düren
END:VEVENT
BEGIN:VEVENT
DTSTAMP:20260420T163200
DTSTART;TZID=Europe/Berlin:20260319T150000
DTEND;TZID=Europe/Berlin:20260319T170000
UID:26-M54111-20260319T150000@BFODÜREN
SUMMARY:Lernen verbindet Generationen (26-M54111) 
LOCATION:BFO, Raum 22, Holzstraße 50, 52349 Düren
END:VEVENT
BEGIN:VEVENT
DTSTAMP:20260420T163200
DTSTART;TZID=Europe/Berlin:20260319T150000
DTEND;TZID=Europe/Berlin:20260319T170000
UID:26-M54111-20260319T150000@BFODÜREN
SUMMARY:Lernen verbindet Generationen (26-M54111) 
LOCATION:BFO, Raum 22, Holzstraße 50, 52349 Düren
END:VEVENT
BEGIN:VEVENT
DTSTAMP:20260420T163200
DTSTART;TZID=Europe/Berlin:20260326T150000
DTEND;TZID=Europe/Berlin:20260326T170000
UID:26-M54111-20260326T150000@BFODÜREN
SUMMARY:Lernen verbindet Generationen (26-M54111) 
LOCATION:BFO, Raum 22, Holzstraße 50, 52349 Düren
END:VEVENT
BEGIN:VEVENT
DTSTAMP:20260420T163200
DTSTART;TZID=Europe/Berlin:20260326T150000
DTEND;TZID=Europe/Berlin:20260326T170000
UID:26-M54111-20260326T150000@BFODÜREN
SUMMARY:Lernen verbindet Generationen (26-M54111) 
LOCATION:BFO, Raum 22, Holzstraße 50, 52349 Düren
END:VEVENT
BEGIN:VEVENT
DTSTAMP:20260420T163200
DTSTART;TZID=Europe/Berlin:20260326T150000
DTEND;TZID=Europe/Berlin:20260326T170000
UID:26-M54111-20260326T150000@BFODÜREN
SUMMARY:Lernen verbindet Generationen (26-M54111) 
LOCATION:BFO, Raum 22, Holzstraße 50, 52349 Düren
END:VEVENT
BEGIN:VEVENT
DTSTAMP:20260420T163200
DTSTART;TZID=Europe/Berlin:20260416T150000
DTEND;TZID=Europe/Berlin:20260416T170000
UID:26-M54111-20260416T150000@BFODÜREN
SUMMARY:Lernen verbindet Generationen (26-M54111) 
LOCATION:BFO, Raum 22, Holzstraße 50, 52349 Düren
END:VEVENT
BEGIN:VEVENT
DTSTAMP:20260420T163200
DTSTART;TZID=Europe/Berlin:20260416T150000
DTEND;TZID=Europe/Berlin:20260416T170000
UID:26-M54111-20260416T150000@BFODÜREN
SUMMARY:Lernen verbindet Generationen (26-M54111) 
LOCATION:BFO, Raum 22, Holzstraße 50, 52349 Düren
END:VEVENT
BEGIN:VEVENT
DTSTAMP:20260420T163200
DTSTART;TZID=Europe/Berlin:20260416T150000
DTEND;TZID=Europe/Berlin:20260416T170000
UID:26-M54111-20260416T150000@BFODÜREN
SUMMARY:Lernen verbindet Generationen (26-M54111) 
LOCATION:BFO, Raum 22, Holzstraße 50, 52349 Düren
END:VEVENT
BEGIN:VEVENT
DTSTAMP:20260420T163200
DTSTART;TZID=Europe/Berlin:20260423T150000
DTEND;TZID=Europe/Berlin:20260423T170000
UID:26-M54111-20260423T150000@BFODÜREN
SUMMARY:Lernen verbindet Generationen (26-M54111) 
LOCATION:BFO, Raum 31, Holzstraße 50, 52349 Düren
END:VEVENT
BEGIN:VEVENT
DTSTAMP:20260420T163200
DTSTART;TZID=Europe/Berlin:20260423T150000
DTEND;TZID=Europe/Berlin:20260423T170000
UID:26-M54111-20260423T150000@BFODÜREN
SUMMARY:Lernen verbindet Generationen (26-M54111) 
LOCATION:BFO, Raum 31, Holzstraße 50, 52349 Düren
END:VEVENT
BEGIN:VEVENT
DTSTAMP:20260420T163200
DTSTART;TZID=Europe/Berlin:20260423T150000
DTEND;TZID=Europe/Berlin:20260423T170000
UID:26-M54111-20260423T150000@BFODÜREN
SUMMARY:Lernen verbindet Generationen (26-M54111) 
LOCATION:BFO, Raum 31, Holzstraße 50, 52349 Düren
END:VEVENT
BEGIN:VEVENT
DTSTAMP:20260420T163200
DTSTART;TZID=Europe/Berlin:20260430T150000
DTEND;TZID=Europe/Berlin:20260430T170000
UID:26-M54111-20260430T150000@BFODÜREN
SUMMARY:Lernen verbindet Generationen (26-M54111) 
LOCATION:BFO, Raum 22, Holzstraße 50, 52349 Düren
END:VEVENT
BEGIN:VEVENT
DTSTAMP:20260420T163200
DTSTART;TZID=Europe/Berlin:20260430T150000
DTEND;TZID=Europe/Berlin:20260430T170000
UID:26-M54111-20260430T150000@BFODÜREN
SUMMARY:Lernen verbindet Generationen (26-M54111) 
LOCATION:BFO, Raum 22, Holzstraße 50, 52349 Düren
END:VEVENT
BEGIN:VEVENT
DTSTAMP:20260420T163200
DTSTART;TZID=Europe/Berlin:20260430T150000
DTEND;TZID=Europe/Berlin:20260430T170000
UID:26-M54111-20260430T150000@BFODÜREN
SUMMARY:Lernen verbindet Generationen (26-M54111) 
LOCATION:BFO, Raum 22, Holzstraße 50, 52349 Düren
END:VEVENT
BEGIN:VEVENT
DTSTAMP:20260420T163200
DTSTART;TZID=Europe/Berlin:20260507T150000
DTEND;TZID=Europe/Berlin:20260507T170000
UID:26-M54111-20260507T150000@BFODÜREN
SUMMARY:Lernen verbindet Generationen (26-M54111) 
LOCATION:BFO, Raum 22, Holzstraße 50, 52349 Düren
END:VEVENT
BEGIN:VEVENT
DTSTAMP:20260420T163200
DTSTART;TZID=Europe/Berlin:20260507T150000
DTEND;TZID=Europe/Berlin:20260507T170000
UID:26-M54111-20260507T150000@BFODÜREN
SUMMARY:Lernen verbindet Generationen (26-M54111) 
LOCATION:BFO, Raum 22, Holzstraße 50, 52349 Düren
END:VEVENT
BEGIN:VEVENT
DTSTAMP:20260420T163200
DTSTART;TZID=Europe/Berlin:20260507T150000
DTEND;TZID=Europe/Berlin:20260507T170000
UID:26-M54111-20260507T150000@BFODÜREN
SUMMARY:Lernen verbindet Generationen (26-M54111) 
LOCATION:BFO, Raum 22, Holzstraße 50, 52349 Düren
END:VEVENT
BEGIN:VEVENT
DTSTAMP:20260420T163200
DTSTART;TZID=Europe/Berlin:20260521T150000
DTEND;TZID=Europe/Berlin:20260521T170000
UID:26-M54111-20260521T150000@BFODÜREN
SUMMARY:Lernen verbindet Generationen (26-M54111) 
LOCATION:BFO, Raum 22, Holzstraße 50, 52349 Düren
END:VEVENT
BEGIN:VEVENT
DTSTAMP:20260420T163200
DTSTART;TZID=Europe/Berlin:20260521T150000
DTEND;TZID=Europe/Berlin:20260521T170000
UID:26-M54111-20260521T150000@BFODÜREN
SUMMARY:Lernen verbindet Generationen (26-M54111) 
LOCATION:BFO, Raum 22, Holzstraße 50, 52349 Düren
END:VEVENT
BEGIN:VEVENT
DTSTAMP:20260420T163200
DTSTART;TZID=Europe/Berlin:20260521T150000
DTEND;TZID=Europe/Berlin:20260521T170000
UID:26-M54111-20260521T150000@BFODÜREN
SUMMARY:Lernen verbindet Generationen (26-M54111) 
LOCATION:BFO, Raum 22, Holzstraße 50, 52349 Düren
END:VEVENT
BEGIN:VEVENT
DTSTAMP:20260420T163200
DTSTART;TZID=Europe/Berlin:20260528T150000
DTEND;TZID=Europe/Berlin:20260528T170000
UID:26-M54111-20260528T150000@BFODÜREN
SUMMARY:Lernen verbindet Generationen (26-M54111) 
LOCATION:BFO, Raum 22, Holzstraße 50, 52349 Düren
END:VEVENT
BEGIN:VEVENT
DTSTAMP:20260420T163200
DTSTART;TZID=Europe/Berlin:20260528T150000
DTEND;TZID=Europe/Berlin:20260528T170000
UID:26-M54111-20260528T150000@BFODÜREN
SUMMARY:Lernen verbindet Generationen (26-M54111) 
LOCATION:BFO, Raum 22, Holzstraße 50, 52349 Düren
END:VEVENT
BEGIN:VEVENT
DTSTAMP:20260420T163200
DTSTART;TZID=Europe/Berlin:20260528T150000
DTEND;TZID=Europe/Berlin:20260528T170000
UID:26-M54111-20260528T150000@BFODÜREN
SUMMARY:Lernen verbindet Generationen (26-M54111) 
LOCATION:BFO, Raum 22, Holzstraße 50, 52349 Düren
END:VEVENT
BEGIN:VEVENT
DTSTAMP:20260420T163200
DTSTART;TZID=Europe/Berlin:20260608T143000
DTEND;TZID=Europe/Berlin:20260608T160000
UID:26-M54111-20260608T143000@BFODÜREN
SUMMARY:Lernen verbindet Generationen (26-M54111) 
LOCATION:BFO, Raum 22, Holzstraße 50, 52349 Düren
END:VEVENT
BEGIN:VEVENT
DTSTAMP:20260420T163200
DTSTART;TZID=Europe/Berlin:20260608T143000
DTEND;TZID=Europe/Berlin:20260608T160000
UID:26-M54111-20260608T143000@BFODÜREN
SUMMARY:Lernen verbindet Generationen (26-M54111) 
LOCATION:BFO, Raum 22, Holzstraße 50, 52349 Düren
END:VEVENT
BEGIN:VEVENT
DTSTAMP:20260420T163200
DTSTART;TZID=Europe/Berlin:20260608T143000
DTEND;TZID=Europe/Berlin:20260608T160000
UID:26-M54111-20260608T143000@BFODÜREN
SUMMARY:Lernen verbindet Generationen (26-M54111) 
LOCATION:BFO, Raum 22, Holzstraße 50, 52349 Düren
END:VEVENT
BEGIN:VEVENT
DTSTAMP:20260420T163200
DTSTART;TZID=Europe/Berlin:20260611T143000
DTEND;TZID=Europe/Berlin:20260611T160000
UID:26-M54111-20260611T143000@BFODÜREN
SUMMARY:Lernen verbindet Generationen (26-M54111) 
LOCATION:BFO, Raum 22, Holzstraße 50, 52349 Düren
END:VEVENT
BEGIN:VEVENT
DTSTAMP:20260420T163200
DTSTART;TZID=Europe/Berlin:20260611T143000
DTEND;TZID=Europe/Berlin:20260611T160000
UID:26-M54111-20260611T143000@BFODÜREN
SUMMARY:Lernen verbindet Generationen (26-M54111) 
LOCATION:BFO, Raum 22, Holzstraße 50, 52349 Düren
END:VEVENT
BEGIN:VEVENT
DTSTAMP:20260420T163200
DTSTART;TZID=Europe/Berlin:20260611T143000
DTEND;TZID=Europe/Berlin:20260611T160000
UID:26-M54111-20260611T143000@BFODÜREN
SUMMARY:Lernen verbindet Generationen (26-M54111) 
LOCATION:BFO, Raum 22, Holzstraße 50, 52349 Düren
END:VEVENT
BEGIN:VEVENT
DTSTAMP:20260420T163200
DTSTART;TZID=Europe/Berlin:20260615T143000
DTEND;TZID=Europe/Berlin:20260615T160000
UID:26-M54111-20260615T143000@BFODÜREN
SUMMARY:Lernen verbindet Generationen (26-M54111) 
LOCATION:BFO, Raum 22, Holzstraße 50, 52349 Düren
END:VEVENT
BEGIN:VEVENT
DTSTAMP:20260420T163200
DTSTART;TZID=Europe/Berlin:20260615T143000
DTEND;TZID=Europe/Berlin:20260615T160000
UID:26-M54111-20260615T143000@BFODÜREN
SUMMARY:Lernen verbindet Generationen (26-M54111) 
LOCATION:BFO, Raum 22, Holzstraße 50, 52349 Düren
END:VEVENT
BEGIN:VEVENT
DTSTAMP:20260420T163200
DTSTART;TZID=Europe/Berlin:20260615T143000
DTEND;TZID=Europe/Berlin:20260615T160000
UID:26-M54111-20260615T143000@BFODÜREN
SUMMARY:Lernen verbindet Generationen (26-M54111) 
LOCATION:BFO, Raum 22, Holzstraße 50, 52349 Düren
END:VEVENT
BEGIN:VEVENT
DTSTAMP:20260420T163200
DTSTART;TZID=Europe/Berlin:20260618T143000
DTEND;TZID=Europe/Berlin:20260618T160000
UID:26-M54111-20260618T143000@BFODÜREN
SUMMARY:Lernen verbindet Generationen (26-M54111) 
LOCATION:BFO, Raum 22, Holzstraße 50, 52349 Düren
END:VEVENT
BEGIN:VEVENT
DTSTAMP:20260420T163200
DTSTART;TZID=Europe/Berlin:20260618T143000
DTEND;TZID=Europe/Berlin:20260618T160000
UID:26-M54111-20260618T143000@BFODÜREN
SUMMARY:Lernen verbindet Generationen (26-M54111) 
LOCATION:BFO, Raum 22, Holzstraße 50, 52349 Düren
END:VEVENT
BEGIN:VEVENT
DTSTAMP:20260420T163200
DTSTART;TZID=Europe/Berlin:20260618T143000
DTEND;TZID=Europe/Berlin:20260618T160000
UID:26-M54111-20260618T143000@BFODÜREN
SUMMARY:Lernen verbindet Generationen (26-M54111) 
LOCATION:BFO, Raum 22, Holzstraße 50, 52349 Düren
END:VEVENT
BEGIN:VEVENT
DTSTAMP:20260420T163200
DTSTART;TZID=Europe/Berlin:20260622T143000
DTEND;TZID=Europe/Berlin:20260622T160000
UID:26-M54111-20260622T143000@BFODÜREN
SUMMARY:Lernen verbindet Generationen (26-M54111) 
LOCATION:BFO, Raum 22, Holzstraße 50, 52349 Düren
END:VEVENT
BEGIN:VEVENT
DTSTAMP:20260420T163200
DTSTART;TZID=Europe/Berlin:20260622T143000
DTEND;TZID=Europe/Berlin:20260622T160000
UID:26-M54111-20260622T143000@BFODÜREN
SUMMARY:Lernen verbindet Generationen (26-M54111) 
LOCATION:BFO, Raum 22, Holzstraße 50, 52349 Düren
END:VEVENT
BEGIN:VEVENT
DTSTAMP:20260420T163200
DTSTART;TZID=Europe/Berlin:20260622T143000
DTEND;TZID=Europe/Berlin:20260622T160000
UID:26-M54111-20260622T143000@BFODÜREN
SUMMARY:Lernen verbindet Generationen (26-M54111) 
LOCATION:BFO, Raum 22, Holzstraße 50, 52349 Düren
END:VEVENT
BEGIN:VEVENT
DTSTAMP:20260420T163200
DTSTART;TZID=Europe/Berlin:20260625T143000
DTEND;TZID=Europe/Berlin:20260625T160000
UID:26-M54111-20260625T143000@BFODÜREN
SUMMARY:Lernen verbindet Generationen (26-M54111) 
LOCATION:BFO, Raum 22, Holzstraße 50, 52349 Düren
END:VEVENT
BEGIN:VEVENT
DTSTAMP:20260420T163200
DTSTART;TZID=Europe/Berlin:20260625T143000
DTEND;TZID=Europe/Berlin:20260625T160000
UID:26-M54111-20260625T143000@BFODÜREN
SUMMARY:Lernen verbindet Generationen (26-M54111) 
LOCATION:BFO, Raum 22, Holzstraße 50, 52349 Düren
END:VEVENT
BEGIN:VEVENT
DTSTAMP:20260420T163200
DTSTART;TZID=Europe/Berlin:20260625T143000
DTEND;TZID=Europe/Berlin:20260625T160000
UID:26-M54111-20260625T143000@BFODÜREN
SUMMARY:Lernen verbindet Generationen (26-M54111) 
LOCATION:BFO, Raum 22, Holzstraße 50, 52349 Düren
END:VEVENT
BEGIN:VEVENT
DTSTAMP:20260420T163200
DTSTART;TZID=Europe/Berlin:20260629T143000
DTEND;TZID=Europe/Berlin:20260629T160000
UID:26-M54111-20260629T143000@BFODÜREN
SUMMARY:Lernen verbindet Generationen (26-M54111) 
LOCATION:BFO, Raum 22, Holzstraße 50, 52349 Düren
END:VEVENT
BEGIN:VEVENT
DTSTAMP:20260420T163200
DTSTART;TZID=Europe/Berlin:20260629T143000
DTEND;TZID=Europe/Berlin:20260629T160000
UID:26-M54111-20260629T143000@BFODÜREN
SUMMARY:Lernen verbindet Generationen (26-M54111) 
LOCATION:BFO, Raum 22, Holzstraße 50, 52349 Düren
END:VEVENT
BEGIN:VEVENT
DTSTAMP:20260420T163200
DTSTART;TZID=Europe/Berlin:20260629T143000
DTEND;TZID=Europe/Berlin:20260629T160000
UID:26-M54111-20260629T143000@BFODÜREN
SUMMARY:Lernen verbindet Generationen (26-M54111) 
LOCATION:BFO, Raum 22, Holzstraße 50, 52349 Düren
END:VEVENT
BEGIN:VEVENT
DTSTAMP:20260420T163200
DTSTART;TZID=Europe/Berlin:20260702T143000
DTEND;TZID=Europe/Berlin:20260702T160000
UID:26-M54111-20260702T143000@BFODÜREN
SUMMARY:Lernen verbindet Generationen (26-M54111) 
LOCATION:BFO, Raum 22, Holzstraße 50, 52349 Düren
END:VEVENT
BEGIN:VEVENT
DTSTAMP:20260420T163200
DTSTART;TZID=Europe/Berlin:20260702T143000
DTEND;TZID=Europe/Berlin:20260702T160000
UID:26-M54111-20260702T143000@BFODÜREN
SUMMARY:Lernen verbindet Generationen (26-M54111) 
LOCATION:BFO, Raum 22, Holzstraße 50, 52349 Düren
END:VEVENT
BEGIN:VEVENT
DTSTAMP:20260420T163200
DTSTART;TZID=Europe/Berlin:20260702T143000
DTEND;TZID=Europe/Berlin:20260702T160000
UID:26-M54111-20260702T143000@BFODÜREN
SUMMARY:Lernen verbindet Generationen (26-M54111) 
LOCATION:BFO, Raum 22, Holzstraße 50, 52349 Düren
END:VEVENT
BEGIN:VEVENT
DTSTAMP:20260420T163200
DTSTART;TZID=Europe/Berlin:20260706T143000
DTEND;TZID=Europe/Berlin:20260706T160000
UID:26-M54111-20260706T143000@BFODÜREN
SUMMARY:Lernen verbindet Generationen (26-M54111) 
LOCATION:BFO, Raum 22, Holzstraße 50, 52349 Düren
END:VEVENT
BEGIN:VEVENT
DTSTAMP:20260420T163200
DTSTART;TZID=Europe/Berlin:20260706T143000
DTEND;TZID=Europe/Berlin:20260706T160000
UID:26-M54111-20260706T143000@BFODÜREN
SUMMARY:Lernen verbindet Generationen (26-M54111) 
LOCATION:BFO, Raum 22, Holzstraße 50, 52349 Düren
END:VEVENT
BEGIN:VEVENT
DTSTAMP:20260420T163200
DTSTART;TZID=Europe/Berlin:20260706T143000
DTEND;TZID=Europe/Berlin:20260706T160000
UID:26-M54111-20260706T143000@BFODÜREN
SUMMARY:Lernen verbindet Generationen (26-M54111) 
LOCATION:BFO, Raum 22, Holzstraße 50, 52349 Düren
END:VEVENT
BEGIN:VEVENT
DTSTAMP:20260420T163200
DTSTART;TZID=Europe/Berlin:20260709T143000
DTEND;TZID=Europe/Berlin:20260709T160000
UID:26-M54111-20260709T143000@BFODÜREN
SUMMARY:Lernen verbindet Generationen (26-M54111) 
LOCATION:BFO, Raum 22, Holzstraße 50, 52349 Düren
END:VEVENT
BEGIN:VEVENT
DTSTAMP:20260420T163200
DTSTART;TZID=Europe/Berlin:20260709T143000
DTEND;TZID=Europe/Berlin:20260709T160000
UID:26-M54111-20260709T143000@BFODÜREN
SUMMARY:Lernen verbindet Generationen (26-M54111) 
LOCATION:BFO, Raum 22, Holzstraße 50, 52349 Düren
END:VEVENT
BEGIN:VEVENT
DTSTAMP:20260420T163200
DTSTART;TZID=Europe/Berlin:20260709T143000
DTEND;TZID=Europe/Berlin:20260709T160000
UID:26-M54111-20260709T143000@BFODÜREN
SUMMARY:Lernen verbindet Generationen (26-M54111) 
LOCATION:BFO, Raum 22, Holzstraße 50, 52349 Düren
END:VEVENT
BEGIN:VEVENT
DTSTAMP:20260420T163200
DTSTART;TZID=Europe/Berlin:20260713T143000
DTEND;TZID=Europe/Berlin:20260713T160000
UID:26-M54111-20260713T143000@BFODÜREN
SUMMARY:Lernen verbindet Generationen (26-M54111) 
LOCATION:BFO, Raum 22, Holzstraße 50, 52349 Düren
END:VEVENT
BEGIN:VEVENT
DTSTAMP:20260420T163200
DTSTART;TZID=Europe/Berlin:20260713T143000
DTEND;TZID=Europe/Berlin:20260713T160000
UID:26-M54111-20260713T143000@BFODÜREN
SUMMARY:Lernen verbindet Generationen (26-M54111) 
LOCATION:BFO, Raum 22, Holzstraße 50, 52349 Düren
END:VEVENT
BEGIN:VEVENT
DTSTAMP:20260420T163200
DTSTART;TZID=Europe/Berlin:20260713T150000
DTEND;TZID=Europe/Berlin:20260713T170000
UID:26-M54111-20260713T150000@BFODÜREN
SUMMARY:Lernen verbindet Generationen (26-M54111) 
LOCATION:BFO, Raum 22, Holzstraße 50, 52349 Düren
END:VEVENT
END:VCALENDAR