BEGIN:VCALENDAR
VERSION:2.0
PRODID:https://www.kufer.de/kuferweb / DE
METHOD:PUBLISH
CALSCALE:GREGORIAN
X-WR-TIMEZONE:Europe/Berlin
BEGIN:VTIMEZONE
TZID:Europe/Berlin
X-LIC-LOCATION:Europe/Berlin
BEGIN:DAYLIGHT
TZOFFSETFROM:+0100
TZOFFSETTO:+0200
TZNAME:CEST
DTSTART:19700329T020000
RRULE:FREQ=YEARLY;INTERVAL=1;BYDAY=-1SU;BYMONTH=3
END:DAYLIGHT
BEGIN:STANDARD
TZOFFSETFROM:+0200
TZOFFSETTO:+0100
TZNAME:CET
DTSTART:19701025T030000
RRULE:FREQ=YEARLY;INTERVAL=1;BYDAY=-1SU;BYMONTH=10
END:STANDARD
END:VTIMEZONE
BEGIN:VEVENT
DTSTAMP:20260425T013719
DTSTART;TZID=Europe/Berlin:20260910T143000
DTEND;TZID=Europe/Berlin:20260910T160000
UID:26-M54112-20260910T143000@BFODÜREN
SUMMARY:Lernen verbindet Generationen (26-M54112) 
LOCATION:BFO, Raum 22, Holzstraße 50, 52349 Düren
END:VEVENT
BEGIN:VEVENT
DTSTAMP:20260425T013719
DTSTART;TZID=Europe/Berlin:20260910T143000
DTEND;TZID=Europe/Berlin:20260910T160000
UID:26-M54112-20260910T143000@BFODÜREN
SUMMARY:Lernen verbindet Generationen (26-M54112) 
LOCATION:BFO, Raum 22, Holzstraße 50, 52349 Düren
END:VEVENT
BEGIN:VEVENT
DTSTAMP:20260425T013719
DTSTART;TZID=Europe/Berlin:20260910T143000
DTEND;TZID=Europe/Berlin:20260910T160000
UID:26-M54112-20260910T143000@BFODÜREN
SUMMARY:Lernen verbindet Generationen (26-M54112) 
LOCATION:BFO, Raum 22, Holzstraße 50, 52349 Düren
END:VEVENT
BEGIN:VEVENT
DTSTAMP:20260425T013719
DTSTART;TZID=Europe/Berlin:20260914T143000
DTEND;TZID=Europe/Berlin:20260914T160000
UID:26-M54112-20260914T143000@BFODÜREN
SUMMARY:Lernen verbindet Generationen (26-M54112) 
LOCATION:BFO, Raum 22, Holzstraße 50, 52349 Düren
END:VEVENT
BEGIN:VEVENT
DTSTAMP:20260425T013719
DTSTART;TZID=Europe/Berlin:20260914T143000
DTEND;TZID=Europe/Berlin:20260914T160000
UID:26-M54112-20260914T143000@BFODÜREN
SUMMARY:Lernen verbindet Generationen (26-M54112) 
LOCATION:BFO, Raum 22, Holzstraße 50, 52349 Düren
END:VEVENT
BEGIN:VEVENT
DTSTAMP:20260425T013719
DTSTART;TZID=Europe/Berlin:20260914T143000
DTEND;TZID=Europe/Berlin:20260914T160000
UID:26-M54112-20260914T143000@BFODÜREN
SUMMARY:Lernen verbindet Generationen (26-M54112) 
LOCATION:BFO, Raum 22, Holzstraße 50, 52349 Düren
END:VEVENT
BEGIN:VEVENT
DTSTAMP:20260425T013719
DTSTART;TZID=Europe/Berlin:20260917T143000
DTEND;TZID=Europe/Berlin:20260917T160000
UID:26-M54112-20260917T143000@BFODÜREN
SUMMARY:Lernen verbindet Generationen (26-M54112) 
LOCATION:BFO, Raum 22, Holzstraße 50, 52349 Düren
END:VEVENT
BEGIN:VEVENT
DTSTAMP:20260425T013719
DTSTART;TZID=Europe/Berlin:20260917T143000
DTEND;TZID=Europe/Berlin:20260917T160000
UID:26-M54112-20260917T143000@BFODÜREN
SUMMARY:Lernen verbindet Generationen (26-M54112) 
LOCATION:BFO, Raum 22, Holzstraße 50, 52349 Düren
END:VEVENT
BEGIN:VEVENT
DTSTAMP:20260425T013719
DTSTART;TZID=Europe/Berlin:20260917T143000
DTEND;TZID=Europe/Berlin:20260917T160000
UID:26-M54112-20260917T143000@BFODÜREN
SUMMARY:Lernen verbindet Generationen (26-M54112) 
LOCATION:BFO, Raum 22, Holzstraße 50, 52349 Düren
END:VEVENT
BEGIN:VEVENT
DTSTAMP:20260425T013719
DTSTART;TZID=Europe/Berlin:20260921T143000
DTEND;TZID=Europe/Berlin:20260921T160000
UID:26-M54112-20260921T143000@BFODÜREN
SUMMARY:Lernen verbindet Generationen (26-M54112) 
LOCATION:BFO, Raum 22, Holzstraße 50, 52349 Düren
END:VEVENT
BEGIN:VEVENT
DTSTAMP:20260425T013719
DTSTART;TZID=Europe/Berlin:20260921T143000
DTEND;TZID=Europe/Berlin:20260921T160000
UID:26-M54112-20260921T143000@BFODÜREN
SUMMARY:Lernen verbindet Generationen (26-M54112) 
LOCATION:BFO, Raum 22, Holzstraße 50, 52349 Düren
END:VEVENT
BEGIN:VEVENT
DTSTAMP:20260425T013719
DTSTART;TZID=Europe/Berlin:20260921T143000
DTEND;TZID=Europe/Berlin:20260921T160000
UID:26-M54112-20260921T143000@BFODÜREN
SUMMARY:Lernen verbindet Generationen (26-M54112) 
LOCATION:BFO, Raum 22, Holzstraße 50, 52349 Düren
END:VEVENT
BEGIN:VEVENT
DTSTAMP:20260425T013719
DTSTART;TZID=Europe/Berlin:20260924T143000
DTEND;TZID=Europe/Berlin:20260924T160000
UID:26-M54112-20260924T143000@BFODÜREN
SUMMARY:Lernen verbindet Generationen (26-M54112) 
LOCATION:BFO, Raum 22, Holzstraße 50, 52349 Düren
END:VEVENT
BEGIN:VEVENT
DTSTAMP:20260425T013719
DTSTART;TZID=Europe/Berlin:20260924T143000
DTEND;TZID=Europe/Berlin:20260924T160000
UID:26-M54112-20260924T143000@BFODÜREN
SUMMARY:Lernen verbindet Generationen (26-M54112) 
LOCATION:BFO, Raum 22, Holzstraße 50, 52349 Düren
END:VEVENT
BEGIN:VEVENT
DTSTAMP:20260425T013719
DTSTART;TZID=Europe/Berlin:20260924T143000
DTEND;TZID=Europe/Berlin:20260924T160000
UID:26-M54112-20260924T143000@BFODÜREN
SUMMARY:Lernen verbindet Generationen (26-M54112) 
LOCATION:BFO, Raum 22, Holzstraße 50, 52349 Düren
END:VEVENT
BEGIN:VEVENT
DTSTAMP:20260425T013719
DTSTART;TZID=Europe/Berlin:20260928T143000
DTEND;TZID=Europe/Berlin:20260928T160000
UID:26-M54112-20260928T143000@BFODÜREN
SUMMARY:Lernen verbindet Generationen (26-M54112) 
LOCATION:BFO, Raum 22, Holzstraße 50, 52349 Düren
END:VEVENT
BEGIN:VEVENT
DTSTAMP:20260425T013719
DTSTART;TZID=Europe/Berlin:20260928T143000
DTEND;TZID=Europe/Berlin:20260928T160000
UID:26-M54112-20260928T143000@BFODÜREN
SUMMARY:Lernen verbindet Generationen (26-M54112) 
LOCATION:BFO, Raum 22, Holzstraße 50, 52349 Düren
END:VEVENT
BEGIN:VEVENT
DTSTAMP:20260425T013719
DTSTART;TZID=Europe/Berlin:20260928T143000
DTEND;TZID=Europe/Berlin:20260928T160000
UID:26-M54112-20260928T143000@BFODÜREN
SUMMARY:Lernen verbindet Generationen (26-M54112) 
LOCATION:BFO, Raum 22, Holzstraße 50, 52349 Düren
END:VEVENT
BEGIN:VEVENT
DTSTAMP:20260425T013719
DTSTART;TZID=Europe/Berlin:20261001T143000
DTEND;TZID=Europe/Berlin:20261001T160000
UID:26-M54112-20261001T143000@BFODÜREN
SUMMARY:Lernen verbindet Generationen (26-M54112) 
LOCATION:BFO, Raum 22, Holzstraße 50, 52349 Düren
END:VEVENT
BEGIN:VEVENT
DTSTAMP:20260425T013719
DTSTART;TZID=Europe/Berlin:20261001T143000
DTEND;TZID=Europe/Berlin:20261001T160000
UID:26-M54112-20261001T143000@BFODÜREN
SUMMARY:Lernen verbindet Generationen (26-M54112) 
LOCATION:BFO, Raum 22, Holzstraße 50, 52349 Düren
END:VEVENT
BEGIN:VEVENT
DTSTAMP:20260425T013719
DTSTART;TZID=Europe/Berlin:20261001T143000
DTEND;TZID=Europe/Berlin:20261001T160000
UID:26-M54112-20261001T143000@BFODÜREN
SUMMARY:Lernen verbindet Generationen (26-M54112) 
LOCATION:BFO, Raum 22, Holzstraße 50, 52349 Düren
END:VEVENT
BEGIN:VEVENT
DTSTAMP:20260425T013719
DTSTART;TZID=Europe/Berlin:20261005T143000
DTEND;TZID=Europe/Berlin:20261005T160000
UID:26-M54112-20261005T143000@BFODÜREN
SUMMARY:Lernen verbindet Generationen (26-M54112) 
LOCATION:BFO, Raum 22, Holzstraße 50, 52349 Düren
END:VEVENT
BEGIN:VEVENT
DTSTAMP:20260425T013719
DTSTART;TZID=Europe/Berlin:20261005T143000
DTEND;TZID=Europe/Berlin:20261005T160000
UID:26-M54112-20261005T143000@BFODÜREN
SUMMARY:Lernen verbindet Generationen (26-M54112) 
LOCATION:BFO, Raum 22, Holzstraße 50, 52349 Düren
END:VEVENT
BEGIN:VEVENT
DTSTAMP:20260425T013719
DTSTART;TZID=Europe/Berlin:20261005T143000
DTEND;TZID=Europe/Berlin:20261005T160000
UID:26-M54112-20261005T143000@BFODÜREN
SUMMARY:Lernen verbindet Generationen (26-M54112) 
LOCATION:BFO, Raum 22, Holzstraße 50, 52349 Düren
END:VEVENT
BEGIN:VEVENT
DTSTAMP:20260425T013719
DTSTART;TZID=Europe/Berlin:20261008T143000
DTEND;TZID=Europe/Berlin:20261008T160000
UID:26-M54112-20261008T143000@BFODÜREN
SUMMARY:Lernen verbindet Generationen (26-M54112) 
LOCATION:BFO, Raum 22, Holzstraße 50, 52349 Düren
END:VEVENT
BEGIN:VEVENT
DTSTAMP:20260425T013719
DTSTART;TZID=Europe/Berlin:20261008T143000
DTEND;TZID=Europe/Berlin:20261008T160000
UID:26-M54112-20261008T143000@BFODÜREN
SUMMARY:Lernen verbindet Generationen (26-M54112) 
LOCATION:BFO, Raum 22, Holzstraße 50, 52349 Düren
END:VEVENT
BEGIN:VEVENT
DTSTAMP:20260425T013719
DTSTART;TZID=Europe/Berlin:20261008T143000
DTEND;TZID=Europe/Berlin:20261008T160000
UID:26-M54112-20261008T143000@BFODÜREN
SUMMARY:Lernen verbindet Generationen (26-M54112) 
LOCATION:BFO, Raum 22, Holzstraße 50, 52349 Düren
END:VEVENT
BEGIN:VEVENT
DTSTAMP:20260425T013719
DTSTART;TZID=Europe/Berlin:20261012T143000
DTEND;TZID=Europe/Berlin:20261012T160000
UID:26-M54112-20261012T143000@BFODÜREN
SUMMARY:Lernen verbindet Generationen (26-M54112) 
LOCATION:BFO, Raum 22, Holzstraße 50, 52349 Düren
END:VEVENT
BEGIN:VEVENT
DTSTAMP:20260425T013719
DTSTART;TZID=Europe/Berlin:20261012T143000
DTEND;TZID=Europe/Berlin:20261012T160000
UID:26-M54112-20261012T143000@BFODÜREN
SUMMARY:Lernen verbindet Generationen (26-M54112) 
LOCATION:BFO, Raum 22, Holzstraße 50, 52349 Düren
END:VEVENT
BEGIN:VEVENT
DTSTAMP:20260425T013719
DTSTART;TZID=Europe/Berlin:20261012T143000
DTEND;TZID=Europe/Berlin:20261012T160000
UID:26-M54112-20261012T143000@BFODÜREN
SUMMARY:Lernen verbindet Generationen (26-M54112) 
LOCATION:BFO, Raum 22, Holzstraße 50, 52349 Düren
END:VEVENT
BEGIN:VEVENT
DTSTAMP:20260425T013719
DTSTART;TZID=Europe/Berlin:20261015T143000
DTEND;TZID=Europe/Berlin:20261015T160000
UID:26-M54112-20261015T143000@BFODÜREN
SUMMARY:Lernen verbindet Generationen (26-M54112) 
LOCATION:BFO, Raum 22, Holzstraße 50, 52349 Düren
END:VEVENT
BEGIN:VEVENT
DTSTAMP:20260425T013719
DTSTART;TZID=Europe/Berlin:20261015T143000
DTEND;TZID=Europe/Berlin:20261015T160000
UID:26-M54112-20261015T143000@BFODÜREN
SUMMARY:Lernen verbindet Generationen (26-M54112) 
LOCATION:BFO, Raum 22, Holzstraße 50, 52349 Düren
END:VEVENT
BEGIN:VEVENT
DTSTAMP:20260425T013719
DTSTART;TZID=Europe/Berlin:20261015T143000
DTEND;TZID=Europe/Berlin:20261015T160000
UID:26-M54112-20261015T143000@BFODÜREN
SUMMARY:Lernen verbindet Generationen (26-M54112) 
LOCATION:BFO, Raum 22, Holzstraße 50, 52349 Düren
END:VEVENT
BEGIN:VEVENT
DTSTAMP:20260425T013719
DTSTART;TZID=Europe/Berlin:20261102T143000
DTEND;TZID=Europe/Berlin:20261102T160000
UID:26-M54112-20261102T143000@BFODÜREN
SUMMARY:Lernen verbindet Generationen (26-M54112) 
LOCATION:BFO, Raum 22, Holzstraße 50, 52349 Düren
END:VEVENT
BEGIN:VEVENT
DTSTAMP:20260425T013719
DTSTART;TZID=Europe/Berlin:20261102T143000
DTEND;TZID=Europe/Berlin:20261102T160000
UID:26-M54112-20261102T143000@BFODÜREN
SUMMARY:Lernen verbindet Generationen (26-M54112) 
LOCATION:BFO, Raum 22, Holzstraße 50, 52349 Düren
END:VEVENT
BEGIN:VEVENT
DTSTAMP:20260425T013719
DTSTART;TZID=Europe/Berlin:20261102T143000
DTEND;TZID=Europe/Berlin:20261102T160000
UID:26-M54112-20261102T143000@BFODÜREN
SUMMARY:Lernen verbindet Generationen (26-M54112) 
LOCATION:BFO, Raum 22, Holzstraße 50, 52349 Düren
END:VEVENT
END:VCALENDAR