BEGIN:VCALENDAR
VERSION:2.0
PRODID:https://www.kufer.de/kuferweb / DE
METHOD:PUBLISH
CALSCALE:GREGORIAN
X-WR-TIMEZONE:Europe/Berlin
BEGIN:VTIMEZONE
TZID:Europe/Berlin
X-LIC-LOCATION:Europe/Berlin
BEGIN:DAYLIGHT
TZOFFSETFROM:+0100
TZOFFSETTO:+0200
TZNAME:CEST
DTSTART:19700329T020000
RRULE:FREQ=YEARLY;INTERVAL=1;BYDAY=-1SU;BYMONTH=3
END:DAYLIGHT
BEGIN:STANDARD
TZOFFSETFROM:+0200
TZOFFSETTO:+0100
TZNAME:CET
DTSTART:19701025T030000
RRULE:FREQ=YEARLY;INTERVAL=1;BYDAY=-1SU;BYMONTH=10
END:STANDARD
END:VTIMEZONE
BEGIN:VEVENT
DTSTAMP:20260424T174222
DTSTART;TZID=Europe/Berlin:20260602T100000
DTEND;TZID=Europe/Berlin:20260602T110000
UID:26-N23635-20260602T100000@BFODÜREN
SUMMARY:fitdankbaby - Mini (26-N23635) 
LOCATION:Familienzentrum "Bachpiraten" Linnich, Bendenweg 21 A, 52441 Linnich
END:VEVENT
BEGIN:VEVENT
DTSTAMP:20260424T174222
DTSTART;TZID=Europe/Berlin:20260609T100000
DTEND;TZID=Europe/Berlin:20260609T110000
UID:26-N23635-20260609T100000@BFODÜREN
SUMMARY:fitdankbaby - Mini (26-N23635) 
LOCATION:Familienzentrum "Bachpiraten" Linnich, Bendenweg 21 A, 52441 Linnich
END:VEVENT
BEGIN:VEVENT
DTSTAMP:20260424T174222
DTSTART;TZID=Europe/Berlin:20260616T100000
DTEND;TZID=Europe/Berlin:20260616T110000
UID:26-N23635-20260616T100000@BFODÜREN
SUMMARY:fitdankbaby - Mini (26-N23635) 
LOCATION:Familienzentrum "Bachpiraten" Linnich, Bendenweg 21 A, 52441 Linnich
END:VEVENT
BEGIN:VEVENT
DTSTAMP:20260424T174222
DTSTART;TZID=Europe/Berlin:20260623T100000
DTEND;TZID=Europe/Berlin:20260623T110000
UID:26-N23635-20260623T100000@BFODÜREN
SUMMARY:fitdankbaby - Mini (26-N23635) 
LOCATION:Familienzentrum "Bachpiraten" Linnich, Bendenweg 21 A, 52441 Linnich
END:VEVENT
BEGIN:VEVENT
DTSTAMP:20260424T174222
DTSTART;TZID=Europe/Berlin:20260630T100000
DTEND;TZID=Europe/Berlin:20260630T110000
UID:26-N23635-20260630T100000@BFODÜREN
SUMMARY:fitdankbaby - Mini (26-N23635) 
LOCATION:Familienzentrum "Bachpiraten" Linnich, Bendenweg 21 A, 52441 Linnich
END:VEVENT
BEGIN:VEVENT
DTSTAMP:20260424T174222
DTSTART;TZID=Europe/Berlin:20260707T100000
DTEND;TZID=Europe/Berlin:20260707T110000
UID:26-N23635-20260707T100000@BFODÜREN
SUMMARY:fitdankbaby - Mini (26-N23635) 
LOCATION:Familienzentrum "Bachpiraten" Linnich, Bendenweg 21 A, 52441 Linnich
END:VEVENT
BEGIN:VEVENT
DTSTAMP:20260424T174222
DTSTART;TZID=Europe/Berlin:20260714T100000
DTEND;TZID=Europe/Berlin:20260714T110000
UID:26-N23635-20260714T100000@BFODÜREN
SUMMARY:fitdankbaby - Mini (26-N23635) 
LOCATION:Familienzentrum "Bachpiraten" Linnich, Bendenweg 21 A, 52441 Linnich
END:VEVENT
BEGIN:VEVENT
DTSTAMP:20260424T174222
DTSTART;TZID=Europe/Berlin:20260721T100000
DTEND;TZID=Europe/Berlin:20260721T110000
UID:26-N23635-20260721T100000@BFODÜREN
SUMMARY:fitdankbaby - Mini (26-N23635) 
LOCATION:Familienzentrum "Bachpiraten" Linnich, Bendenweg 21 A, 52441 Linnich
END:VEVENT
END:VCALENDAR