BEGIN:VCALENDAR
VERSION:2.0
PRODID:https://www.kufer.de/kuferweb / DE
METHOD:PUBLISH
CALSCALE:GREGORIAN
X-WR-TIMEZONE:Europe/Berlin
BEGIN:VTIMEZONE
TZID:Europe/Berlin
X-LIC-LOCATION:Europe/Berlin
BEGIN:DAYLIGHT
TZOFFSETFROM:+0100
TZOFFSETTO:+0200
TZNAME:CEST
DTSTART:19700329T020000
RRULE:FREQ=YEARLY;INTERVAL=1;BYDAY=-1SU;BYMONTH=3
END:DAYLIGHT
BEGIN:STANDARD
TZOFFSETFROM:+0200
TZOFFSETTO:+0100
TZNAME:CET
DTSTART:19701025T030000
RRULE:FREQ=YEARLY;INTERVAL=1;BYDAY=-1SU;BYMONTH=10
END:STANDARD
END:VTIMEZONE
BEGIN:VEVENT
DTSTAMP:20260425T001604
DTSTART;TZID=Europe/Berlin:20260909T090000
DTEND;TZID=Europe/Berlin:20260909T153000
UID:26-R90022-20260909T090000@BFODÜREN
DESCRIPTION:Modul 1
SUMMARY:Qualifizierung zur Inklusions-Fachkraft in der Kita (26-R90022) 
LOCATION:BFO, Raum 22, Holzstraße 50, 52349 Düren
END:VEVENT
BEGIN:VEVENT
DTSTAMP:20260425T001604
DTSTART;TZID=Europe/Berlin:20260916T090000
DTEND;TZID=Europe/Berlin:20260916T153000
UID:26-R90022-20260916T090000@BFODÜREN
DESCRIPTION:Modul 1 
SUMMARY:Qualifizierung zur Inklusions-Fachkraft in der Kita (26-R90022) 
LOCATION:BFO, Raum 22, Holzstraße 50, 52349 Düren
END:VEVENT
BEGIN:VEVENT
DTSTAMP:20260425T001604
DTSTART;TZID=Europe/Berlin:20260923T090000
DTEND;TZID=Europe/Berlin:20260923T153000
UID:26-R90022-20260923T090000@BFODÜREN
DESCRIPTION:Modul 1 
SUMMARY:Qualifizierung zur Inklusions-Fachkraft in der Kita (26-R90022) 
LOCATION:BFO, Raum 22, Holzstraße 50, 52349 Düren
END:VEVENT
BEGIN:VEVENT
DTSTAMP:20260425T001604
DTSTART;TZID=Europe/Berlin:20260930T090000
DTEND;TZID=Europe/Berlin:20260930T153000
UID:26-R90022-20260930T090000@BFODÜREN
DESCRIPTION:Modul 3/1
SUMMARY:Qualifizierung zur Inklusions-Fachkraft in der Kita (26-R90022) 
LOCATION:BFO, Raum 22, Holzstraße 50, 52349 Düren
END:VEVENT
BEGIN:VEVENT
DTSTAMP:20260425T001604
DTSTART;TZID=Europe/Berlin:20261007T090000
DTEND;TZID=Europe/Berlin:20261007T153000
UID:26-R90022-20261007T090000@BFODÜREN
DESCRIPTION:Modul 2
SUMMARY:Qualifizierung zur Inklusions-Fachkraft in der Kita (26-R90022) 
LOCATION:BFO, Raum 22, Holzstraße 50, 52349 Düren
END:VEVENT
BEGIN:VEVENT
DTSTAMP:20260425T001604
DTSTART;TZID=Europe/Berlin:20261014T090000
DTEND;TZID=Europe/Berlin:20261014T153000
UID:26-R90022-20261014T090000@BFODÜREN
DESCRIPTION:Modul 2
SUMMARY:Qualifizierung zur Inklusions-Fachkraft in der Kita (26-R90022) 
LOCATION:BFO, Raum 22, Holzstraße 50, 52349 Düren
END:VEVENT
BEGIN:VEVENT
DTSTAMP:20260425T001604
DTSTART;TZID=Europe/Berlin:20261104T090000
DTEND;TZID=Europe/Berlin:20261104T153000
UID:26-R90022-20261104T090000@BFODÜREN
DESCRIPTION:Modul 3/2
SUMMARY:Qualifizierung zur Inklusions-Fachkraft in der Kita (26-R90022) 
LOCATION:BFO, Raum 22, Holzstraße 50, 52349 Düren
END:VEVENT
BEGIN:VEVENT
DTSTAMP:20260425T001604
DTSTART;TZID=Europe/Berlin:20261118T090000
DTEND;TZID=Europe/Berlin:20261118T153000
UID:26-R90022-20261118T090000@BFODÜREN
DESCRIPTION:Modul 4 
SUMMARY:Qualifizierung zur Inklusions-Fachkraft in der Kita (26-R90022) 
LOCATION:BFO, Raum 22, Holzstraße 50, 52349 Düren
END:VEVENT
BEGIN:VEVENT
DTSTAMP:20260425T001604
DTSTART;TZID=Europe/Berlin:20261125T090000
DTEND;TZID=Europe/Berlin:20261125T153000
UID:26-R90022-20261125T090000@BFODÜREN
DESCRIPTION:Modul 4 ADHS
SUMMARY:Qualifizierung zur Inklusions-Fachkraft in der Kita (26-R90022) 
LOCATION:BFO, Raum 22, Holzstraße 50, 52349 Düren
END:VEVENT
BEGIN:VEVENT
DTSTAMP:20260425T001604
DTSTART;TZID=Europe/Berlin:20261125T090000
DTEND;TZID=Europe/Berlin:20261125T153000
UID:26-R90022-20261125T090000@BFODÜREN
DESCRIPTION:Modul 4 ADHS
SUMMARY:Qualifizierung zur Inklusions-Fachkraft in der Kita (26-R90022) 
LOCATION:BFO, Raum 22, Holzstraße 50, 52349 Düren
END:VEVENT
BEGIN:VEVENT
DTSTAMP:20260425T001604
DTSTART;TZID=Europe/Berlin:20261202T090000
DTEND;TZID=Europe/Berlin:20261202T153000
UID:26-R90022-20261202T090000@BFODÜREN
DESCRIPTION:Vertiefungstag
SUMMARY:Qualifizierung zur Inklusions-Fachkraft in der Kita (26-R90022) 
LOCATION:BFO, Raum 22, Holzstraße 50, 52349 Düren
END:VEVENT
BEGIN:VEVENT
DTSTAMP:20260425T001604
DTSTART;TZID=Europe/Berlin:20261209T090000
DTEND;TZID=Europe/Berlin:20261209T153000
UID:26-R90022-20261209T090000@BFODÜREN
DESCRIPTION:Abschluss
SUMMARY:Qualifizierung zur Inklusions-Fachkraft in der Kita (26-R90022) 
LOCATION:BFO, Raum 22, Holzstraße 50, 52349 Düren
END:VEVENT
BEGIN:VEVENT
DTSTAMP:20260425T001604
DTSTART;TZID=Europe/Berlin:20261209T090000
DTEND;TZID=Europe/Berlin:20261209T153000
UID:26-R90022-20261209T090000@BFODÜREN
DESCRIPTION:Abschluss
SUMMARY:Qualifizierung zur Inklusions-Fachkraft in der Kita (26-R90022) 
LOCATION:BFO, Raum 22, Holzstraße 50, 52349 Düren
END:VEVENT
END:VCALENDAR