BEGIN:VCALENDAR
VERSION:2.0
PRODID:https://www.kufer.de/kuferweb / DE
METHOD:PUBLISH
CALSCALE:GREGORIAN
X-WR-TIMEZONE:Europe/Berlin
BEGIN:VTIMEZONE
TZID:Europe/Berlin
X-LIC-LOCATION:Europe/Berlin
BEGIN:DAYLIGHT
TZOFFSETFROM:+0100
TZOFFSETTO:+0200
TZNAME:CEST
DTSTART:19700329T020000
RRULE:FREQ=YEARLY;INTERVAL=1;BYDAY=-1SU;BYMONTH=3
END:DAYLIGHT
BEGIN:STANDARD
TZOFFSETFROM:+0200
TZOFFSETTO:+0100
TZNAME:CET
DTSTART:19701025T030000
RRULE:FREQ=YEARLY;INTERVAL=1;BYDAY=-1SU;BYMONTH=10
END:STANDARD
END:VTIMEZONE
BEGIN:VEVENT
DTSTAMP:20260425T013856
DTSTART;TZID=Europe/Berlin:20260910T101500
DTEND;TZID=Europe/Berlin:20260910T110000
UID:26-S23012-20260910T101500@BFODÜREN
SUMMARY:Kleine Wellen, großes Lächeln - Wasserspaß für Kleinkinder von 1 bis 3 Jahren Ein fröhliches Wassererlebnis für kleine Entdecker und ihre erwachsene Begleitperson. (26-S23012) 
LOCATION:Freizeitbad Monte Mare Kreuzau, Windener Weg 7, 52372 Kreuzau
END:VEVENT
BEGIN:VEVENT
DTSTAMP:20260425T013856
DTSTART;TZID=Europe/Berlin:20260917T101500
DTEND;TZID=Europe/Berlin:20260917T110000
UID:26-S23012-20260917T101500@BFODÜREN
SUMMARY:Kleine Wellen, großes Lächeln - Wasserspaß für Kleinkinder von 1 bis 3 Jahren Ein fröhliches Wassererlebnis für kleine Entdecker und ihre erwachsene Begleitperson. (26-S23012) 
LOCATION:Freizeitbad Monte Mare Kreuzau, Windener Weg 7, 52372 Kreuzau
END:VEVENT
BEGIN:VEVENT
DTSTAMP:20260425T013856
DTSTART;TZID=Europe/Berlin:20260924T101500
DTEND;TZID=Europe/Berlin:20260924T110000
UID:26-S23012-20260924T101500@BFODÜREN
SUMMARY:Kleine Wellen, großes Lächeln - Wasserspaß für Kleinkinder von 1 bis 3 Jahren Ein fröhliches Wassererlebnis für kleine Entdecker und ihre erwachsene Begleitperson. (26-S23012) 
LOCATION:Freizeitbad Monte Mare Kreuzau, Windener Weg 7, 52372 Kreuzau
END:VEVENT
BEGIN:VEVENT
DTSTAMP:20260425T013856
DTSTART;TZID=Europe/Berlin:20261001T101500
DTEND;TZID=Europe/Berlin:20261001T110000
UID:26-S23012-20261001T101500@BFODÜREN
SUMMARY:Kleine Wellen, großes Lächeln - Wasserspaß für Kleinkinder von 1 bis 3 Jahren Ein fröhliches Wassererlebnis für kleine Entdecker und ihre erwachsene Begleitperson. (26-S23012) 
LOCATION:Freizeitbad Monte Mare Kreuzau, Windener Weg 7, 52372 Kreuzau
END:VEVENT
BEGIN:VEVENT
DTSTAMP:20260425T013856
DTSTART;TZID=Europe/Berlin:20261008T101500
DTEND;TZID=Europe/Berlin:20261008T110000
UID:26-S23012-20261008T101500@BFODÜREN
SUMMARY:Kleine Wellen, großes Lächeln - Wasserspaß für Kleinkinder von 1 bis 3 Jahren Ein fröhliches Wassererlebnis für kleine Entdecker und ihre erwachsene Begleitperson. (26-S23012) 
LOCATION:Freizeitbad Monte Mare Kreuzau, Windener Weg 7, 52372 Kreuzau
END:VEVENT
BEGIN:VEVENT
DTSTAMP:20260425T013856
DTSTART;TZID=Europe/Berlin:20261015T101500
DTEND;TZID=Europe/Berlin:20261015T110000
UID:26-S23012-20261015T101500@BFODÜREN
SUMMARY:Kleine Wellen, großes Lächeln - Wasserspaß für Kleinkinder von 1 bis 3 Jahren Ein fröhliches Wassererlebnis für kleine Entdecker und ihre erwachsene Begleitperson. (26-S23012) 
LOCATION:Freizeitbad Monte Mare Kreuzau, Windener Weg 7, 52372 Kreuzau
END:VEVENT
BEGIN:VEVENT
DTSTAMP:20260425T013856
DTSTART;TZID=Europe/Berlin:20261105T101500
DTEND;TZID=Europe/Berlin:20261105T110000
UID:26-S23012-20261105T101500@BFODÜREN
SUMMARY:Kleine Wellen, großes Lächeln - Wasserspaß für Kleinkinder von 1 bis 3 Jahren Ein fröhliches Wassererlebnis für kleine Entdecker und ihre erwachsene Begleitperson. (26-S23012) 
LOCATION:Freizeitbad Monte Mare Kreuzau, Windener Weg 7, 52372 Kreuzau
END:VEVENT
BEGIN:VEVENT
DTSTAMP:20260425T013856
DTSTART;TZID=Europe/Berlin:20261112T101500
DTEND;TZID=Europe/Berlin:20261112T110000
UID:26-S23012-20261112T101500@BFODÜREN
SUMMARY:Kleine Wellen, großes Lächeln - Wasserspaß für Kleinkinder von 1 bis 3 Jahren Ein fröhliches Wassererlebnis für kleine Entdecker und ihre erwachsene Begleitperson. (26-S23012) 
LOCATION:Freizeitbad Monte Mare Kreuzau, Windener Weg 7, 52372 Kreuzau
END:VEVENT
BEGIN:VEVENT
DTSTAMP:20260425T013856
DTSTART;TZID=Europe/Berlin:20261119T101500
DTEND;TZID=Europe/Berlin:20261119T110000
UID:26-S23012-20261119T101500@BFODÜREN
SUMMARY:Kleine Wellen, großes Lächeln - Wasserspaß für Kleinkinder von 1 bis 3 Jahren Ein fröhliches Wassererlebnis für kleine Entdecker und ihre erwachsene Begleitperson. (26-S23012) 
LOCATION:Freizeitbad Monte Mare Kreuzau, Windener Weg 7, 52372 Kreuzau
END:VEVENT
BEGIN:VEVENT
DTSTAMP:20260425T013856
DTSTART;TZID=Europe/Berlin:20261126T101500
DTEND;TZID=Europe/Berlin:20261126T110000
UID:26-S23012-20261126T101500@BFODÜREN
SUMMARY:Kleine Wellen, großes Lächeln - Wasserspaß für Kleinkinder von 1 bis 3 Jahren Ein fröhliches Wassererlebnis für kleine Entdecker und ihre erwachsene Begleitperson. (26-S23012) 
LOCATION:Freizeitbad Monte Mare Kreuzau, Windener Weg 7, 52372 Kreuzau
END:VEVENT
BEGIN:VEVENT
DTSTAMP:20260425T013856
DTSTART;TZID=Europe/Berlin:20261203T101500
DTEND;TZID=Europe/Berlin:20261203T110000
UID:26-S23012-20261203T101500@BFODÜREN
SUMMARY:Kleine Wellen, großes Lächeln - Wasserspaß für Kleinkinder von 1 bis 3 Jahren Ein fröhliches Wassererlebnis für kleine Entdecker und ihre erwachsene Begleitperson. (26-S23012) 
LOCATION:Freizeitbad Monte Mare Kreuzau, Windener Weg 7, 52372 Kreuzau
END:VEVENT
BEGIN:VEVENT
DTSTAMP:20260425T013856
DTSTART;TZID=Europe/Berlin:20261210T101500
DTEND;TZID=Europe/Berlin:20261210T110000
UID:26-S23012-20261210T101500@BFODÜREN
SUMMARY:Kleine Wellen, großes Lächeln - Wasserspaß für Kleinkinder von 1 bis 3 Jahren Ein fröhliches Wassererlebnis für kleine Entdecker und ihre erwachsene Begleitperson. (26-S23012) 
LOCATION:Freizeitbad Monte Mare Kreuzau, Windener Weg 7, 52372 Kreuzau
END:VEVENT
END:VCALENDAR