BEGIN:VCALENDAR
VERSION:2.0
PRODID:https://www.kufer.de/kuferweb / DE
METHOD:PUBLISH
CALSCALE:GREGORIAN
X-WR-TIMEZONE:Europe/Berlin
BEGIN:VTIMEZONE
TZID:Europe/Berlin
X-LIC-LOCATION:Europe/Berlin
BEGIN:DAYLIGHT
TZOFFSETFROM:+0100
TZOFFSETTO:+0200
TZNAME:CEST
DTSTART:19700329T020000
RRULE:FREQ=YEARLY;INTERVAL=1;BYDAY=-1SU;BYMONTH=3
END:DAYLIGHT
BEGIN:STANDARD
TZOFFSETFROM:+0200
TZOFFSETTO:+0100
TZNAME:CET
DTSTART:19701025T030000
RRULE:FREQ=YEARLY;INTERVAL=1;BYDAY=-1SU;BYMONTH=10
END:STANDARD
END:VTIMEZONE
BEGIN:VEVENT
DTSTAMP:20260425T031037
DTSTART;TZID=Europe/Berlin:20260911T164500
DTEND;TZID=Europe/Berlin:20260911T173000
UID:26-S23032-20260911T164500@BFODÜREN
SUMMARY:Wellenstarter - Anfängerschwimmkurs für Kinder ab 3 Jahren (26-S23032) 
LOCATION:Lehrschwimmbecken Derichsweiler, Kreuzherrenstraße 2 - 4, 52355 Düren
END:VEVENT
BEGIN:VEVENT
DTSTAMP:20260425T031037
DTSTART;TZID=Europe/Berlin:20260918T164500
DTEND;TZID=Europe/Berlin:20260918T173000
UID:26-S23032-20260918T164500@BFODÜREN
SUMMARY:Wellenstarter - Anfängerschwimmkurs für Kinder ab 3 Jahren (26-S23032) 
LOCATION:Lehrschwimmbecken Derichsweiler, Kreuzherrenstraße 2 - 4, 52355 Düren
END:VEVENT
BEGIN:VEVENT
DTSTAMP:20260425T031037
DTSTART;TZID=Europe/Berlin:20260925T164500
DTEND;TZID=Europe/Berlin:20260925T173000
UID:26-S23032-20260925T164500@BFODÜREN
SUMMARY:Wellenstarter - Anfängerschwimmkurs für Kinder ab 3 Jahren (26-S23032) 
LOCATION:Lehrschwimmbecken Derichsweiler, Kreuzherrenstraße 2 - 4, 52355 Düren
END:VEVENT
BEGIN:VEVENT
DTSTAMP:20260425T031037
DTSTART;TZID=Europe/Berlin:20261002T164500
DTEND;TZID=Europe/Berlin:20261002T173000
UID:26-S23032-20261002T164500@BFODÜREN
SUMMARY:Wellenstarter - Anfängerschwimmkurs für Kinder ab 3 Jahren (26-S23032) 
LOCATION:Lehrschwimmbecken Derichsweiler, Kreuzherrenstraße 2 - 4, 52355 Düren
END:VEVENT
BEGIN:VEVENT
DTSTAMP:20260425T031037
DTSTART;TZID=Europe/Berlin:20261009T164500
DTEND;TZID=Europe/Berlin:20261009T173000
UID:26-S23032-20261009T164500@BFODÜREN
SUMMARY:Wellenstarter - Anfängerschwimmkurs für Kinder ab 3 Jahren (26-S23032) 
LOCATION:Lehrschwimmbecken Derichsweiler, Kreuzherrenstraße 2 - 4, 52355 Düren
END:VEVENT
BEGIN:VEVENT
DTSTAMP:20260425T031037
DTSTART;TZID=Europe/Berlin:20261016T164500
DTEND;TZID=Europe/Berlin:20261016T173000
UID:26-S23032-20261016T164500@BFODÜREN
SUMMARY:Wellenstarter - Anfängerschwimmkurs für Kinder ab 3 Jahren (26-S23032) 
LOCATION:Lehrschwimmbecken Derichsweiler, Kreuzherrenstraße 2 - 4, 52355 Düren
END:VEVENT
BEGIN:VEVENT
DTSTAMP:20260425T031037
DTSTART;TZID=Europe/Berlin:20261106T164500
DTEND;TZID=Europe/Berlin:20261106T173000
UID:26-S23032-20261106T164500@BFODÜREN
SUMMARY:Wellenstarter - Anfängerschwimmkurs für Kinder ab 3 Jahren (26-S23032) 
LOCATION:Lehrschwimmbecken Derichsweiler, Kreuzherrenstraße 2 - 4, 52355 Düren
END:VEVENT
BEGIN:VEVENT
DTSTAMP:20260425T031037
DTSTART;TZID=Europe/Berlin:20261113T164500
DTEND;TZID=Europe/Berlin:20261113T173000
UID:26-S23032-20261113T164500@BFODÜREN
SUMMARY:Wellenstarter - Anfängerschwimmkurs für Kinder ab 3 Jahren (26-S23032) 
LOCATION:Lehrschwimmbecken Derichsweiler, Kreuzherrenstraße 2 - 4, 52355 Düren
END:VEVENT
BEGIN:VEVENT
DTSTAMP:20260425T031037
DTSTART;TZID=Europe/Berlin:20261120T164500
DTEND;TZID=Europe/Berlin:20261120T173000
UID:26-S23032-20261120T164500@BFODÜREN
SUMMARY:Wellenstarter - Anfängerschwimmkurs für Kinder ab 3 Jahren (26-S23032) 
LOCATION:Lehrschwimmbecken Derichsweiler, Kreuzherrenstraße 2 - 4, 52355 Düren
END:VEVENT
BEGIN:VEVENT
DTSTAMP:20260425T031037
DTSTART;TZID=Europe/Berlin:20261127T164500
DTEND;TZID=Europe/Berlin:20261127T173000
UID:26-S23032-20261127T164500@BFODÜREN
SUMMARY:Wellenstarter - Anfängerschwimmkurs für Kinder ab 3 Jahren (26-S23032) 
LOCATION:Lehrschwimmbecken Derichsweiler, Kreuzherrenstraße 2 - 4, 52355 Düren
END:VEVENT
BEGIN:VEVENT
DTSTAMP:20260425T031037
DTSTART;TZID=Europe/Berlin:20261204T164500
DTEND;TZID=Europe/Berlin:20261204T173000
UID:26-S23032-20261204T164500@BFODÜREN
SUMMARY:Wellenstarter - Anfängerschwimmkurs für Kinder ab 3 Jahren (26-S23032) 
LOCATION:Lehrschwimmbecken Derichsweiler, Kreuzherrenstraße 2 - 4, 52355 Düren
END:VEVENT
BEGIN:VEVENT
DTSTAMP:20260425T031037
DTSTART;TZID=Europe/Berlin:20261211T164500
DTEND;TZID=Europe/Berlin:20261211T173000
UID:26-S23032-20261211T164500@BFODÜREN
SUMMARY:Wellenstarter - Anfängerschwimmkurs für Kinder ab 3 Jahren (26-S23032) 
LOCATION:Lehrschwimmbecken Derichsweiler, Kreuzherrenstraße 2 - 4, 52355 Düren
END:VEVENT
BEGIN:VEVENT
DTSTAMP:20260425T031037
DTSTART;TZID=Europe/Berlin:20261218T164500
DTEND;TZID=Europe/Berlin:20261218T173000
UID:26-S23032-20261218T164500@BFODÜREN
SUMMARY:Wellenstarter - Anfängerschwimmkurs für Kinder ab 3 Jahren (26-S23032) 
LOCATION:Lehrschwimmbecken Derichsweiler, Kreuzherrenstraße 2 - 4, 52355 Düren
END:VEVENT
END:VCALENDAR