BEGIN:VCALENDAR
VERSION:2.0
PRODID:https://www.kufer.de/kuferweb / DE
METHOD:PUBLISH
CALSCALE:GREGORIAN
X-WR-TIMEZONE:Europe/Berlin
BEGIN:VTIMEZONE
TZID:Europe/Berlin
X-LIC-LOCATION:Europe/Berlin
BEGIN:DAYLIGHT
TZOFFSETFROM:+0100
TZOFFSETTO:+0200
TZNAME:CEST
DTSTART:19700329T020000
RRULE:FREQ=YEARLY;INTERVAL=1;BYDAY=-1SU;BYMONTH=3
END:DAYLIGHT
BEGIN:STANDARD
TZOFFSETFROM:+0200
TZOFFSETTO:+0100
TZNAME:CET
DTSTART:19701025T030000
RRULE:FREQ=YEARLY;INTERVAL=1;BYDAY=-1SU;BYMONTH=10
END:STANDARD
END:VTIMEZONE
BEGIN:VEVENT
DTSTAMP:20260425T013856
DTSTART;TZID=Europe/Berlin:20260911T181500
DTEND;TZID=Europe/Berlin:20260911T190000
UID:26-S23052-20260911T181500@BFODÜREN
SUMMARY:Wellenmeister - Schwimmen für Eltern mit Kindern ab 5 Jahren (26-S23052) 
LOCATION:Lehrschwimmbecken Derichsweiler, Kreuzherrenstraße 2 - 4, 52355 Düren
END:VEVENT
BEGIN:VEVENT
DTSTAMP:20260425T013856
DTSTART;TZID=Europe/Berlin:20260918T181500
DTEND;TZID=Europe/Berlin:20260918T190000
UID:26-S23052-20260918T181500@BFODÜREN
SUMMARY:Wellenmeister - Schwimmen für Eltern mit Kindern ab 5 Jahren (26-S23052) 
LOCATION:Lehrschwimmbecken Derichsweiler, Kreuzherrenstraße 2 - 4, 52355 Düren
END:VEVENT
BEGIN:VEVENT
DTSTAMP:20260425T013856
DTSTART;TZID=Europe/Berlin:20260925T181500
DTEND;TZID=Europe/Berlin:20260925T190000
UID:26-S23052-20260925T181500@BFODÜREN
SUMMARY:Wellenmeister - Schwimmen für Eltern mit Kindern ab 5 Jahren (26-S23052) 
LOCATION:Lehrschwimmbecken Derichsweiler, Kreuzherrenstraße 2 - 4, 52355 Düren
END:VEVENT
BEGIN:VEVENT
DTSTAMP:20260425T013856
DTSTART;TZID=Europe/Berlin:20261002T181500
DTEND;TZID=Europe/Berlin:20261002T190000
UID:26-S23052-20261002T181500@BFODÜREN
SUMMARY:Wellenmeister - Schwimmen für Eltern mit Kindern ab 5 Jahren (26-S23052) 
LOCATION:Lehrschwimmbecken Derichsweiler, Kreuzherrenstraße 2 - 4, 52355 Düren
END:VEVENT
BEGIN:VEVENT
DTSTAMP:20260425T013856
DTSTART;TZID=Europe/Berlin:20261009T181500
DTEND;TZID=Europe/Berlin:20261009T190000
UID:26-S23052-20261009T181500@BFODÜREN
SUMMARY:Wellenmeister - Schwimmen für Eltern mit Kindern ab 5 Jahren (26-S23052) 
LOCATION:Lehrschwimmbecken Derichsweiler, Kreuzherrenstraße 2 - 4, 52355 Düren
END:VEVENT
BEGIN:VEVENT
DTSTAMP:20260425T013856
DTSTART;TZID=Europe/Berlin:20261016T181500
DTEND;TZID=Europe/Berlin:20261016T190000
UID:26-S23052-20261016T181500@BFODÜREN
SUMMARY:Wellenmeister - Schwimmen für Eltern mit Kindern ab 5 Jahren (26-S23052) 
LOCATION:Lehrschwimmbecken Derichsweiler, Kreuzherrenstraße 2 - 4, 52355 Düren
END:VEVENT
BEGIN:VEVENT
DTSTAMP:20260425T013856
DTSTART;TZID=Europe/Berlin:20261106T181500
DTEND;TZID=Europe/Berlin:20261106T190000
UID:26-S23052-20261106T181500@BFODÜREN
SUMMARY:Wellenmeister - Schwimmen für Eltern mit Kindern ab 5 Jahren (26-S23052) 
LOCATION:Lehrschwimmbecken Derichsweiler, Kreuzherrenstraße 2 - 4, 52355 Düren
END:VEVENT
BEGIN:VEVENT
DTSTAMP:20260425T013856
DTSTART;TZID=Europe/Berlin:20261113T181500
DTEND;TZID=Europe/Berlin:20261113T190000
UID:26-S23052-20261113T181500@BFODÜREN
SUMMARY:Wellenmeister - Schwimmen für Eltern mit Kindern ab 5 Jahren (26-S23052) 
LOCATION:Lehrschwimmbecken Derichsweiler, Kreuzherrenstraße 2 - 4, 52355 Düren
END:VEVENT
BEGIN:VEVENT
DTSTAMP:20260425T013856
DTSTART;TZID=Europe/Berlin:20261120T181500
DTEND;TZID=Europe/Berlin:20261120T190000
UID:26-S23052-20261120T181500@BFODÜREN
SUMMARY:Wellenmeister - Schwimmen für Eltern mit Kindern ab 5 Jahren (26-S23052) 
LOCATION:Lehrschwimmbecken Derichsweiler, Kreuzherrenstraße 2 - 4, 52355 Düren
END:VEVENT
BEGIN:VEVENT
DTSTAMP:20260425T013856
DTSTART;TZID=Europe/Berlin:20261127T181500
DTEND;TZID=Europe/Berlin:20261127T190000
UID:26-S23052-20261127T181500@BFODÜREN
SUMMARY:Wellenmeister - Schwimmen für Eltern mit Kindern ab 5 Jahren (26-S23052) 
LOCATION:Lehrschwimmbecken Derichsweiler, Kreuzherrenstraße 2 - 4, 52355 Düren
END:VEVENT
BEGIN:VEVENT
DTSTAMP:20260425T013856
DTSTART;TZID=Europe/Berlin:20261204T181500
DTEND;TZID=Europe/Berlin:20261204T190000
UID:26-S23052-20261204T181500@BFODÜREN
SUMMARY:Wellenmeister - Schwimmen für Eltern mit Kindern ab 5 Jahren (26-S23052) 
LOCATION:Lehrschwimmbecken Derichsweiler, Kreuzherrenstraße 2 - 4, 52355 Düren
END:VEVENT
BEGIN:VEVENT
DTSTAMP:20260425T013856
DTSTART;TZID=Europe/Berlin:20261211T181500
DTEND;TZID=Europe/Berlin:20261211T190000
UID:26-S23052-20261211T181500@BFODÜREN
SUMMARY:Wellenmeister - Schwimmen für Eltern mit Kindern ab 5 Jahren (26-S23052) 
LOCATION:Lehrschwimmbecken Derichsweiler, Kreuzherrenstraße 2 - 4, 52355 Düren
END:VEVENT
BEGIN:VEVENT
DTSTAMP:20260425T013856
DTSTART;TZID=Europe/Berlin:20261218T181500
DTEND;TZID=Europe/Berlin:20261218T190000
UID:26-S23052-20261218T181500@BFODÜREN
SUMMARY:Wellenmeister - Schwimmen für Eltern mit Kindern ab 5 Jahren (26-S23052) 
LOCATION:Lehrschwimmbecken Derichsweiler, Kreuzherrenstraße 2 - 4, 52355 Düren
END:VEVENT
END:VCALENDAR