BEGIN:VCALENDAR
VERSION:2.0
PRODID:https://www.kufer.de/kuferweb / DE
METHOD:PUBLISH
CALSCALE:GREGORIAN
X-WR-TIMEZONE:Europe/Berlin
BEGIN:VTIMEZONE
TZID:Europe/Berlin
X-LIC-LOCATION:Europe/Berlin
BEGIN:DAYLIGHT
TZOFFSETFROM:+0100
TZOFFSETTO:+0200
TZNAME:CEST
DTSTART:19700329T020000
RRULE:FREQ=YEARLY;INTERVAL=1;BYDAY=-1SU;BYMONTH=3
END:DAYLIGHT
BEGIN:STANDARD
TZOFFSETFROM:+0200
TZOFFSETTO:+0100
TZNAME:CET
DTSTART:19701025T030000
RRULE:FREQ=YEARLY;INTERVAL=1;BYDAY=-1SU;BYMONTH=10
END:STANDARD
END:VTIMEZONE
BEGIN:VEVENT
DTSTAMP:20260424T190158
DTSTART;TZID=Europe/Berlin:20260922T173000
DTEND;TZID=Europe/Berlin:20260922T183000
UID:26-S23102-20260922T173000@BFODÜREN
SUMMARY:fitdankbaby - Für Dich (26-S23102) 
LOCATION:Parkplatz FC Niederau, Franz-Josef Keimes Sportpark, Franz-Josef Keimes Sportpark, 52355 Düren
END:VEVENT
BEGIN:VEVENT
DTSTAMP:20260424T190158
DTSTART;TZID=Europe/Berlin:20260929T173000
DTEND;TZID=Europe/Berlin:20260929T183000
UID:26-S23102-20260929T173000@BFODÜREN
SUMMARY:fitdankbaby - Für Dich (26-S23102) 
LOCATION:Parkplatz FC Niederau, Franz-Josef Keimes Sportpark, Franz-Josef Keimes Sportpark, 52355 Düren
END:VEVENT
BEGIN:VEVENT
DTSTAMP:20260424T190158
DTSTART;TZID=Europe/Berlin:20261006T173000
DTEND;TZID=Europe/Berlin:20261006T183000
UID:26-S23102-20261006T173000@BFODÜREN
SUMMARY:fitdankbaby - Für Dich (26-S23102) 
LOCATION:Parkplatz FC Niederau, Franz-Josef Keimes Sportpark, Franz-Josef Keimes Sportpark, 52355 Düren
END:VEVENT
BEGIN:VEVENT
DTSTAMP:20260424T190158
DTSTART;TZID=Europe/Berlin:20261013T173000
DTEND;TZID=Europe/Berlin:20261013T183000
UID:26-S23102-20261013T173000@BFODÜREN
SUMMARY:fitdankbaby - Für Dich (26-S23102) 
LOCATION:Parkplatz FC Niederau, Franz-Josef Keimes Sportpark, Franz-Josef Keimes Sportpark, 52355 Düren
END:VEVENT
BEGIN:VEVENT
DTSTAMP:20260424T190158
DTSTART;TZID=Europe/Berlin:20261027T173000
DTEND;TZID=Europe/Berlin:20261027T183000
UID:26-S23102-20261027T173000@BFODÜREN
SUMMARY:fitdankbaby - Für Dich (26-S23102) 
LOCATION:Parkplatz FC Niederau, Franz-Josef Keimes Sportpark, Franz-Josef Keimes Sportpark, 52355 Düren
END:VEVENT
BEGIN:VEVENT
DTSTAMP:20260424T190158
DTSTART;TZID=Europe/Berlin:20261103T173000
DTEND;TZID=Europe/Berlin:20261103T183000
UID:26-S23102-20261103T173000@BFODÜREN
SUMMARY:fitdankbaby - Für Dich (26-S23102) 
LOCATION:Parkplatz FC Niederau, Franz-Josef Keimes Sportpark, Franz-Josef Keimes Sportpark, 52355 Düren
END:VEVENT
BEGIN:VEVENT
DTSTAMP:20260424T190158
DTSTART;TZID=Europe/Berlin:20261110T173000
DTEND;TZID=Europe/Berlin:20261110T183000
UID:26-S23102-20261110T173000@BFODÜREN
SUMMARY:fitdankbaby - Für Dich (26-S23102) 
LOCATION:Parkplatz FC Niederau, Franz-Josef Keimes Sportpark, Franz-Josef Keimes Sportpark, 52355 Düren
END:VEVENT
BEGIN:VEVENT
DTSTAMP:20260424T190158
DTSTART;TZID=Europe/Berlin:20261117T173000
DTEND;TZID=Europe/Berlin:20261117T183000
UID:26-S23102-20261117T173000@BFODÜREN
SUMMARY:fitdankbaby - Für Dich (26-S23102) 
LOCATION:Parkplatz FC Niederau, Franz-Josef Keimes Sportpark, Franz-Josef Keimes Sportpark, 52355 Düren
END:VEVENT
END:VCALENDAR