BEGIN:VCALENDAR
VERSION:2.0
PRODID:https://www.kufer.de/kuferweb / DE
METHOD:PUBLISH
CALSCALE:GREGORIAN
X-WR-TIMEZONE:Europe/Berlin
BEGIN:VTIMEZONE
TZID:Europe/Berlin
X-LIC-LOCATION:Europe/Berlin
BEGIN:DAYLIGHT
TZOFFSETFROM:+0100
TZOFFSETTO:+0200
TZNAME:CEST
DTSTART:19700329T020000
RRULE:FREQ=YEARLY;INTERVAL=1;BYDAY=-1SU;BYMONTH=3
END:DAYLIGHT
BEGIN:STANDARD
TZOFFSETFROM:+0200
TZOFFSETTO:+0100
TZNAME:CET
DTSTART:19701025T030000
RRULE:FREQ=YEARLY;INTERVAL=1;BYDAY=-1SU;BYMONTH=10
END:STANDARD
END:VTIMEZONE
BEGIN:VEVENT
DTSTAMP:20260425T031045
DTSTART;TZID=Europe/Berlin:20260916T101500
DTEND;TZID=Europe/Berlin:20260916T110000
UID:26-S23112-20260916T101500@BFODÜREN
SUMMARY:Kleine Wellen, großes Lächeln - Wasserspaß für Kleininder von 1 bis 3 Jahren Ein fröhliches Wassererlebnis für kleine Entdecker und ihre erwachsene Begleitperson (26-S23112) 
LOCATION:Freizeitbad Monte Mare Kreuzau, Windener Weg 7, 52372 Kreuzau
END:VEVENT
BEGIN:VEVENT
DTSTAMP:20260425T031045
DTSTART;TZID=Europe/Berlin:20260923T101500
DTEND;TZID=Europe/Berlin:20260923T110000
UID:26-S23112-20260923T101500@BFODÜREN
SUMMARY:Kleine Wellen, großes Lächeln - Wasserspaß für Kleininder von 1 bis 3 Jahren Ein fröhliches Wassererlebnis für kleine Entdecker und ihre erwachsene Begleitperson (26-S23112) 
LOCATION:Freizeitbad Monte Mare Kreuzau, Windener Weg 7, 52372 Kreuzau
END:VEVENT
BEGIN:VEVENT
DTSTAMP:20260425T031045
DTSTART;TZID=Europe/Berlin:20260930T101500
DTEND;TZID=Europe/Berlin:20260930T110000
UID:26-S23112-20260930T101500@BFODÜREN
SUMMARY:Kleine Wellen, großes Lächeln - Wasserspaß für Kleininder von 1 bis 3 Jahren Ein fröhliches Wassererlebnis für kleine Entdecker und ihre erwachsene Begleitperson (26-S23112) 
LOCATION:Freizeitbad Monte Mare Kreuzau, Windener Weg 7, 52372 Kreuzau
END:VEVENT
BEGIN:VEVENT
DTSTAMP:20260425T031045
DTSTART;TZID=Europe/Berlin:20261007T101500
DTEND;TZID=Europe/Berlin:20261007T110000
UID:26-S23112-20261007T101500@BFODÜREN
SUMMARY:Kleine Wellen, großes Lächeln - Wasserspaß für Kleininder von 1 bis 3 Jahren Ein fröhliches Wassererlebnis für kleine Entdecker und ihre erwachsene Begleitperson (26-S23112) 
LOCATION:Freizeitbad Monte Mare Kreuzau, Windener Weg 7, 52372 Kreuzau
END:VEVENT
BEGIN:VEVENT
DTSTAMP:20260425T031045
DTSTART;TZID=Europe/Berlin:20261014T101500
DTEND;TZID=Europe/Berlin:20261014T110000
UID:26-S23112-20261014T101500@BFODÜREN
SUMMARY:Kleine Wellen, großes Lächeln - Wasserspaß für Kleininder von 1 bis 3 Jahren Ein fröhliches Wassererlebnis für kleine Entdecker und ihre erwachsene Begleitperson (26-S23112) 
LOCATION:Freizeitbad Monte Mare Kreuzau, Windener Weg 7, 52372 Kreuzau
END:VEVENT
BEGIN:VEVENT
DTSTAMP:20260425T031045
DTSTART;TZID=Europe/Berlin:20261104T101500
DTEND;TZID=Europe/Berlin:20261104T110000
UID:26-S23112-20261104T101500@BFODÜREN
SUMMARY:Kleine Wellen, großes Lächeln - Wasserspaß für Kleininder von 1 bis 3 Jahren Ein fröhliches Wassererlebnis für kleine Entdecker und ihre erwachsene Begleitperson (26-S23112) 
LOCATION:Freizeitbad Monte Mare Kreuzau, Windener Weg 7, 52372 Kreuzau
END:VEVENT
BEGIN:VEVENT
DTSTAMP:20260425T031045
DTSTART;TZID=Europe/Berlin:20261111T101500
DTEND;TZID=Europe/Berlin:20261111T110000
UID:26-S23112-20261111T101500@BFODÜREN
SUMMARY:Kleine Wellen, großes Lächeln - Wasserspaß für Kleininder von 1 bis 3 Jahren Ein fröhliches Wassererlebnis für kleine Entdecker und ihre erwachsene Begleitperson (26-S23112) 
LOCATION:Freizeitbad Monte Mare Kreuzau, Windener Weg 7, 52372 Kreuzau
END:VEVENT
BEGIN:VEVENT
DTSTAMP:20260425T031045
DTSTART;TZID=Europe/Berlin:20261118T101500
DTEND;TZID=Europe/Berlin:20261118T110000
UID:26-S23112-20261118T101500@BFODÜREN
SUMMARY:Kleine Wellen, großes Lächeln - Wasserspaß für Kleininder von 1 bis 3 Jahren Ein fröhliches Wassererlebnis für kleine Entdecker und ihre erwachsene Begleitperson (26-S23112) 
LOCATION:Freizeitbad Monte Mare Kreuzau, Windener Weg 7, 52372 Kreuzau
END:VEVENT
BEGIN:VEVENT
DTSTAMP:20260425T031045
DTSTART;TZID=Europe/Berlin:20261125T101500
DTEND;TZID=Europe/Berlin:20261125T110000
UID:26-S23112-20261125T101500@BFODÜREN
SUMMARY:Kleine Wellen, großes Lächeln - Wasserspaß für Kleininder von 1 bis 3 Jahren Ein fröhliches Wassererlebnis für kleine Entdecker und ihre erwachsene Begleitperson (26-S23112) 
LOCATION:Freizeitbad Monte Mare Kreuzau, Windener Weg 7, 52372 Kreuzau
END:VEVENT
BEGIN:VEVENT
DTSTAMP:20260425T031045
DTSTART;TZID=Europe/Berlin:20261202T101500
DTEND;TZID=Europe/Berlin:20261202T110000
UID:26-S23112-20261202T101500@BFODÜREN
SUMMARY:Kleine Wellen, großes Lächeln - Wasserspaß für Kleininder von 1 bis 3 Jahren Ein fröhliches Wassererlebnis für kleine Entdecker und ihre erwachsene Begleitperson (26-S23112) 
LOCATION:Freizeitbad Monte Mare Kreuzau, Windener Weg 7, 52372 Kreuzau
END:VEVENT
BEGIN:VEVENT
DTSTAMP:20260425T031045
DTSTART;TZID=Europe/Berlin:20261209T101500
DTEND;TZID=Europe/Berlin:20261209T110000
UID:26-S23112-20261209T101500@BFODÜREN
SUMMARY:Kleine Wellen, großes Lächeln - Wasserspaß für Kleininder von 1 bis 3 Jahren Ein fröhliches Wassererlebnis für kleine Entdecker und ihre erwachsene Begleitperson (26-S23112) 
LOCATION:Freizeitbad Monte Mare Kreuzau, Windener Weg 7, 52372 Kreuzau
END:VEVENT
END:VCALENDAR