BEGIN:VCALENDAR
VERSION:2.0
PRODID:https://www.kufer.de/kuferweb / DE
METHOD:PUBLISH
CALSCALE:GREGORIAN
X-WR-TIMEZONE:Europe/Berlin
BEGIN:VTIMEZONE
TZID:Europe/Berlin
X-LIC-LOCATION:Europe/Berlin
BEGIN:DAYLIGHT
TZOFFSETFROM:+0100
TZOFFSETTO:+0200
TZNAME:CEST
DTSTART:19700329T020000
RRULE:FREQ=YEARLY;INTERVAL=1;BYDAY=-1SU;BYMONTH=3
END:DAYLIGHT
BEGIN:STANDARD
TZOFFSETFROM:+0200
TZOFFSETTO:+0100
TZNAME:CET
DTSTART:19701025T030000
RRULE:FREQ=YEARLY;INTERVAL=1;BYDAY=-1SU;BYMONTH=10
END:STANDARD
END:VTIMEZONE
BEGIN:VEVENT
DTSTAMP:20260424T201532
DTSTART;TZID=Europe/Berlin:20261002T114000
DTEND;TZID=Europe/Berlin:20261002T124000
UID:26-S23182-20261002T114000@BFODÜREN
SUMMARY:fitdankbaby RÜCKBILDUNG (26-S23182) 
LOCATION:BFO, Raum 3, Holzstraße 50, 52349 Düren
END:VEVENT
BEGIN:VEVENT
DTSTAMP:20260424T201532
DTSTART;TZID=Europe/Berlin:20261009T114000
DTEND;TZID=Europe/Berlin:20261009T124000
UID:26-S23182-20261009T114000@BFODÜREN
SUMMARY:fitdankbaby RÜCKBILDUNG (26-S23182) 
LOCATION:BFO, Raum 3, Holzstraße 50, 52349 Düren
END:VEVENT
BEGIN:VEVENT
DTSTAMP:20260424T201532
DTSTART;TZID=Europe/Berlin:20261016T114000
DTEND;TZID=Europe/Berlin:20261016T124000
UID:26-S23182-20261016T114000@BFODÜREN
SUMMARY:fitdankbaby RÜCKBILDUNG (26-S23182) 
LOCATION:BFO, Raum 3, Holzstraße 50, 52349 Düren
END:VEVENT
BEGIN:VEVENT
DTSTAMP:20260424T201532
DTSTART;TZID=Europe/Berlin:20261030T114000
DTEND;TZID=Europe/Berlin:20261030T124000
UID:26-S23182-20261030T114000@BFODÜREN
SUMMARY:fitdankbaby RÜCKBILDUNG (26-S23182) 
LOCATION:BFO, Raum 3, Holzstraße 50, 52349 Düren
END:VEVENT
BEGIN:VEVENT
DTSTAMP:20260424T201532
DTSTART;TZID=Europe/Berlin:20261106T114000
DTEND;TZID=Europe/Berlin:20261106T124000
UID:26-S23182-20261106T114000@BFODÜREN
SUMMARY:fitdankbaby RÜCKBILDUNG (26-S23182) 
LOCATION:BFO, Raum 3, Holzstraße 50, 52349 Düren
END:VEVENT
BEGIN:VEVENT
DTSTAMP:20260424T201532
DTSTART;TZID=Europe/Berlin:20261113T114000
DTEND;TZID=Europe/Berlin:20261113T124000
UID:26-S23182-20261113T114000@BFODÜREN
SUMMARY:fitdankbaby RÜCKBILDUNG (26-S23182) 
LOCATION:BFO, Raum 3, Holzstraße 50, 52349 Düren
END:VEVENT
BEGIN:VEVENT
DTSTAMP:20260424T201532
DTSTART;TZID=Europe/Berlin:20261120T114000
DTEND;TZID=Europe/Berlin:20261120T124000
UID:26-S23182-20261120T114000@BFODÜREN
SUMMARY:fitdankbaby RÜCKBILDUNG (26-S23182) 
LOCATION:BFO, Raum 3, Holzstraße 50, 52349 Düren
END:VEVENT
BEGIN:VEVENT
DTSTAMP:20260424T201532
DTSTART;TZID=Europe/Berlin:20261127T114000
DTEND;TZID=Europe/Berlin:20261127T124000
UID:26-S23182-20261127T114000@BFODÜREN
SUMMARY:fitdankbaby RÜCKBILDUNG (26-S23182) 
LOCATION:BFO, Raum 3, Holzstraße 50, 52349 Düren
END:VEVENT
END:VCALENDAR