BEGIN:VCALENDAR
VERSION:2.0
PRODID:https://www.kufer.de/kuferweb / DE
METHOD:PUBLISH
CALSCALE:GREGORIAN
X-WR-TIMEZONE:Europe/Berlin
BEGIN:VTIMEZONE
TZID:Europe/Berlin
X-LIC-LOCATION:Europe/Berlin
BEGIN:DAYLIGHT
TZOFFSETFROM:+0100
TZOFFSETTO:+0200
TZNAME:CEST
DTSTART:19700329T020000
RRULE:FREQ=YEARLY;INTERVAL=1;BYDAY=-1SU;BYMONTH=3
END:DAYLIGHT
BEGIN:STANDARD
TZOFFSETFROM:+0200
TZOFFSETTO:+0100
TZNAME:CET
DTSTART:19701025T030000
RRULE:FREQ=YEARLY;INTERVAL=1;BYDAY=-1SU;BYMONTH=10
END:STANDARD
END:VTIMEZONE
BEGIN:VEVENT
DTSTAMP:20260424T190230
DTSTART;TZID=Europe/Berlin:20261002T124500
DTEND;TZID=Europe/Berlin:20261002T134500
UID:26-S23186-20261002T124500@BFODÜREN
SUMMARY:fitdankbaby RÜCKBILDUNG (26-S23186) 
LOCATION:BFO, Raum 3, Holzstraße 50, 52349 Düren
END:VEVENT
BEGIN:VEVENT
DTSTAMP:20260424T190230
DTSTART;TZID=Europe/Berlin:20261009T124500
DTEND;TZID=Europe/Berlin:20261009T134500
UID:26-S23186-20261009T124500@BFODÜREN
SUMMARY:fitdankbaby RÜCKBILDUNG (26-S23186) 
LOCATION:BFO, Raum 3, Holzstraße 50, 52349 Düren
END:VEVENT
BEGIN:VEVENT
DTSTAMP:20260424T190230
DTSTART;TZID=Europe/Berlin:20261016T124500
DTEND;TZID=Europe/Berlin:20261016T134500
UID:26-S23186-20261016T124500@BFODÜREN
SUMMARY:fitdankbaby RÜCKBILDUNG (26-S23186) 
LOCATION:BFO, Raum 3, Holzstraße 50, 52349 Düren
END:VEVENT
BEGIN:VEVENT
DTSTAMP:20260424T190230
DTSTART;TZID=Europe/Berlin:20261030T124500
DTEND;TZID=Europe/Berlin:20261030T134500
UID:26-S23186-20261030T124500@BFODÜREN
SUMMARY:fitdankbaby RÜCKBILDUNG (26-S23186) 
LOCATION:BFO, Raum 3, Holzstraße 50, 52349 Düren
END:VEVENT
BEGIN:VEVENT
DTSTAMP:20260424T190230
DTSTART;TZID=Europe/Berlin:20261106T124500
DTEND;TZID=Europe/Berlin:20261106T134500
UID:26-S23186-20261106T124500@BFODÜREN
SUMMARY:fitdankbaby RÜCKBILDUNG (26-S23186) 
LOCATION:BFO, Raum 3, Holzstraße 50, 52349 Düren
END:VEVENT
BEGIN:VEVENT
DTSTAMP:20260424T190230
DTSTART;TZID=Europe/Berlin:20261113T124500
DTEND;TZID=Europe/Berlin:20261113T134500
UID:26-S23186-20261113T124500@BFODÜREN
SUMMARY:fitdankbaby RÜCKBILDUNG (26-S23186) 
LOCATION:BFO, Raum 3, Holzstraße 50, 52349 Düren
END:VEVENT
BEGIN:VEVENT
DTSTAMP:20260424T190230
DTSTART;TZID=Europe/Berlin:20261120T124500
DTEND;TZID=Europe/Berlin:20261120T134500
UID:26-S23186-20261120T124500@BFODÜREN
SUMMARY:fitdankbaby RÜCKBILDUNG (26-S23186) 
LOCATION:BFO, Raum 3, Holzstraße 50, 52349 Düren
END:VEVENT
BEGIN:VEVENT
DTSTAMP:20260424T190230
DTSTART;TZID=Europe/Berlin:20261127T124500
DTEND;TZID=Europe/Berlin:20261127T134500
UID:26-S23186-20261127T124500@BFODÜREN
SUMMARY:fitdankbaby RÜCKBILDUNG (26-S23186) 
LOCATION:BFO, Raum 3, Holzstraße 50, 52349 Düren
END:VEVENT
END:VCALENDAR