BEGIN:VCALENDAR
VERSION:2.0
PRODID:https://www.kufer.de/kuferweb / DE
METHOD:PUBLISH
CALSCALE:GREGORIAN
X-WR-TIMEZONE:Europe/Berlin
BEGIN:VTIMEZONE
TZID:Europe/Berlin
X-LIC-LOCATION:Europe/Berlin
BEGIN:DAYLIGHT
TZOFFSETFROM:+0100
TZOFFSETTO:+0200
TZNAME:CEST
DTSTART:19700329T020000
RRULE:FREQ=YEARLY;INTERVAL=1;BYDAY=-1SU;BYMONTH=3
END:DAYLIGHT
BEGIN:STANDARD
TZOFFSETFROM:+0200
TZOFFSETTO:+0100
TZNAME:CET
DTSTART:19701025T030000
RRULE:FREQ=YEARLY;INTERVAL=1;BYDAY=-1SU;BYMONTH=10
END:STANDARD
END:VTIMEZONE
BEGIN:VEVENT
DTSTAMP:20260424T214512
DTSTART;TZID=Europe/Berlin:20260717T114000
DTEND;TZID=Europe/Berlin:20260717T124000
UID:26-S23192-20260717T114000@BFODÜREN
SUMMARY:fitdankbaby RÜCKBILDUNG (26-S23192) 
LOCATION:BFO, Raum 3, Holzstraße 50, 52349 Düren
END:VEVENT
BEGIN:VEVENT
DTSTAMP:20260424T214512
DTSTART;TZID=Europe/Berlin:20260724T114000
DTEND;TZID=Europe/Berlin:20260724T124000
UID:26-S23192-20260724T114000@BFODÜREN
SUMMARY:fitdankbaby RÜCKBILDUNG (26-S23192) 
LOCATION:BFO, Raum 3, Holzstraße 50, 52349 Düren
END:VEVENT
BEGIN:VEVENT
DTSTAMP:20260424T214512
DTSTART;TZID=Europe/Berlin:20260821T114000
DTEND;TZID=Europe/Berlin:20260821T124000
UID:26-S23192-20260821T114000@BFODÜREN
SUMMARY:fitdankbaby RÜCKBILDUNG (26-S23192) 
LOCATION:BFO, Raum 3, Holzstraße 50, 52349 Düren
END:VEVENT
BEGIN:VEVENT
DTSTAMP:20260424T214512
DTSTART;TZID=Europe/Berlin:20260828T114000
DTEND;TZID=Europe/Berlin:20260828T124000
UID:26-S23192-20260828T114000@BFODÜREN
SUMMARY:fitdankbaby RÜCKBILDUNG (26-S23192) 
LOCATION:BFO, Raum 3, Holzstraße 50, 52349 Düren
END:VEVENT
BEGIN:VEVENT
DTSTAMP:20260424T214512
DTSTART;TZID=Europe/Berlin:20260904T114000
DTEND;TZID=Europe/Berlin:20260904T124000
UID:26-S23192-20260904T114000@BFODÜREN
SUMMARY:fitdankbaby RÜCKBILDUNG (26-S23192) 
LOCATION:BFO, Raum 3, Holzstraße 50, 52349 Düren
END:VEVENT
BEGIN:VEVENT
DTSTAMP:20260424T214512
DTSTART;TZID=Europe/Berlin:20260911T114000
DTEND;TZID=Europe/Berlin:20260911T124000
UID:26-S23192-20260911T114000@BFODÜREN
SUMMARY:fitdankbaby RÜCKBILDUNG (26-S23192) 
LOCATION:BFO, Raum 3, Holzstraße 50, 52349 Düren
END:VEVENT
BEGIN:VEVENT
DTSTAMP:20260424T214512
DTSTART;TZID=Europe/Berlin:20260918T114000
DTEND;TZID=Europe/Berlin:20260918T124000
UID:26-S23192-20260918T114000@BFODÜREN
SUMMARY:fitdankbaby RÜCKBILDUNG (26-S23192) 
LOCATION:BFO, Raum 3, Holzstraße 50, 52349 Düren
END:VEVENT
BEGIN:VEVENT
DTSTAMP:20260424T214512
DTSTART;TZID=Europe/Berlin:20260925T114000
DTEND;TZID=Europe/Berlin:20260925T124000
UID:26-S23192-20260925T114000@BFODÜREN
SUMMARY:fitdankbaby RÜCKBILDUNG (26-S23192) 
LOCATION:BFO, Raum 3, Holzstraße 50, 52349 Düren
END:VEVENT
END:VCALENDAR