BEGIN:VCALENDAR
VERSION:2.0
PRODID:https://www.kufer.de/kuferweb / DE
METHOD:PUBLISH
CALSCALE:GREGORIAN
X-WR-TIMEZONE:Europe/Berlin
BEGIN:VTIMEZONE
TZID:Europe/Berlin
X-LIC-LOCATION:Europe/Berlin
BEGIN:DAYLIGHT
TZOFFSETFROM:+0100
TZOFFSETTO:+0200
TZNAME:CEST
DTSTART:19700329T020000
RRULE:FREQ=YEARLY;INTERVAL=1;BYDAY=-1SU;BYMONTH=3
END:DAYLIGHT
BEGIN:STANDARD
TZOFFSETFROM:+0200
TZOFFSETTO:+0100
TZNAME:CET
DTSTART:19701025T030000
RRULE:FREQ=YEARLY;INTERVAL=1;BYDAY=-1SU;BYMONTH=10
END:STANDARD
END:VTIMEZONE
BEGIN:VEVENT
DTSTAMP:20260425T001911
DTSTART;TZID=Europe/Berlin:20260717T131500
DTEND;TZID=Europe/Berlin:20260717T141500
UID:26-S23196-20260717T131500@BFODÜREN
SUMMARY:fitdankbaby - Outdoor (26-S23196) 
LOCATION:BFO, Raum 3, Holzstraße 50, 52349 Düren
END:VEVENT
BEGIN:VEVENT
DTSTAMP:20260425T001911
DTSTART;TZID=Europe/Berlin:20260724T131500
DTEND;TZID=Europe/Berlin:20260724T141500
UID:26-S23196-20260724T131500@BFODÜREN
SUMMARY:fitdankbaby - Outdoor (26-S23196) 
LOCATION:BFO, Raum 3, Holzstraße 50, 52349 Düren
END:VEVENT
BEGIN:VEVENT
DTSTAMP:20260425T001911
DTSTART;TZID=Europe/Berlin:20260821T131500
DTEND;TZID=Europe/Berlin:20260821T141500
UID:26-S23196-20260821T131500@BFODÜREN
SUMMARY:fitdankbaby - Outdoor (26-S23196) 
LOCATION:BFO, Raum 3, Holzstraße 50, 52349 Düren
END:VEVENT
BEGIN:VEVENT
DTSTAMP:20260425T001911
DTSTART;TZID=Europe/Berlin:20260828T131500
DTEND;TZID=Europe/Berlin:20260828T141500
UID:26-S23196-20260828T131500@BFODÜREN
SUMMARY:fitdankbaby - Outdoor (26-S23196) 
LOCATION:BFO, Raum 3, Holzstraße 50, 52349 Düren
END:VEVENT
BEGIN:VEVENT
DTSTAMP:20260425T001911
DTSTART;TZID=Europe/Berlin:20260904T131500
DTEND;TZID=Europe/Berlin:20260904T141500
UID:26-S23196-20260904T131500@BFODÜREN
SUMMARY:fitdankbaby - Outdoor (26-S23196) 
LOCATION:BFO, Raum 3, Holzstraße 50, 52349 Düren
END:VEVENT
BEGIN:VEVENT
DTSTAMP:20260425T001911
DTSTART;TZID=Europe/Berlin:20260911T131500
DTEND;TZID=Europe/Berlin:20260911T141500
UID:26-S23196-20260911T131500@BFODÜREN
SUMMARY:fitdankbaby - Outdoor (26-S23196) 
LOCATION:BFO, Raum 3, Holzstraße 50, 52349 Düren
END:VEVENT
BEGIN:VEVENT
DTSTAMP:20260425T001911
DTSTART;TZID=Europe/Berlin:20260918T131500
DTEND;TZID=Europe/Berlin:20260918T141500
UID:26-S23196-20260918T131500@BFODÜREN
SUMMARY:fitdankbaby - Outdoor (26-S23196) 
LOCATION:BFO, Raum 3, Holzstraße 50, 52349 Düren
END:VEVENT
BEGIN:VEVENT
DTSTAMP:20260425T001911
DTSTART;TZID=Europe/Berlin:20260925T131500
DTEND;TZID=Europe/Berlin:20260925T141500
UID:26-S23196-20260925T131500@BFODÜREN
SUMMARY:fitdankbaby - Outdoor (26-S23196) 
LOCATION:BFO, Raum 3, Holzstraße 50, 52349 Düren
END:VEVENT
END:VCALENDAR