BEGIN:VCALENDAR
VERSION:2.0
PRODID:https://www.kufer.de/kuferweb / DE
METHOD:PUBLISH
CALSCALE:GREGORIAN
X-WR-TIMEZONE:Europe/Berlin
BEGIN:VTIMEZONE
TZID:Europe/Berlin
X-LIC-LOCATION:Europe/Berlin
BEGIN:DAYLIGHT
TZOFFSETFROM:+0100
TZOFFSETTO:+0200
TZNAME:CEST
DTSTART:19700329T020000
RRULE:FREQ=YEARLY;INTERVAL=1;BYDAY=-1SU;BYMONTH=3
END:DAYLIGHT
BEGIN:STANDARD
TZOFFSETFROM:+0200
TZOFFSETTO:+0100
TZNAME:CET
DTSTART:19701025T030000
RRULE:FREQ=YEARLY;INTERVAL=1;BYDAY=-1SU;BYMONTH=10
END:STANDARD
END:VTIMEZONE
BEGIN:VEVENT
DTSTAMP:20260424T230730
DTSTART;TZID=Europe/Berlin:20260819T130000
DTEND;TZID=Europe/Berlin:20260819T140000
UID:26-S23226-20260819T130000@BFODÜREN
SUMMARY:fitdankbaby RÜCKBILDUNG (26-S23226) 
LOCATION:BFO, Raum 5, Holzstraße 50, 52349 Düren
END:VEVENT
BEGIN:VEVENT
DTSTAMP:20260424T230730
DTSTART;TZID=Europe/Berlin:20260826T130000
DTEND;TZID=Europe/Berlin:20260826T140000
UID:26-S23226-20260826T130000@BFODÜREN
SUMMARY:fitdankbaby RÜCKBILDUNG (26-S23226) 
LOCATION:BFO, Raum 5, Holzstraße 50, 52349 Düren
END:VEVENT
BEGIN:VEVENT
DTSTAMP:20260424T230730
DTSTART;TZID=Europe/Berlin:20260902T130000
DTEND;TZID=Europe/Berlin:20260902T140000
UID:26-S23226-20260902T130000@BFODÜREN
SUMMARY:fitdankbaby RÜCKBILDUNG (26-S23226) 
LOCATION:BFO, Raum 5, Holzstraße 50, 52349 Düren
END:VEVENT
BEGIN:VEVENT
DTSTAMP:20260424T230730
DTSTART;TZID=Europe/Berlin:20260909T130000
DTEND;TZID=Europe/Berlin:20260909T140000
UID:26-S23226-20260909T130000@BFODÜREN
SUMMARY:fitdankbaby RÜCKBILDUNG (26-S23226) 
LOCATION:BFO, Raum 5, Holzstraße 50, 52349 Düren
END:VEVENT
BEGIN:VEVENT
DTSTAMP:20260424T230730
DTSTART;TZID=Europe/Berlin:20260916T130000
DTEND;TZID=Europe/Berlin:20260916T140000
UID:26-S23226-20260916T130000@BFODÜREN
SUMMARY:fitdankbaby RÜCKBILDUNG (26-S23226) 
LOCATION:BFO, Raum 5, Holzstraße 50, 52349 Düren
END:VEVENT
BEGIN:VEVENT
DTSTAMP:20260424T230730
DTSTART;TZID=Europe/Berlin:20260923T130000
DTEND;TZID=Europe/Berlin:20260923T140000
UID:26-S23226-20260923T130000@BFODÜREN
SUMMARY:fitdankbaby RÜCKBILDUNG (26-S23226) 
LOCATION:BFO, Raum 5, Holzstraße 50, 52349 Düren
END:VEVENT
BEGIN:VEVENT
DTSTAMP:20260424T230730
DTSTART;TZID=Europe/Berlin:20260930T130000
DTEND;TZID=Europe/Berlin:20260930T140000
UID:26-S23226-20260930T130000@BFODÜREN
SUMMARY:fitdankbaby RÜCKBILDUNG (26-S23226) 
LOCATION:BFO, Raum 5, Holzstraße 50, 52349 Düren
END:VEVENT
BEGIN:VEVENT
DTSTAMP:20260424T230730
DTSTART;TZID=Europe/Berlin:20261007T130000
DTEND;TZID=Europe/Berlin:20261007T140000
UID:26-S23226-20261007T130000@BFODÜREN
SUMMARY:fitdankbaby RÜCKBILDUNG (26-S23226) 
LOCATION:BFO, Raum 5, Holzstraße 50, 52349 Düren
END:VEVENT
END:VCALENDAR