BEGIN:VCALENDAR
VERSION:2.0
PRODID:https://www.kufer.de/kuferweb / DE
METHOD:PUBLISH
CALSCALE:GREGORIAN
X-WR-TIMEZONE:Europe/Berlin
BEGIN:VTIMEZONE
TZID:Europe/Berlin
X-LIC-LOCATION:Europe/Berlin
BEGIN:DAYLIGHT
TZOFFSETFROM:+0100
TZOFFSETTO:+0200
TZNAME:CEST
DTSTART:19700329T020000
RRULE:FREQ=YEARLY;INTERVAL=1;BYDAY=-1SU;BYMONTH=3
END:DAYLIGHT
BEGIN:STANDARD
TZOFFSETFROM:+0200
TZOFFSETTO:+0100
TZNAME:CET
DTSTART:19701025T030000
RRULE:FREQ=YEARLY;INTERVAL=1;BYDAY=-1SU;BYMONTH=10
END:STANDARD
END:VTIMEZONE
BEGIN:VEVENT
DTSTAMP:20260424T201608
DTSTART;TZID=Europe/Berlin:20260915T130000
DTEND;TZID=Europe/Berlin:20260915T140000
UID:26-S23246-20260915T130000@BFODÜREN
SUMMARY:fitdankbaby PRE (26-S23246) 
LOCATION:BFO, Raum 5, Holzstraße 50, 52349 Düren
END:VEVENT
BEGIN:VEVENT
DTSTAMP:20260424T201608
DTSTART;TZID=Europe/Berlin:20260922T130000
DTEND;TZID=Europe/Berlin:20260922T140000
UID:26-S23246-20260922T130000@BFODÜREN
SUMMARY:fitdankbaby PRE (26-S23246) 
LOCATION:BFO, Raum 5, Holzstraße 50, 52349 Düren
END:VEVENT
BEGIN:VEVENT
DTSTAMP:20260424T201608
DTSTART;TZID=Europe/Berlin:20260929T130000
DTEND;TZID=Europe/Berlin:20260929T140000
UID:26-S23246-20260929T130000@BFODÜREN
SUMMARY:fitdankbaby PRE (26-S23246) 
LOCATION:BFO, Raum 5, Holzstraße 50, 52349 Düren
END:VEVENT
BEGIN:VEVENT
DTSTAMP:20260424T201608
DTSTART;TZID=Europe/Berlin:20261006T130000
DTEND;TZID=Europe/Berlin:20261006T140000
UID:26-S23246-20261006T130000@BFODÜREN
SUMMARY:fitdankbaby PRE (26-S23246) 
LOCATION:BFO, Raum 5, Holzstraße 50, 52349 Düren
END:VEVENT
BEGIN:VEVENT
DTSTAMP:20260424T201608
DTSTART;TZID=Europe/Berlin:20261013T130000
DTEND;TZID=Europe/Berlin:20261013T140000
UID:26-S23246-20261013T130000@BFODÜREN
SUMMARY:fitdankbaby PRE (26-S23246) 
LOCATION:BFO, Raum 5, Holzstraße 50, 52349 Düren
END:VEVENT
BEGIN:VEVENT
DTSTAMP:20260424T201608
DTSTART;TZID=Europe/Berlin:20261027T130000
DTEND;TZID=Europe/Berlin:20261027T140000
UID:26-S23246-20261027T130000@BFODÜREN
SUMMARY:fitdankbaby PRE (26-S23246) 
LOCATION:BFO, Raum 5, Holzstraße 50, 52349 Düren
END:VEVENT
BEGIN:VEVENT
DTSTAMP:20260424T201608
DTSTART;TZID=Europe/Berlin:20261103T130000
DTEND;TZID=Europe/Berlin:20261103T140000
UID:26-S23246-20261103T130000@BFODÜREN
SUMMARY:fitdankbaby PRE (26-S23246) 
LOCATION:BFO, Raum 5, Holzstraße 50, 52349 Düren
END:VEVENT
BEGIN:VEVENT
DTSTAMP:20260424T201608
DTSTART;TZID=Europe/Berlin:20261110T130000
DTEND;TZID=Europe/Berlin:20261110T140000
UID:26-S23246-20261110T130000@BFODÜREN
SUMMARY:fitdankbaby PRE (26-S23246) 
LOCATION:BFO, Raum 5, Holzstraße 50, 52349 Düren
END:VEVENT
END:VCALENDAR