BEGIN:VCALENDAR
VERSION:2.0
PRODID:https://www.kufer.de/kuferweb / DE
METHOD:PUBLISH
CALSCALE:GREGORIAN
X-WR-TIMEZONE:Europe/Berlin
BEGIN:VTIMEZONE
TZID:Europe/Berlin
X-LIC-LOCATION:Europe/Berlin
BEGIN:DAYLIGHT
TZOFFSETFROM:+0100
TZOFFSETTO:+0200
TZNAME:CEST
DTSTART:19700329T020000
RRULE:FREQ=YEARLY;INTERVAL=1;BYDAY=-1SU;BYMONTH=3
END:DAYLIGHT
BEGIN:STANDARD
TZOFFSETFROM:+0200
TZOFFSETTO:+0100
TZNAME:CET
DTSTART:19701025T030000
RRULE:FREQ=YEARLY;INTERVAL=1;BYDAY=-1SU;BYMONTH=10
END:STANDARD
END:VTIMEZONE
BEGIN:VEVENT
DTSTAMP:20260424T190203
DTSTART;TZID=Europe/Berlin:20261117T130000
DTEND;TZID=Europe/Berlin:20261117T140000
UID:26-S23256-20261117T130000@BFODÜREN
SUMMARY:fitdankbaby PRE (26-S23256) 
LOCATION:BFO, Raum 5, Holzstraße 50, 52349 Düren
END:VEVENT
BEGIN:VEVENT
DTSTAMP:20260424T190203
DTSTART;TZID=Europe/Berlin:20261124T130000
DTEND;TZID=Europe/Berlin:20261124T140000
UID:26-S23256-20261124T130000@BFODÜREN
SUMMARY:fitdankbaby PRE (26-S23256) 
LOCATION:BFO, Raum 5, Holzstraße 50, 52349 Düren
END:VEVENT
BEGIN:VEVENT
DTSTAMP:20260424T190203
DTSTART;TZID=Europe/Berlin:20261201T130000
DTEND;TZID=Europe/Berlin:20261201T140000
UID:26-S23256-20261201T130000@BFODÜREN
SUMMARY:fitdankbaby PRE (26-S23256) 
LOCATION:BFO, Raum 5, Holzstraße 50, 52349 Düren
END:VEVENT
BEGIN:VEVENT
DTSTAMP:20260424T190203
DTSTART;TZID=Europe/Berlin:20261208T130000
DTEND;TZID=Europe/Berlin:20261208T140000
UID:26-S23256-20261208T130000@BFODÜREN
SUMMARY:fitdankbaby PRE (26-S23256) 
LOCATION:BFO, Raum 5, Holzstraße 50, 52349 Düren
END:VEVENT
BEGIN:VEVENT
DTSTAMP:20260424T190203
DTSTART;TZID=Europe/Berlin:20261215T130000
DTEND;TZID=Europe/Berlin:20261215T140000
UID:26-S23256-20261215T130000@BFODÜREN
SUMMARY:fitdankbaby PRE (26-S23256) 
LOCATION:BFO, Raum 5, Holzstraße 50, 52349 Düren
END:VEVENT
BEGIN:VEVENT
DTSTAMP:20260424T190203
DTSTART;TZID=Europe/Berlin:20261222T130000
DTEND;TZID=Europe/Berlin:20261222T140000
UID:26-S23256-20261222T130000@BFODÜREN
SUMMARY:fitdankbaby PRE (26-S23256) 
LOCATION:BFO, Raum 5, Holzstraße 50, 52349 Düren
END:VEVENT
BEGIN:VEVENT
DTSTAMP:20260424T190203
DTSTART;TZID=Europe/Berlin:20270112T130000
DTEND;TZID=Europe/Berlin:20270112T140000
UID:26-S23256-20270112T130000@BFODÜREN
SUMMARY:fitdankbaby PRE (26-S23256) 
LOCATION:BFO, Raum 5, Holzstraße 50, 52349 Düren
END:VEVENT
BEGIN:VEVENT
DTSTAMP:20260424T190203
DTSTART;TZID=Europe/Berlin:20270119T130000
DTEND;TZID=Europe/Berlin:20270119T140000
UID:26-S23256-20270119T130000@BFODÜREN
SUMMARY:fitdankbaby PRE (26-S23256) 
LOCATION:BFO, Raum 5, Holzstraße 50, 52349 Düren
END:VEVENT
END:VCALENDAR