BEGIN:VCALENDAR
VERSION:2.0
PRODID:https://www.kufer.de/kuferweb / DE
METHOD:PUBLISH
CALSCALE:GREGORIAN
X-WR-TIMEZONE:Europe/Berlin
BEGIN:VTIMEZONE
TZID:Europe/Berlin
X-LIC-LOCATION:Europe/Berlin
BEGIN:DAYLIGHT
TZOFFSETFROM:+0100
TZOFFSETTO:+0200
TZNAME:CEST
DTSTART:19700329T020000
RRULE:FREQ=YEARLY;INTERVAL=1;BYDAY=-1SU;BYMONTH=3
END:DAYLIGHT
BEGIN:STANDARD
TZOFFSETFROM:+0200
TZOFFSETTO:+0100
TZNAME:CET
DTSTART:19701025T030000
RRULE:FREQ=YEARLY;INTERVAL=1;BYDAY=-1SU;BYMONTH=10
END:STANDARD
END:VTIMEZONE
BEGIN:VEVENT
DTSTAMP:20260425T001914
DTSTART;TZID=Europe/Berlin:20260903T174500
DTEND;TZID=Europe/Berlin:20260903T183000
UID:26-S23262-20260903T174500@BFODÜREN
SUMMARY:Kleinkinderschwimmen für 1 bis 2-jährige Kinder (26-S23262) 
LOCATION:Kita am Sonnenweg Düren-Rölsdorf, Sonnenweg 52c, 52355 Düren
END:VEVENT
BEGIN:VEVENT
DTSTAMP:20260425T001914
DTSTART;TZID=Europe/Berlin:20260910T174500
DTEND;TZID=Europe/Berlin:20260910T183000
UID:26-S23262-20260910T174500@BFODÜREN
SUMMARY:Kleinkinderschwimmen für 1 bis 2-jährige Kinder (26-S23262) 
LOCATION:Kita am Sonnenweg Düren-Rölsdorf, Sonnenweg 52c, 52355 Düren
END:VEVENT
BEGIN:VEVENT
DTSTAMP:20260425T001914
DTSTART;TZID=Europe/Berlin:20260917T174500
DTEND;TZID=Europe/Berlin:20260917T183000
UID:26-S23262-20260917T174500@BFODÜREN
SUMMARY:Kleinkinderschwimmen für 1 bis 2-jährige Kinder (26-S23262) 
LOCATION:Kita am Sonnenweg Düren-Rölsdorf, Sonnenweg 52c, 52355 Düren
END:VEVENT
BEGIN:VEVENT
DTSTAMP:20260425T001914
DTSTART;TZID=Europe/Berlin:20260924T174500
DTEND;TZID=Europe/Berlin:20260924T183000
UID:26-S23262-20260924T174500@BFODÜREN
SUMMARY:Kleinkinderschwimmen für 1 bis 2-jährige Kinder (26-S23262) 
LOCATION:Kita am Sonnenweg Düren-Rölsdorf, Sonnenweg 52c, 52355 Düren
END:VEVENT
BEGIN:VEVENT
DTSTAMP:20260425T001914
DTSTART;TZID=Europe/Berlin:20261001T174500
DTEND;TZID=Europe/Berlin:20261001T183000
UID:26-S23262-20261001T174500@BFODÜREN
SUMMARY:Kleinkinderschwimmen für 1 bis 2-jährige Kinder (26-S23262) 
LOCATION:Kita am Sonnenweg Düren-Rölsdorf, Sonnenweg 52c, 52355 Düren
END:VEVENT
BEGIN:VEVENT
DTSTAMP:20260425T001914
DTSTART;TZID=Europe/Berlin:20261008T174500
DTEND;TZID=Europe/Berlin:20261008T183000
UID:26-S23262-20261008T174500@BFODÜREN
SUMMARY:Kleinkinderschwimmen für 1 bis 2-jährige Kinder (26-S23262) 
LOCATION:Kita am Sonnenweg Düren-Rölsdorf, Sonnenweg 52c, 52355 Düren
END:VEVENT
BEGIN:VEVENT
DTSTAMP:20260425T001914
DTSTART;TZID=Europe/Berlin:20261015T174500
DTEND;TZID=Europe/Berlin:20261015T183000
UID:26-S23262-20261015T174500@BFODÜREN
SUMMARY:Kleinkinderschwimmen für 1 bis 2-jährige Kinder (26-S23262) 
LOCATION:Kita am Sonnenweg Düren-Rölsdorf, Sonnenweg 52c, 52355 Düren
END:VEVENT
BEGIN:VEVENT
DTSTAMP:20260425T001914
DTSTART;TZID=Europe/Berlin:20261105T174500
DTEND;TZID=Europe/Berlin:20261105T183000
UID:26-S23262-20261105T174500@BFODÜREN
SUMMARY:Kleinkinderschwimmen für 1 bis 2-jährige Kinder (26-S23262) 
LOCATION:Kita am Sonnenweg Düren-Rölsdorf, Sonnenweg 52c, 52355 Düren
END:VEVENT
END:VCALENDAR