BEGIN:VCALENDAR
VERSION:2.0
PRODID:https://www.kufer.de/kuferweb / DE
METHOD:PUBLISH
CALSCALE:GREGORIAN
X-WR-TIMEZONE:Europe/Berlin
BEGIN:VTIMEZONE
TZID:Europe/Berlin
X-LIC-LOCATION:Europe/Berlin
BEGIN:DAYLIGHT
TZOFFSETFROM:+0100
TZOFFSETTO:+0200
TZNAME:CEST
DTSTART:19700329T020000
RRULE:FREQ=YEARLY;INTERVAL=1;BYDAY=-1SU;BYMONTH=3
END:DAYLIGHT
BEGIN:STANDARD
TZOFFSETFROM:+0200
TZOFFSETTO:+0100
TZNAME:CET
DTSTART:19701025T030000
RRULE:FREQ=YEARLY;INTERVAL=1;BYDAY=-1SU;BYMONTH=10
END:STANDARD
END:VTIMEZONE
BEGIN:VEVENT
DTSTAMP:20260424T201605
DTSTART;TZID=Europe/Berlin:20261204T124500
DTEND;TZID=Europe/Berlin:20261204T134500
UID:26-S23276-20261204T124500@BFODÜREN
SUMMARY:fitdankbaby RÜCKBILDUNG (26-S23276) 
LOCATION:BFO, Raum 3, Holzstraße 50, 52349 Düren
END:VEVENT
BEGIN:VEVENT
DTSTAMP:20260424T201605
DTSTART;TZID=Europe/Berlin:20261211T124500
DTEND;TZID=Europe/Berlin:20261211T134500
UID:26-S23276-20261211T124500@BFODÜREN
SUMMARY:fitdankbaby RÜCKBILDUNG (26-S23276) 
LOCATION:BFO, Raum 3, Holzstraße 50, 52349 Düren
END:VEVENT
BEGIN:VEVENT
DTSTAMP:20260424T201605
DTSTART;TZID=Europe/Berlin:20261218T124500
DTEND;TZID=Europe/Berlin:20261218T134500
UID:26-S23276-20261218T124500@BFODÜREN
SUMMARY:fitdankbaby RÜCKBILDUNG (26-S23276) 
LOCATION:BFO, Raum 3, Holzstraße 50, 52349 Düren
END:VEVENT
BEGIN:VEVENT
DTSTAMP:20260424T201605
DTSTART;TZID=Europe/Berlin:20270108T124500
DTEND;TZID=Europe/Berlin:20270108T134500
UID:26-S23276-20270108T124500@BFODÜREN
SUMMARY:fitdankbaby RÜCKBILDUNG (26-S23276) 
LOCATION:BFO, Raum 3, Holzstraße 50, 52349 Düren
END:VEVENT
BEGIN:VEVENT
DTSTAMP:20260424T201605
DTSTART;TZID=Europe/Berlin:20270115T124500
DTEND;TZID=Europe/Berlin:20270115T134500
UID:26-S23276-20270115T124500@BFODÜREN
SUMMARY:fitdankbaby RÜCKBILDUNG (26-S23276) 
LOCATION:BFO, Raum 3, Holzstraße 50, 52349 Düren
END:VEVENT
BEGIN:VEVENT
DTSTAMP:20260424T201605
DTSTART;TZID=Europe/Berlin:20270122T124500
DTEND;TZID=Europe/Berlin:20270122T134500
UID:26-S23276-20270122T124500@BFODÜREN
SUMMARY:fitdankbaby RÜCKBILDUNG (26-S23276) 
LOCATION:BFO, Raum 3, Holzstraße 50, 52349 Düren
END:VEVENT
BEGIN:VEVENT
DTSTAMP:20260424T201605
DTSTART;TZID=Europe/Berlin:20270129T124500
DTEND;TZID=Europe/Berlin:20270129T134500
UID:26-S23276-20270129T124500@BFODÜREN
SUMMARY:fitdankbaby RÜCKBILDUNG (26-S23276) 
LOCATION:BFO, Raum 3, Holzstraße 50, 52349 Düren
END:VEVENT
BEGIN:VEVENT
DTSTAMP:20260424T201605
DTSTART;TZID=Europe/Berlin:20270205T124500
DTEND;TZID=Europe/Berlin:20270205T134500
UID:26-S23276-20270205T124500@BFODÜREN
SUMMARY:fitdankbaby RÜCKBILDUNG (26-S23276) 
LOCATION:BFO, Raum 3, Holzstraße 50, 52349 Düren
END:VEVENT
END:VCALENDAR